BEGIN:VCALENDAR
VERSION:2.0
PRODID:-//Kommunale Koordinierung - ECPv6.15.20//NONSGML v1.0//EN
CALSCALE:GREGORIAN
METHOD:PUBLISH
X-ORIGINAL-URL:https://www.kommunale-koordinierung.com
X-WR-CALDESC:Veranstaltungen für Kommunale Koordinierung
REFRESH-INTERVAL;VALUE=DURATION:PT1H
X-Robots-Tag:noindex
X-PUBLISHED-TTL:PT1H
BEGIN:VTIMEZONE
TZID:Europe/Berlin
BEGIN:DAYLIGHT
TZOFFSETFROM:+0100
TZOFFSETTO:+0200
TZNAME:CEST
DTSTART:20230326T010000
END:DAYLIGHT
BEGIN:STANDARD
TZOFFSETFROM:+0200
TZOFFSETTO:+0100
TZNAME:CET
DTSTART:20231029T010000
END:STANDARD
BEGIN:DAYLIGHT
TZOFFSETFROM:+0100
TZOFFSETTO:+0200
TZNAME:CEST
DTSTART:20240331T010000
END:DAYLIGHT
BEGIN:STANDARD
TZOFFSETFROM:+0200
TZOFFSETTO:+0100
TZNAME:CET
DTSTART:20241027T010000
END:STANDARD
BEGIN:DAYLIGHT
TZOFFSETFROM:+0100
TZOFFSETTO:+0200
TZNAME:CEST
DTSTART:20250330T010000
END:DAYLIGHT
BEGIN:STANDARD
TZOFFSETFROM:+0200
TZOFFSETTO:+0100
TZNAME:CET
DTSTART:20251026T010000
END:STANDARD
END:VTIMEZONE
BEGIN:VEVENT
DTSTART;TZID=Europe/Berlin:20240621T160000
DTEND;TZID=Europe/Berlin:20240621T190000
DTSTAMP:20260422T064417
CREATED:20240604T073353Z
LAST-MODIFIED:20250813T093550Z
UID:48349-1718985600-1718996400@www.kommunale-koordinierung.com
SUMMARY:Online-Info-Veranstaltung: „Studieren mit einer (nicht-)sichtbaren Behinderung / chronischen Erkrankung
DESCRIPTION:Die Veranstaltung richtet sich insbesondere an Schüler*innen sowie Studierende mit (nicht-)sichtbaren Behinderungen / chronischen Erkrankungen\, z.B. mit Mobilitätseinschränkungen\, Seh- oder Hörbehinderungen\, Diabetes\, Epilepsie\, einer Autismus-Spektrum-Störung oder psychischen Erkrankung sowie Familienangehörige und all jene\, denen dieses Thema im Beruf begegnet. \nThemen sind u.a.: Nachteilsausgleiche bei der Bewerbung / Zulassung (z.B. Härtefallantrag) und während des Studiums (z.B. Schreibzeitverlängerung bei Prüfungen)\, Unterstützungsmöglichkeiten (z.B. Studienassistenz) und Outen bzw. Umgang mit einer nicht-sichtbaren Behinderung / chronischen Erkrankung. \nAllgemeine Infos: \nWann? Freitag\, der 21. Juni 2024\, von 16:00 bis 19:00 Uhr.\nWie? Online – über das Tool Zoom\nVeranstalter: kompetenzzentrum nrw (kombabb) in Kooperation mit dem Beratungszentrum zur Inklusion Behinderter (BZI) des AKAFÖ Bochum \nDie Teilnahme ist kostenlos. Eine vorherige Anmeldung ist erforderlich per Mail an: kontakt@kombabb.de \nWichtiger Hinweis zur Barrierefreiheit:\nDie Veranstaltung wird begleitet von Schriftdolmetschung. Falls Gebärdensprachdolmetscher*innen benötigt wird\, so bitten wir (dringend) um Rückmeldung bis spätestens Montag\, den 17. 06.2024\, um 12 Uhr. \nWeitere Infos finden Sie hier.
URL:https://www.kommunale-koordinierung.com/event/online-info-veranstaltung-studieren-mit-einer-nicht-sichtbaren-behinderung-chronischen-erkrankung/
LOCATION:Online
CATEGORIES:BO mit Förderbedarf,Eltern & Teens,Mit Anmeldung
END:VEVENT
END:VCALENDAR