BEGIN:VCALENDAR
VERSION:2.0
PRODID:-//Kommunale Koordinierung - ECPv6.15.20//NONSGML v1.0//EN
CALSCALE:GREGORIAN
METHOD:PUBLISH
X-WR-CALNAME:Kommunale Koordinierung
X-ORIGINAL-URL:https://www.kommunale-koordinierung.com
X-WR-CALDESC:Veranstaltungen für Kommunale Koordinierung
REFRESH-INTERVAL;VALUE=DURATION:PT1H
X-Robots-Tag:noindex
X-PUBLISHED-TTL:PT1H
BEGIN:VTIMEZONE
TZID:Europe/Berlin
BEGIN:DAYLIGHT
TZOFFSETFROM:+0100
TZOFFSETTO:+0200
TZNAME:CEST
DTSTART:20230326T010000
END:DAYLIGHT
BEGIN:STANDARD
TZOFFSETFROM:+0200
TZOFFSETTO:+0100
TZNAME:CET
DTSTART:20231029T010000
END:STANDARD
BEGIN:DAYLIGHT
TZOFFSETFROM:+0100
TZOFFSETTO:+0200
TZNAME:CEST
DTSTART:20240331T010000
END:DAYLIGHT
BEGIN:STANDARD
TZOFFSETFROM:+0200
TZOFFSETTO:+0100
TZNAME:CET
DTSTART:20241027T010000
END:STANDARD
BEGIN:DAYLIGHT
TZOFFSETFROM:+0100
TZOFFSETTO:+0200
TZNAME:CEST
DTSTART:20250330T010000
END:DAYLIGHT
BEGIN:STANDARD
TZOFFSETFROM:+0200
TZOFFSETTO:+0100
TZNAME:CET
DTSTART:20251026T010000
END:STANDARD
END:VTIMEZONE
BEGIN:VEVENT
DTSTART;TZID=Europe/Berlin:20240603T100000
DTEND;TZID=Europe/Berlin:20240603T113000
DTSTAMP:20260422T064327
CREATED:20240424T113425Z
LAST-MODIFIED:20240424T114025Z
UID:48113-1717408800-1717414200@www.kommunale-koordinierung.com
SUMMARY:Informationsveranstaltung zur 3. BIWENAV-Erweiterungsrunde
DESCRIPTION:Ab Juli 2024 ist eine dritte Erweiterungsrunde zum Bildungswegenavigator BIWENAV (www.biwenav.de) geplant. \nDie Info-Veranstaltung richtet sich an Kommunale Koordinierungsstellen in NRW\, die sich für den BIWENAV interessieren und überlegen\, ob der BIWENAV auch für ihre Stadt/ihren Kreis interessant sein könnte. \nInhalte der Veranstaltung: \n\nInhalte und Funktionen im BIWENAV\nArbeitsaufwand und Kosten\nErfahrungen der Kommunen aus der ersten und zweiten Erweiterungsrunde\n\nZudem ist genügend Zeit\, eigene Fragen zu stellen. \nDie Veranstaltung wird moderiert vom BIWENAV-Team Düsseldorf\, zusammen mit dem Programmierer des BIWENAVs und KoKos aus der ersten und zweiten Erweiterungsrunde. \nSie findet online über Microsoft Teams statt. Die Zugangsdaten erhalten Sie mit der Anmeldung zu der Veranstaltung. \nBitte melden Sie sich hier zu der Veranstaltung an: \n\n \n\n\n\nVorname *\n\n\nNachname *\n\n\n\n\nInstitution *\n\n\n\n\nE-Mail Adresse *\n\n\n\n\nFragen\, Wünsche an die Veranstaltung (optional)\n\n\n\n\nDSGVO *Ja\, ich bin mit den Datenschutzbestimmungen einverstanden.\n\n\n \n\n\nNachricht senden
URL:https://www.kommunale-koordinierung.com/event/info-veranstaltung-biwenav-erweiterungsrunde-3/
LOCATION:Online
CATEGORIES:Ausbildung,Berufliche Orientierung,Kommunale Koordinierungsstellen,Studienorientierung
ATTACH;FMTTYPE=image/jpeg:https://www.kommunale-koordinierung.com/wp-content/uploads/2021/01/logo-biwenav.jpg
END:VEVENT
END:VCALENDAR