BEGIN:VCALENDAR
VERSION:2.0
PRODID:-//Kommunale Koordinierung - ECPv6.15.20//NONSGML v1.0//EN
CALSCALE:GREGORIAN
METHOD:PUBLISH
X-ORIGINAL-URL:https://www.kommunale-koordinierung.com
X-WR-CALDESC:Veranstaltungen für Kommunale Koordinierung
REFRESH-INTERVAL;VALUE=DURATION:PT1H
X-Robots-Tag:noindex
X-PUBLISHED-TTL:PT1H
BEGIN:VTIMEZONE
TZID:Europe/Berlin
BEGIN:DAYLIGHT
TZOFFSETFROM:+0100
TZOFFSETTO:+0200
TZNAME:CEST
DTSTART:20230326T010000
END:DAYLIGHT
BEGIN:STANDARD
TZOFFSETFROM:+0200
TZOFFSETTO:+0100
TZNAME:CET
DTSTART:20231029T010000
END:STANDARD
BEGIN:DAYLIGHT
TZOFFSETFROM:+0100
TZOFFSETTO:+0200
TZNAME:CEST
DTSTART:20240331T010000
END:DAYLIGHT
BEGIN:STANDARD
TZOFFSETFROM:+0200
TZOFFSETTO:+0100
TZNAME:CET
DTSTART:20241027T010000
END:STANDARD
BEGIN:DAYLIGHT
TZOFFSETFROM:+0100
TZOFFSETTO:+0200
TZNAME:CEST
DTSTART:20250330T010000
END:DAYLIGHT
BEGIN:STANDARD
TZOFFSETFROM:+0200
TZOFFSETTO:+0100
TZNAME:CET
DTSTART:20251026T010000
END:STANDARD
END:VTIMEZONE
BEGIN:VEVENT
DTSTART;TZID=Europe/Berlin:20240524T143000
DTEND;TZID=Europe/Berlin:20240524T180000
DTSTAMP:20260422T083745
CREATED:20240514T063734Z
LAST-MODIFIED:20240514T063925Z
UID:48268-1716561000-1716573600@www.kommunale-koordinierung.com
SUMMARY:Perspektiventag 2024 - Jobmesse der Diakonie Düsseldorf
DESCRIPTION:Möchtest du mehr über das Jobangebot der Diakonie Düsseldorf erfahren? Dann komm am Freitag\, den 24. Mail 2024\, zum Perspektiventag! Dort erhältst du Einblicke in die vielfältige soziale Arbeit\, Möglichkeiten zu persönlichen Gesprächen\, Job-Speed-Datings und vieles mehr. Der Ausklang erfolgt bei einem gemeinsamen Barbecue. \nWann? Freitag\, 24. Mai 2024\, von 14.30 bis 18 Uhr\nWo? Platz der Diakonie\, Düsseldorf-Flingern \nDer Eintritt ist frei\, eine Anmeldung ist nicht erforderlich. \nDas Programm und viele weitere Infos findest du hier.
URL:https://www.kommunale-koordinierung.com/event/perspektiventag-2024-jobmesse-der-diakonie-duesseldorf/
LOCATION:Platz der Diakonie\, Platz der Diakonie\, Düsseldorf\, 40233
CATEGORIES:Ausbildung,Berufliche Orientierung,Eltern & Teens
END:VEVENT
END:VCALENDAR