BEGIN:VCALENDAR
VERSION:2.0
PRODID:-//Kommunale Koordinierung - ECPv6.15.20//NONSGML v1.0//EN
CALSCALE:GREGORIAN
METHOD:PUBLISH
X-WR-CALNAME:Kommunale Koordinierung
X-ORIGINAL-URL:https://www.kommunale-koordinierung.com
X-WR-CALDESC:Veranstaltungen für Kommunale Koordinierung
REFRESH-INTERVAL;VALUE=DURATION:PT1H
X-Robots-Tag:noindex
X-PUBLISHED-TTL:PT1H
BEGIN:VTIMEZONE
TZID:Europe/Berlin
BEGIN:DAYLIGHT
TZOFFSETFROM:+0100
TZOFFSETTO:+0200
TZNAME:CEST
DTSTART:20230326T010000
END:DAYLIGHT
BEGIN:STANDARD
TZOFFSETFROM:+0200
TZOFFSETTO:+0100
TZNAME:CET
DTSTART:20231029T010000
END:STANDARD
BEGIN:DAYLIGHT
TZOFFSETFROM:+0100
TZOFFSETTO:+0200
TZNAME:CEST
DTSTART:20240331T010000
END:DAYLIGHT
BEGIN:STANDARD
TZOFFSETFROM:+0200
TZOFFSETTO:+0100
TZNAME:CET
DTSTART:20241027T010000
END:STANDARD
BEGIN:DAYLIGHT
TZOFFSETFROM:+0100
TZOFFSETTO:+0200
TZNAME:CEST
DTSTART:20250330T010000
END:DAYLIGHT
BEGIN:STANDARD
TZOFFSETFROM:+0200
TZOFFSETTO:+0100
TZNAME:CET
DTSTART:20251026T010000
END:STANDARD
END:VTIMEZONE
BEGIN:VEVENT
DTSTART;TZID=Europe/Berlin:20240321T120000
DTEND;TZID=Europe/Berlin:20240321T160000
DTSTAMP:20260422T114019
CREATED:20240119T103357Z
LAST-MODIFIED:20240119T103357Z
UID:47699-1711022400-1711036800@www.kommunale-koordinierung.com
SUMMARY:Azubi-Speed-Dating der IHK 21.03.
DESCRIPTION:Bei den Azubi-Speed-Datings stellen sich Jugendliche in zehn Minuten bei einem Unternehmen ihrer Wahl vor und präsentieren ihre Stärken. Der persönliche Eindruck zählt mehr als Noten und Abschlüsse. So überzeugen sie den Ausbilder oder Personaler beim Azubi-Speed-Dating von ihrer Eignung. \nWenn es gut läuft\, kommt es zum „Recall“ und der Jugendliche wird zu einem Bewerbungsgespräch oder Test ins Unternehmen eingeladen und unterschreibt im besten Fall nur wenige Tage oder Wochen nach dem Azubi-Speed-Dating einen Ausbildungsvertrag. \nWeitere Informationen gibt es hier.
URL:https://www.kommunale-koordinierung.com/event/azubi-speed-dating-der-ihk-21-03/
LOCATION:Stadthalle Hilden\, Fritz-Gressard-Platz 1\, Hilden\, 40721\, Deutschland
CATEGORIES:Ausbildung,Berufliche Orientierung,Eltern & Teens,Geflüchtete,Schulen,Studienorientierung
END:VEVENT
END:VCALENDAR