BEGIN:VCALENDAR
VERSION:2.0
PRODID:-//Kommunale Koordinierung - ECPv6.15.20//NONSGML v1.0//EN
CALSCALE:GREGORIAN
METHOD:PUBLISH
X-ORIGINAL-URL:https://www.kommunale-koordinierung.com
X-WR-CALDESC:Veranstaltungen für Kommunale Koordinierung
REFRESH-INTERVAL;VALUE=DURATION:PT1H
X-Robots-Tag:noindex
X-PUBLISHED-TTL:PT1H
BEGIN:VTIMEZONE
TZID:Europe/Berlin
BEGIN:DAYLIGHT
TZOFFSETFROM:+0100
TZOFFSETTO:+0200
TZNAME:CEST
DTSTART:20230326T010000
END:DAYLIGHT
BEGIN:STANDARD
TZOFFSETFROM:+0200
TZOFFSETTO:+0100
TZNAME:CET
DTSTART:20231029T010000
END:STANDARD
BEGIN:DAYLIGHT
TZOFFSETFROM:+0100
TZOFFSETTO:+0200
TZNAME:CEST
DTSTART:20240331T010000
END:DAYLIGHT
BEGIN:STANDARD
TZOFFSETFROM:+0200
TZOFFSETTO:+0100
TZNAME:CET
DTSTART:20241027T010000
END:STANDARD
BEGIN:DAYLIGHT
TZOFFSETFROM:+0100
TZOFFSETTO:+0200
TZNAME:CEST
DTSTART:20250330T010000
END:DAYLIGHT
BEGIN:STANDARD
TZOFFSETFROM:+0200
TZOFFSETTO:+0100
TZNAME:CET
DTSTART:20251026T010000
END:STANDARD
END:VTIMEZONE
BEGIN:VEVENT
DTSTART;VALUE=DATE:20240311
DTEND;VALUE=DATE:20240318
DTSTAMP:20260422T114333
CREATED:20240220T094614Z
LAST-MODIFIED:20241206T085338Z
UID:47848-1710115200-1710719999@www.kommunale-koordinierung.com
SUMMARY:Woche der Ausbildung - entdecke deine Möglichkeiten!
DESCRIPTION:Komm zur Woche der Ausbildung und entdecke deine Möglichkeiten. Ob interaktiv im Netz oder direkt vor Ort bei unseren Veranstaltungen vom 11.– 17. März 2024 erfährst du alles zu deinem Start ins Berufsleben. \nMelde dich jetzt an und sei eine/r der Ersten\, der/die Gespräche mit Top-Unternehmen in deiner Region führen kann. \nWeitere Informationen:\nFlyer
URL:https://www.kommunale-koordinierung.com/event/woche-der-ausbildung-entdecke-deine-moeglichkeiten/
LOCATION:B.i.Z.\, Agentur für Arbeit Düsseldorf\, Grafenberger Allee 300\, Düsseldorf\, 40237\, Deutschland
CATEGORIES:Ausbildung,Berufliche Orientierung,BO mit Förderbedarf,Eltern & Teens,Lehrkräfte,Unternehmen
END:VEVENT
BEGIN:VEVENT
DTSTART;TZID=Europe/Berlin:20240313T170000
DTEND;TZID=Europe/Berlin:20240313T190000
DTSTAMP:20260422T114333
CREATED:20240220T151327Z
LAST-MODIFIED:20240220T151641Z
UID:47851-1710349200-1710356400@www.kommunale-koordinierung.com
SUMMARY:Digitaler Elternabend: Wie kann ich mein Kind bei der Berufs- und Studienfindung unterstützen?
DESCRIPTION:In der digitalen Veranstaltung der Agentur für Arbeit erhalten Sie einen Überblick zum Prozess der Berufs- und Studienfindung von Jugendlichen sowie die Bedeutung der Eltern als wichtigste Ansprechpartner in der Berufswahl. Folgende Themen werden behandelt: \n1. Wie kann ich die Berufswahl meines Kinders unterstützen? Was ist wichtiger: Solide Perspektive oder Selbstverwirklichung? Wie beeinflussen technische Entwicklungen wie KI die Chancen meines Kindes?\n2. Rund ums (Vollzeit-)Studium: Welche Studienfächer gibt es? Und was soll mein Kind mitbringen? Welche Studienabschlüsse gibt es und wie geht es dann weiter? Wer soll das bezahlen?\n3. Duales Studium und Ausbildung: Was sind Vor- und Nachteile eines dualem Studiums? Was spricht für eine berufliche Ausbildung\, wenn man auch studieren könnte? Wie kann man bei der BA ein Duales Studium beginnen?\n4. Überbrückungsmöglichkeiten im In- und Ausland: Erst mal chillen? Was gibt´s für Alternativen? \nDie Veranstaltung wird über MS Teams stattfinden. Gerne können Sie Ihre eigenen Fragen mit einbringen. \nWeitere Infos finden Sie hier.
URL:https://www.kommunale-koordinierung.com/event/digitaler-elternabend-wie-kann-ich-mein-kind-bei-der-berufs-und-studienfindung-unterstuetzen/
LOCATION:Online
CATEGORIES:Berufliche Orientierung,Eltern & Teens,Studienorientierung
END:VEVENT
END:VCALENDAR