BEGIN:VCALENDAR
VERSION:2.0
PRODID:-//Kommunale Koordinierung - ECPv6.15.20//NONSGML v1.0//EN
CALSCALE:GREGORIAN
METHOD:PUBLISH
X-WR-CALNAME:Kommunale Koordinierung
X-ORIGINAL-URL:https://www.kommunale-koordinierung.com
X-WR-CALDESC:Veranstaltungen für Kommunale Koordinierung
REFRESH-INTERVAL;VALUE=DURATION:PT1H
X-Robots-Tag:noindex
X-PUBLISHED-TTL:PT1H
BEGIN:VTIMEZONE
TZID:Europe/Berlin
BEGIN:DAYLIGHT
TZOFFSETFROM:+0100
TZOFFSETTO:+0200
TZNAME:CEST
DTSTART:20230326T010000
END:DAYLIGHT
BEGIN:STANDARD
TZOFFSETFROM:+0200
TZOFFSETTO:+0100
TZNAME:CET
DTSTART:20231029T010000
END:STANDARD
BEGIN:DAYLIGHT
TZOFFSETFROM:+0100
TZOFFSETTO:+0200
TZNAME:CEST
DTSTART:20240331T010000
END:DAYLIGHT
BEGIN:STANDARD
TZOFFSETFROM:+0200
TZOFFSETTO:+0100
TZNAME:CET
DTSTART:20241027T010000
END:STANDARD
BEGIN:DAYLIGHT
TZOFFSETFROM:+0100
TZOFFSETTO:+0200
TZNAME:CEST
DTSTART:20250330T010000
END:DAYLIGHT
BEGIN:STANDARD
TZOFFSETFROM:+0200
TZOFFSETTO:+0100
TZNAME:CET
DTSTART:20251026T010000
END:STANDARD
END:VTIMEZONE
BEGIN:VEVENT
DTSTART;TZID=Europe/Berlin:20240304T170000
DTEND;TZID=Europe/Berlin:20240308T210000
DTSTAMP:20260422T130423
CREATED:20240214T110304Z
LAST-MODIFIED:20240214T110352Z
UID:47839-1709571600-1709931600@www.kommunale-koordinierung.com
SUMMARY:Woche der digitalen Elternabende der Agentur für Arbeit
DESCRIPTION:Ihr Kind steht kurz vor dem Abschluss und die Suche nach dem passenden dualen Studium oder Ausbildungsplatz steht noch an? \nDie Bundesagentur für Arbeit veranstaltet vom 4. bis 8. März 2024 zum dritten Mal eine Woche der digitalen Elternabende. Hier wird Ihnen als Eltern und Ihren Kindern die Möglichkeit geboten\, verschiedene Unternehmen mit deren Ausbildungsmöglichkeiten in einer kompakten Stunde hautnah kennenzulernen. Jeden Abend präsentieren sich verschiedene Unternehmen aus unterschiedlichen Branchen. \nSie erhalten Einblicke in: \n\ndie Rahmenbedingungen der Ausbildung / des dualen Studiums.\ndie Unternehmenskultur und Möglichkeiten für Nachwuchskräfte nach einer erfolgreichen Ausbildung / einem erfolgreichen dualen Studium im Unternehmen.\nBerichte von Azubis und dual Studierenden\, wie sie es geschafft haben\, das Bewerbungsverfahren zu bestehen und wie es ihnen während der Ausbildung/ des dualen Studiums ergeht.\n\nLernen Sie jetzt die vielfältigen Ausbildungsmöglichkeiten kennen und kommen Sie mit den Unternehmen ins Gespräch! \nWeitere Infos unter:\nwww.arbeitsagentur.de/k/digitale-elternabende
URL:https://www.kommunale-koordinierung.com/event/woche-der-digitalen-elternabende-der-agentur-fuer-arbeit/
LOCATION:Online
CATEGORIES:Ausbildung,Berufliche Orientierung,Eltern & Teens
END:VEVENT
BEGIN:VEVENT
DTSTART;TZID=Europe/Berlin:20240307T090000
DTEND;TZID=Europe/Berlin:20240307T160000
DTSTAMP:20260422T130423
CREATED:20230913T143058Z
LAST-MODIFIED:20230913T143152Z
UID:46632-1709802000-1709827200@www.kommunale-koordinierung.com
SUMMARY:Ausbildungs-Sprechstunde der IHK
DESCRIPTION:Du möchtest eine Ausbildung machen und brauchst Unterstützung? Dann ruf uns gerne an unter der Tel.-Nr. 0211 3557-448.\nWir haben Kontakt zu vielen Industrie- und Handelsunternehmen in Düsseldorf und im Kreis Mettmann und unterstützen dich dabei\, einen Ausbildungsplatz zu finden. Falls du dich vorab informieren möchtest\, schaue gerne auf unserer Website vorbei:\nwww.ausbildung-klarmachen.de
URL:https://www.kommunale-koordinierung.com/event/ihk-ausbildungssprechstunde-6/
LOCATION:Telefonisch\, Düsseldorf
CATEGORIES:Ausbildung,Eltern & Teens
END:VEVENT
BEGIN:VEVENT
DTSTART;TZID=Europe/Berlin:20240307T100000
DTEND;TZID=Europe/Berlin:20240307T120000
DTSTAMP:20260422T130423
CREATED:20240119T074858Z
LAST-MODIFIED:20240119T082617Z
UID:47688-1709805600-1709812800@www.kommunale-koordinierung.com
SUMMARY:BIWENAV-Austauschtreffen 07.03. (intern für beteiligte KoKos)
DESCRIPTION:Bitte melden Sie sich hier zu dem nächsten internen BIWENAV NRW Austauschtreffen an: \n\n \n\n\n\nVorname *\n\n\nNachname *\n\n\n\n\nKommunale Koordinierungsstelle *\n\n\n\n\nE-Mail Adresse *\n\n\n\n\nGDPR *Ja\, ich bin mit den Datenschutzbestimmungen einverstanden.\n\n\n \n\n\nNachricht senden
URL:https://www.kommunale-koordinierung.com/event/biwenav-austauschtreffen-07-03-intern-fuer-beteiligte-kokos/
LOCATION:Online
CATEGORIES:Kommunale Koordinierungsstellen
END:VEVENT
END:VCALENDAR