BEGIN:VCALENDAR
VERSION:2.0
PRODID:-//Kommunale Koordinierung - ECPv6.15.20//NONSGML v1.0//EN
CALSCALE:GREGORIAN
METHOD:PUBLISH
X-ORIGINAL-URL:https://www.kommunale-koordinierung.com
X-WR-CALDESC:Veranstaltungen für Kommunale Koordinierung
REFRESH-INTERVAL;VALUE=DURATION:PT1H
X-Robots-Tag:noindex
X-PUBLISHED-TTL:PT1H
BEGIN:VTIMEZONE
TZID:Europe/Berlin
BEGIN:DAYLIGHT
TZOFFSETFROM:+0100
TZOFFSETTO:+0200
TZNAME:CEST
DTSTART:20230326T010000
END:DAYLIGHT
BEGIN:STANDARD
TZOFFSETFROM:+0200
TZOFFSETTO:+0100
TZNAME:CET
DTSTART:20231029T010000
END:STANDARD
BEGIN:DAYLIGHT
TZOFFSETFROM:+0100
TZOFFSETTO:+0200
TZNAME:CEST
DTSTART:20240331T010000
END:DAYLIGHT
BEGIN:STANDARD
TZOFFSETFROM:+0200
TZOFFSETTO:+0100
TZNAME:CET
DTSTART:20241027T010000
END:STANDARD
BEGIN:DAYLIGHT
TZOFFSETFROM:+0100
TZOFFSETTO:+0200
TZNAME:CEST
DTSTART:20250330T010000
END:DAYLIGHT
BEGIN:STANDARD
TZOFFSETFROM:+0200
TZOFFSETTO:+0100
TZNAME:CET
DTSTART:20251026T010000
END:STANDARD
END:VTIMEZONE
BEGIN:VEVENT
DTSTART;TZID=Europe/Berlin:20240226T150000
DTEND;TZID=Europe/Berlin:20240226T163000
DTSTAMP:20260422T114301
CREATED:20240119T101910Z
LAST-MODIFIED:20240119T102027Z
UID:47692-1708959600-1708965000@www.kommunale-koordinierung.com
SUMMARY:Webinar: Berufliche Orientierung am Gymnasium – Erfahrungen und Chancen
DESCRIPTION:Tagesordnung: \n\nStefan Düll OStD und Michael Weh OStR stellen die Kernelemente der BO am Gymnasium heraus und zeigen\, wie diese am Justus-von-Liebig-Gymnasium Neusäß umgesetzt werden.\nDas duale Studium als attraktive Option mit Ausbildung und Studium stellt Prof. Dr.-Ing. Wolfgang Arens-Fischer vor\, Vorsitzender des Verbands Duales Studium Deutschland.\nKatharina Weinert\, Handelsverband\, erläutert die eigens konzipierten Abiturientenprogramme des Handels.\nProf. Dr. Susanne Lin-Klitzing\, Vorsitzende des DPhV\, führt ein und Yvonne Kohlmann\, SCHULEWIRTSCHAFT Deutschland\, moderiert die Veranstaltung.\n\nZur Anmeldung (bis zum 19.02.):\nWeb-Seminar von SCHULEWIRTSCHAFT\, DPhV & BDA – DPhV \nDas Webinar ist eine Veranstaltung vom Deutschen Philologenverband\, BDA\, SCHULEWIRTSCHAFT und Berufswahl-SIEGEL. \nFlyer
URL:https://www.kommunale-koordinierung.com/event/webinar-berufliche-orientierung-am-gymnasium-erfahrungen-und-chancen/
LOCATION:Online
CATEGORIES:Berufliche Orientierung,Lehrkräfte,Schulen,StuBos,Studienorientierung
END:VEVENT
END:VCALENDAR