BEGIN:VCALENDAR
VERSION:2.0
PRODID:-//Kommunale Koordinierung - ECPv6.15.20//NONSGML v1.0//EN
CALSCALE:GREGORIAN
METHOD:PUBLISH
X-ORIGINAL-URL:https://www.kommunale-koordinierung.com
X-WR-CALDESC:Veranstaltungen für Kommunale Koordinierung
REFRESH-INTERVAL;VALUE=DURATION:PT1H
X-Robots-Tag:noindex
X-PUBLISHED-TTL:PT1H
BEGIN:VTIMEZONE
TZID:Europe/Berlin
BEGIN:DAYLIGHT
TZOFFSETFROM:+0100
TZOFFSETTO:+0200
TZNAME:CEST
DTSTART:20220327T010000
END:DAYLIGHT
BEGIN:STANDARD
TZOFFSETFROM:+0200
TZOFFSETTO:+0100
TZNAME:CET
DTSTART:20221030T010000
END:STANDARD
BEGIN:DAYLIGHT
TZOFFSETFROM:+0100
TZOFFSETTO:+0200
TZNAME:CEST
DTSTART:20230326T010000
END:DAYLIGHT
BEGIN:STANDARD
TZOFFSETFROM:+0200
TZOFFSETTO:+0100
TZNAME:CET
DTSTART:20231029T010000
END:STANDARD
BEGIN:DAYLIGHT
TZOFFSETFROM:+0100
TZOFFSETTO:+0200
TZNAME:CEST
DTSTART:20240331T010000
END:DAYLIGHT
BEGIN:STANDARD
TZOFFSETFROM:+0200
TZOFFSETTO:+0100
TZNAME:CET
DTSTART:20241027T010000
END:STANDARD
END:VTIMEZONE
BEGIN:VEVENT
DTSTART;TZID=Europe/Berlin:20231128T150000
DTEND;TZID=Europe/Berlin:20231128T170000
DTSTAMP:20260422T160809
CREATED:20231018T084824Z
LAST-MODIFIED:20231018T084945Z
UID:46900-1701183600-1701190800@www.kommunale-koordinierung.com
SUMMARY:Experience Lab am Max-Weber-Berufskolleg
DESCRIPTION:Das Thema des Experience Labs lautet „Virtual Reality“. Interessierte Schülerinnen und Schüler haben in diesem Workshop die Möglichkeit\, sich mit wirtschaftlichen Fragestellungen sowie der Arbeitswelt von morgen auseinanderzusetzen. \nEs ist eine Anmeldung erforderlich unter: info@mwbk.nrw \nWeitere Informationen finden Sie unter:\nwww.max-weber-berufskolleg.de
URL:https://www.kommunale-koordinierung.com/event/experience-lab-am-max-weber-berufskolleg-2/
LOCATION:Max-Weber-Berufskolleg\, Suitbertusstraße 163-165\, Düsseldorf
CATEGORIES:Ausbildung,Berufliche Orientierung,Berufskolleg,Eltern & Teens,Mit Anmeldung
END:VEVENT
END:VCALENDAR