BEGIN:VCALENDAR
VERSION:2.0
PRODID:-//Kommunale Koordinierung - ECPv6.15.20//NONSGML v1.0//EN
CALSCALE:GREGORIAN
METHOD:PUBLISH
X-WR-CALNAME:Kommunale Koordinierung
X-ORIGINAL-URL:https://www.kommunale-koordinierung.com
X-WR-CALDESC:Veranstaltungen für Kommunale Koordinierung
REFRESH-INTERVAL;VALUE=DURATION:PT1H
X-Robots-Tag:noindex
X-PUBLISHED-TTL:PT1H
BEGIN:VTIMEZONE
TZID:Europe/Berlin
BEGIN:DAYLIGHT
TZOFFSETFROM:+0100
TZOFFSETTO:+0200
TZNAME:CEST
DTSTART:20220327T010000
END:DAYLIGHT
BEGIN:STANDARD
TZOFFSETFROM:+0200
TZOFFSETTO:+0100
TZNAME:CET
DTSTART:20221030T010000
END:STANDARD
BEGIN:DAYLIGHT
TZOFFSETFROM:+0100
TZOFFSETTO:+0200
TZNAME:CEST
DTSTART:20230326T010000
END:DAYLIGHT
BEGIN:STANDARD
TZOFFSETFROM:+0200
TZOFFSETTO:+0100
TZNAME:CET
DTSTART:20231029T010000
END:STANDARD
BEGIN:DAYLIGHT
TZOFFSETFROM:+0100
TZOFFSETTO:+0200
TZNAME:CEST
DTSTART:20240331T010000
END:DAYLIGHT
BEGIN:STANDARD
TZOFFSETFROM:+0200
TZOFFSETTO:+0100
TZNAME:CET
DTSTART:20241027T010000
END:STANDARD
END:VTIMEZONE
BEGIN:VEVENT
DTSTART;VALUE=DATE:20231113
DTEND;VALUE=DATE:20231126
DTSTAMP:20260422T180758
CREATED:20231026T093325Z
LAST-MODIFIED:20240412T111147Z
UID:46946-1699833600-1700956799@www.kommunale-koordinierung.com
SUMMARY:Digitale Elternabende in NRW - lernen sie verschiedene Branchen & Berufe kennen!
DESCRIPTION:Chancen für die Zukunft. Verschiedene Branchen und Betriebe stellen sich vor! \nIhr Kind steht kurz vor dem Schulabschluss und gemeinsam suchen Sie nach einem passenden Ausbildungs- oder dualen Studienplatz? \nVom 13. bis zum 25. November kommen Sie hier mit Unternehmen ins Gespräch. Jeden Abend präsentieren sich verschiedene Branchen und dazu passende Ausbildungsbetriebe im Rahmen der digitalen Elternabende. \nAlle Infos und Termine:\nwww.arbeitsagentur.de/vor-ort/rd-nrw/elternabende
URL:https://www.kommunale-koordinierung.com/event/digitale-elternabende-in-nrw-lernen-sie-verschiedene-branchen-berufe-kennen/
LOCATION:Online
CATEGORIES:Ausbildung,Berufliche Orientierung,Eltern & Teens
END:VEVENT
BEGIN:VEVENT
DTSTART;TZID=Europe/Berlin:20231123T090000
DTEND;TZID=Europe/Berlin:20231123T100000
DTSTAMP:20260422T180758
CREATED:20230913T133730Z
LAST-MODIFIED:20230913T133730Z
UID:46588-1700730000-1700733600@www.kommunale-koordinierung.com
SUMMARY:IHK-Sprechstunde Fachpraktikerausbildung
DESCRIPTION:Fachpraktiker-Ausbildung – was ist das? Unsere aktuelle Sprechstunde der Industrie- und Handelskammer Düsseldorf bietet die Chance\, ohne Stress persönliche Fragen zu besprechen und Antworten durch die Fachberaterin Gisela Kwiatek inklusive Bildung zu erhalten. Weitere Infos findest du hier. \nKontakt:\nGisela Kwiatek\nTel.-Nr.: 0211 3557-420
URL:https://www.kommunale-koordinierung.com/event/ihk-sprechstunde-fachpraktikerausbildung-5/
LOCATION:Telefonisch\, Düsseldorf
CATEGORIES:BO mit Förderbedarf,Eltern & Teens
END:VEVENT
BEGIN:VEVENT
DTSTART;TZID=Europe/Berlin:20231123T160000
DTEND;TZID=Europe/Berlin:20231123T190000
DTSTAMP:20260422T180758
CREATED:20231025T110913Z
LAST-MODIFIED:20231025T110913Z
UID:46939-1700755200-1700766000@www.kommunale-koordinierung.com
SUMMARY:Tag der offenen Tür an der HSD in den Fachbereichen Architektur und Design
DESCRIPTION:An diesem Tag öffnen die Kreativstudiengänge der HSD für alle Studieninteressierten ihre Pforten. Von 16 – 19 Uhr erhalten Sie umfassende Einblicke in das vielfältige Angebot\, können Fragen klären\, an Werkstattführungen teilnehmen (nach vorheriger Anmeldung) und vieles mehr. \nWeitere Informationen:\nhttps://hsd-pbsa.de/veranstaltung/tag-der-offenen-tuer-architektur-und-design
URL:https://www.kommunale-koordinierung.com/event/tag-der-offenen-tuer-an-der-hsd-in-den-fachbereichen-architektur-und-design/
LOCATION:Hochschule Düsseldorf\, Münsterstraße 156\, 40476 Düsseldorf\, Deutschland
CATEGORIES:Eltern & Teens,Studienorientierung
END:VEVENT
END:VCALENDAR