BEGIN:VCALENDAR
VERSION:2.0
PRODID:-//Kommunale Koordinierung - ECPv6.15.20//NONSGML v1.0//EN
CALSCALE:GREGORIAN
METHOD:PUBLISH
X-ORIGINAL-URL:https://www.kommunale-koordinierung.com
X-WR-CALDESC:Veranstaltungen für Kommunale Koordinierung
REFRESH-INTERVAL;VALUE=DURATION:PT1H
X-Robots-Tag:noindex
X-PUBLISHED-TTL:PT1H
BEGIN:VTIMEZONE
TZID:Europe/Berlin
BEGIN:DAYLIGHT
TZOFFSETFROM:+0100
TZOFFSETTO:+0200
TZNAME:CEST
DTSTART:20220327T010000
END:DAYLIGHT
BEGIN:STANDARD
TZOFFSETFROM:+0200
TZOFFSETTO:+0100
TZNAME:CET
DTSTART:20221030T010000
END:STANDARD
BEGIN:DAYLIGHT
TZOFFSETFROM:+0100
TZOFFSETTO:+0200
TZNAME:CEST
DTSTART:20230326T010000
END:DAYLIGHT
BEGIN:STANDARD
TZOFFSETFROM:+0200
TZOFFSETTO:+0100
TZNAME:CET
DTSTART:20231029T010000
END:STANDARD
BEGIN:DAYLIGHT
TZOFFSETFROM:+0100
TZOFFSETTO:+0200
TZNAME:CEST
DTSTART:20240331T010000
END:DAYLIGHT
BEGIN:STANDARD
TZOFFSETFROM:+0200
TZOFFSETTO:+0100
TZNAME:CET
DTSTART:20241027T010000
END:STANDARD
END:VTIMEZONE
BEGIN:VEVENT
DTSTART;VALUE=DATE:20231113
DTEND;VALUE=DATE:20231126
DTSTAMP:20260422T180854
CREATED:20231026T093325Z
LAST-MODIFIED:20240412T111147Z
UID:46946-1699833600-1700956799@www.kommunale-koordinierung.com
SUMMARY:Digitale Elternabende in NRW - lernen sie verschiedene Branchen & Berufe kennen!
DESCRIPTION:Chancen für die Zukunft. Verschiedene Branchen und Betriebe stellen sich vor! \nIhr Kind steht kurz vor dem Schulabschluss und gemeinsam suchen Sie nach einem passenden Ausbildungs- oder dualen Studienplatz? \nVom 13. bis zum 25. November kommen Sie hier mit Unternehmen ins Gespräch. Jeden Abend präsentieren sich verschiedene Branchen und dazu passende Ausbildungsbetriebe im Rahmen der digitalen Elternabende. \nAlle Infos und Termine:\nwww.arbeitsagentur.de/vor-ort/rd-nrw/elternabende
URL:https://www.kommunale-koordinierung.com/event/digitale-elternabende-in-nrw-lernen-sie-verschiedene-branchen-berufe-kennen/
LOCATION:Online
CATEGORIES:Ausbildung,Berufliche Orientierung,Eltern & Teens
END:VEVENT
BEGIN:VEVENT
DTSTART;TZID=Europe/Berlin:20231120T150000
DTEND;TZID=Europe/Berlin:20231120T180000
DTSTAMP:20260422T180854
CREATED:20230821T130916Z
LAST-MODIFIED:20231123T093424Z
UID:46039-1700492400-1700503200@www.kommunale-koordinierung.com
SUMMARY:Berufsberatung in der Zentralbibliothek
DESCRIPTION:Die Arbeitsagentur berät in der Zentralbibliothek Jugendliche und Eltern zu folgenden Themen: \n– Wie kann es nach der Schule weitergehen?\n– Ausbildung\, weiterführende Schule\, Studium …\n– Welcher Beruf passt zu Dir/Ihrem Nachwuchs?\n– Wie können Eltern ihre Kinder im vielfältigen Dschungel der Berufsorientierung bestmöglich unterstützen? \nDer Eintritt ist frei. Eine Anmeldung ist nicht erforderlich!
URL:https://www.kommunale-koordinierung.com/event/berufsberatung-in-der-zentralbibliothek-3/
LOCATION:Zentralbibliothek\, Konrad-Adenauer-Platz 1\, Düsseldorf\, 40210
CATEGORIES:Ausbildung,Berufliche Orientierung,Eltern & Teens,Studienorientierung
END:VEVENT
END:VCALENDAR