BEGIN:VCALENDAR
VERSION:2.0
PRODID:-//Kommunale Koordinierung - ECPv6.15.20//NONSGML v1.0//EN
CALSCALE:GREGORIAN
METHOD:PUBLISH
X-ORIGINAL-URL:https://www.kommunale-koordinierung.com
X-WR-CALDESC:Veranstaltungen für Kommunale Koordinierung
REFRESH-INTERVAL;VALUE=DURATION:PT1H
X-Robots-Tag:noindex
X-PUBLISHED-TTL:PT1H
BEGIN:VTIMEZONE
TZID:Europe/Berlin
BEGIN:DAYLIGHT
TZOFFSETFROM:+0100
TZOFFSETTO:+0200
TZNAME:CEST
DTSTART:20220327T010000
END:DAYLIGHT
BEGIN:STANDARD
TZOFFSETFROM:+0200
TZOFFSETTO:+0100
TZNAME:CET
DTSTART:20221030T010000
END:STANDARD
BEGIN:DAYLIGHT
TZOFFSETFROM:+0100
TZOFFSETTO:+0200
TZNAME:CEST
DTSTART:20230326T010000
END:DAYLIGHT
BEGIN:STANDARD
TZOFFSETFROM:+0200
TZOFFSETTO:+0100
TZNAME:CET
DTSTART:20231029T010000
END:STANDARD
BEGIN:DAYLIGHT
TZOFFSETFROM:+0100
TZOFFSETTO:+0200
TZNAME:CEST
DTSTART:20240331T010000
END:DAYLIGHT
BEGIN:STANDARD
TZOFFSETFROM:+0200
TZOFFSETTO:+0100
TZNAME:CET
DTSTART:20241027T010000
END:STANDARD
END:VTIMEZONE
BEGIN:VEVENT
DTSTART;VALUE=DATE:20231113
DTEND;VALUE=DATE:20231126
DTSTAMP:20260422T193608
CREATED:20231026T093325Z
LAST-MODIFIED:20240412T111147Z
UID:46946-1699833600-1700956799@www.kommunale-koordinierung.com
SUMMARY:Digitale Elternabende in NRW - lernen sie verschiedene Branchen & Berufe kennen!
DESCRIPTION:Chancen für die Zukunft. Verschiedene Branchen und Betriebe stellen sich vor! \nIhr Kind steht kurz vor dem Schulabschluss und gemeinsam suchen Sie nach einem passenden Ausbildungs- oder dualen Studienplatz? \nVom 13. bis zum 25. November kommen Sie hier mit Unternehmen ins Gespräch. Jeden Abend präsentieren sich verschiedene Branchen und dazu passende Ausbildungsbetriebe im Rahmen der digitalen Elternabende. \nAlle Infos und Termine:\nwww.arbeitsagentur.de/vor-ort/rd-nrw/elternabende
URL:https://www.kommunale-koordinierung.com/event/digitale-elternabende-in-nrw-lernen-sie-verschiedene-branchen-berufe-kennen/
LOCATION:Online
CATEGORIES:Ausbildung,Berufliche Orientierung,Eltern & Teens
END:VEVENT
BEGIN:VEVENT
DTSTART;TZID=Europe/Berlin:20231117T140000
DTEND;TZID=Europe/Berlin:20231117T170000
DTSTAMP:20260422T193608
CREATED:20231012T064524Z
LAST-MODIFIED:20231012T064524Z
UID:46759-1700229600-1700240400@www.kommunale-koordinierung.com
SUMMARY:Tag der offenen Tür am Berufskolleg Bachstraße
DESCRIPTION:Am Freitag\, den 17. November 2023 findet von 14 bis 17 Uhr der Informationstag des Wirtschaftsgymnasiums\, der Höheren Handelsschule und der Handelsschule am Berufskolleg Bachstraße statt. Wir laden alle Schülerinnen und Schüler sowie Eltern dazu ein\, sich über unsere vollzeitschulischen Weiterbildungsmöglichkeiten nach Klasse 10 zu informieren. Nutzen Sie die Chance einer individuellen Beratung! \nWeitere Informationen zum Tag der offenen Tür:\nhttps://www.bkb-duesseldorf.de/news.html
URL:https://www.kommunale-koordinierung.com/event/tag-der-offenen-tuer-am-berufskolleg-bachstrasse-2/
LOCATION:Berufskolleg Bachstraße\, Bachstraße 8\, Düsseldorf\, Deutschland
CATEGORIES:Berufskolleg,Eltern & Teens
END:VEVENT
BEGIN:VEVENT
DTSTART;TZID=Europe/Berlin:20231117T150000
DTEND;TZID=Europe/Berlin:20231117T170000
DTSTAMP:20260422T193608
CREATED:20231016T101321Z
LAST-MODIFIED:20231018T090617Z
UID:46854-1700233200-1700240400@www.kommunale-koordinierung.com
SUMMARY:Pop-Up-Beratungen am Max-Weber-Berufskolleg
DESCRIPTION:Bei den Pop-Up-Beratungen haben potenzielle Schüler:innen und Erziehungsberechtigte die Möglichkeit\, sich über die Bildungsgänge der FOS Polizei\, der Höheren Handelsschule sowie der FOS 11/12 am Max-Weber-Berufskolleg zu informieren. In lockerer Gesprächsrund können Fragen direkt an die Expert:innen gestellt werden. Wie der Name impliziert\, geht es um frühzeitigen Informationsaustausch in ungezwungener Atmosphäre\, spontan und ohne Druck. \nWeitere Informationen finden Sie unter:\nwww.max-weber-berufskolleg.de \n 
URL:https://www.kommunale-koordinierung.com/event/pop-up-beratungen-am-max-weber-berufskolleg/
LOCATION:Max-Weber-Berufskolleg\, Suitbertusstraße 163-165\, Düsseldorf
CATEGORIES:Ausbildung,Berufliche Orientierung,Berufskolleg,Eltern & Teens
END:VEVENT
END:VCALENDAR