BEGIN:VCALENDAR
VERSION:2.0
PRODID:-//Kommunale Koordinierung - ECPv6.15.20//NONSGML v1.0//EN
CALSCALE:GREGORIAN
METHOD:PUBLISH
X-ORIGINAL-URL:https://www.kommunale-koordinierung.com
X-WR-CALDESC:Veranstaltungen für Kommunale Koordinierung
REFRESH-INTERVAL;VALUE=DURATION:PT1H
X-Robots-Tag:noindex
X-PUBLISHED-TTL:PT1H
BEGIN:VTIMEZONE
TZID:Europe/Berlin
BEGIN:DAYLIGHT
TZOFFSETFROM:+0100
TZOFFSETTO:+0200
TZNAME:CEST
DTSTART:20220327T010000
END:DAYLIGHT
BEGIN:STANDARD
TZOFFSETFROM:+0200
TZOFFSETTO:+0100
TZNAME:CET
DTSTART:20221030T010000
END:STANDARD
BEGIN:DAYLIGHT
TZOFFSETFROM:+0100
TZOFFSETTO:+0200
TZNAME:CEST
DTSTART:20230326T010000
END:DAYLIGHT
BEGIN:STANDARD
TZOFFSETFROM:+0200
TZOFFSETTO:+0100
TZNAME:CET
DTSTART:20231029T010000
END:STANDARD
BEGIN:DAYLIGHT
TZOFFSETFROM:+0100
TZOFFSETTO:+0200
TZNAME:CEST
DTSTART:20240331T010000
END:DAYLIGHT
BEGIN:STANDARD
TZOFFSETFROM:+0200
TZOFFSETTO:+0100
TZNAME:CET
DTSTART:20241027T010000
END:STANDARD
END:VTIMEZONE
BEGIN:VEVENT
DTSTART;TZID=Europe/Berlin:20231104T100000
DTEND;TZID=Europe/Berlin:20231104T150000
DTSTAMP:20260422T191133
CREATED:20231027T112345Z
LAST-MODIFIED:20231109T074610Z
UID:46985-1699092000-1699110000@www.kommunale-koordinierung.com
SUMMARY:Perspektiventag der Diakonie Düsseldorf
DESCRIPTION:Erfahre mehr über die verschiedenen Ausbildungs- und Einstiegsmöglichkeiten bei der Diakonie Düsseldorf. Im persönlichen Kontakt mit Ausbilder*innen bzw. zukünftigen Kolleg*innen kannst du dich am Perspektiventag informieren\, bewerben\, austauschen und noch vieles mehr. \nDas Programm ist so vielfältig wie das Leben in Düsseldorf: Von Vorträgen über Beratungsgespräche bis hin zu ganz konkreten Einblicken in die Jobs mit Sinn. \nArbeitsmarktberater*innen des Job Centers beraten vor Ort zu individuellen Fördermöglichkeiten. \nFlyer
URL:https://www.kommunale-koordinierung.com/event/perspektiventag-diakonie-duesseldorf/
LOCATION:Platz der Diakonie\, Platz der Diakonie\, Düsseldorf\, 40233
CATEGORIES:Berufliche Orientierung,Eltern & Teens,Geflüchtete,Schulen
END:VEVENT
END:VCALENDAR