BEGIN:VCALENDAR
VERSION:2.0
PRODID:-//Kommunale Koordinierung - ECPv6.15.20//NONSGML v1.0//EN
CALSCALE:GREGORIAN
METHOD:PUBLISH
X-WR-CALNAME:Kommunale Koordinierung
X-ORIGINAL-URL:https://www.kommunale-koordinierung.com
X-WR-CALDESC:Veranstaltungen für Kommunale Koordinierung
REFRESH-INTERVAL;VALUE=DURATION:PT1H
X-Robots-Tag:noindex
X-PUBLISHED-TTL:PT1H
BEGIN:VTIMEZONE
TZID:Europe/Berlin
BEGIN:DAYLIGHT
TZOFFSETFROM:+0100
TZOFFSETTO:+0200
TZNAME:CEST
DTSTART:20220327T010000
END:DAYLIGHT
BEGIN:STANDARD
TZOFFSETFROM:+0200
TZOFFSETTO:+0100
TZNAME:CET
DTSTART:20221030T010000
END:STANDARD
BEGIN:DAYLIGHT
TZOFFSETFROM:+0100
TZOFFSETTO:+0200
TZNAME:CEST
DTSTART:20230326T010000
END:DAYLIGHT
BEGIN:STANDARD
TZOFFSETFROM:+0200
TZOFFSETTO:+0100
TZNAME:CET
DTSTART:20231029T010000
END:STANDARD
BEGIN:DAYLIGHT
TZOFFSETFROM:+0100
TZOFFSETTO:+0200
TZNAME:CEST
DTSTART:20240331T010000
END:DAYLIGHT
BEGIN:STANDARD
TZOFFSETFROM:+0200
TZOFFSETTO:+0100
TZNAME:CET
DTSTART:20241027T010000
END:STANDARD
END:VTIMEZONE
BEGIN:VEVENT
DTSTART;TZID=Europe/Berlin:20231021T100000
DTEND;TZID=Europe/Berlin:20231021T123000
DTSTAMP:20260422T193429
CREATED:20231016T121326Z
LAST-MODIFIED:20231016T122820Z
UID:46877-1697882400-1697891400@www.kommunale-koordinierung.com
SUMMARY:Berufsorientierungstag bei Henkel
DESCRIPTION:Du befindest dich gerade in der Berufsorientierungsphase? Du denkst über eine Berufsausbildung oder über ein Studium nach? Oder du weißt noch gar nicht\, wie du deine berufliche Zukunft gestalten möchtest? \nDann bist du bei uns genau richtig\, denn bei uns kannst du Berufsorientierung hautnah erleben! \nLass uns gemeinsam herausfinden\, wo deine Talente liegen. Wir nehmen dich mit in unsere Henkel-Welt und stellen dir unsere vielseitigen Ausbildungs- und Studienmöglichkeiten in den folgenden Bereichen vor: \n\nKaufmännischer Bereich\nNaturwissenschaftlicher Bereich\nProduktions- und Technikbereich\nGesundheits- und Sicherheitsbereich\nGastronomischer Bereich\n\nBitte melde dich für die Veranstaltung hier an:\nwww.henkel.de/karriere/schueler/berufsorientierungstag\n \nWichtig: Die Teilnahme von Minderjährigen ist nur in Begleitung eines Erwachsenen möglich. \nOrt der Veranstaltung: \nHenkel Ausbildung\nHenkelstraße 67 (Tor 1)\n40589 Düsseldorf
URL:https://www.kommunale-koordinierung.com/event/berufsorientierungstag-bei-henkel/
LOCATION:Henkel Ausbildung\, Henkelstr. 67 (TOR1)\, Düsseldorf\, 40589\, Deutschland
CATEGORIES:Ausbildung,Berufliche Orientierung,Eltern & Teens,Mit Anmeldung
END:VEVENT
BEGIN:VEVENT
DTSTART;TZID=Europe/Berlin:20231021T100000
DTEND;TZID=Europe/Berlin:20231021T130000
DTSTAMP:20260422T193429
CREATED:20230621T073943Z
LAST-MODIFIED:20230621T073943Z
UID:45309-1697882400-1697893200@www.kommunale-koordinierung.com
SUMMARY:Karriere in der Kita? Berufsbilder\, Entwicklungsmöglichkeiten und Job-Angebote
DESCRIPTION:Die Bildungsarbeit in Kitas ist vielfältig und schafft den Spagat\, Kinder in ihrer Entwicklung zu fördern\, aber auch den Interessen und Fähigkeiten der Mitarbeitenden Raum zu geben – also ein Job mit Sinn\, Potenzial und Zukunft. \nWer mehr über die Berufsbilder\, Entwicklungsmöglichkeiten und Job-Angebote erfahren möchte\, kann sich am 21. Oktober 2023 von 10 bis 13 Uhr in der Zentralbibliothek am Konrad-Adenauer-Platz 1 (KAP 1) informieren. Gemeinsam mit den freien Trägern der Kinder- und Jugendhilfe in Düsseldorf\, den Berufskollegs und dem Jobcenter wird eine Job- und Informationsbörse ausgerichtet.
URL:https://www.kommunale-koordinierung.com/event/karriere-in-der-kita-berufsbilder-entwicklungsmoeglichkeiten-und-job-angebote/
LOCATION:Zentralbibliothek\, Konrad-Adenauer-Platz 1\, Düsseldorf\, 40210
CATEGORIES:Ausbildung,Berufliche Orientierung,Eltern & Teens,Geflüchtete
END:VEVENT
BEGIN:VEVENT
DTSTART;TZID=Europe/Berlin:20231021T123000
DTEND;TZID=Europe/Berlin:20231021T150000
DTSTAMP:20260422T193429
CREATED:20231016T123117Z
LAST-MODIFIED:20231016T123117Z
UID:46888-1697891400-1697900400@www.kommunale-koordinierung.com
SUMMARY:Berufsorientierungstag bei Henkel
DESCRIPTION:Du befindest dich gerade in der Berufsorientierungsphase? Du denkst über eine Berufsausbildung oder über ein Studium nach? Oder du weißt noch gar nicht\, wie du deine berufliche Zukunft gestalten möchtest? \nDann bist du bei uns genau richtig\, denn bei uns kannst du Berufsorientierung hautnah erleben! \nLass uns gemeinsam herausfinden\, wo deine Talente liegen. Wir nehmen dich mit in unsere Henkel-Welt und stellen dir unsere vielseitigen Ausbildungs- und Studienmöglichkeiten in den folgenden Bereichen vor: \n\nKaufmännischer Bereich\nNaturwissenschaftlicher Bereich\nProduktions- und Technikbereich\nGesundheits- und Sicherheitsbereich\nGastronomischer Bereich\n\nBitte melde dich für die Veranstaltung hier an:\nwww.henkel.de/karriere/schueler/berufsorientierungstag \nWichtig: Die Teilnahme von Minderjährigen ist nur in Begleitung eines Erwachsenen möglich. \nOrt der Veranstaltung: \nHenkel Ausbildung\nHenkelstraße 67 (Tor 1)\n40589 Düsseldorf
URL:https://www.kommunale-koordinierung.com/event/berufsorientierungstag-bei-henkel-2/
LOCATION:Henkel Ausbildung\, Henkelstr. 67 (TOR1)\, Düsseldorf\, 40589\, Deutschland
CATEGORIES:Ausbildung,Berufliche Orientierung,Eltern & Teens,Mit Anmeldung
END:VEVENT
END:VCALENDAR