BEGIN:VCALENDAR
VERSION:2.0
PRODID:-//Kommunale Koordinierung - ECPv6.15.20//NONSGML v1.0//EN
CALSCALE:GREGORIAN
METHOD:PUBLISH
X-ORIGINAL-URL:https://www.kommunale-koordinierung.com
X-WR-CALDESC:Veranstaltungen für Kommunale Koordinierung
REFRESH-INTERVAL;VALUE=DURATION:PT1H
X-Robots-Tag:noindex
X-PUBLISHED-TTL:PT1H
BEGIN:VTIMEZONE
TZID:Europe/Berlin
BEGIN:DAYLIGHT
TZOFFSETFROM:+0100
TZOFFSETTO:+0200
TZNAME:CEST
DTSTART:20220327T010000
END:DAYLIGHT
BEGIN:STANDARD
TZOFFSETFROM:+0200
TZOFFSETTO:+0100
TZNAME:CET
DTSTART:20221030T010000
END:STANDARD
BEGIN:DAYLIGHT
TZOFFSETFROM:+0100
TZOFFSETTO:+0200
TZNAME:CEST
DTSTART:20230326T010000
END:DAYLIGHT
BEGIN:STANDARD
TZOFFSETFROM:+0200
TZOFFSETTO:+0100
TZNAME:CET
DTSTART:20231029T010000
END:STANDARD
BEGIN:DAYLIGHT
TZOFFSETFROM:+0100
TZOFFSETTO:+0200
TZNAME:CEST
DTSTART:20240331T010000
END:DAYLIGHT
BEGIN:STANDARD
TZOFFSETFROM:+0200
TZOFFSETTO:+0100
TZNAME:CET
DTSTART:20241027T010000
END:STANDARD
END:VTIMEZONE
BEGIN:VEVENT
DTSTART;TZID=Europe/Berlin:20231016T150000
DTEND;TZID=Europe/Berlin:20231016T180000
DTSTAMP:20260422T211011
CREATED:20230821T112302Z
LAST-MODIFIED:20231018T071915Z
UID:46016-1697468400-1697479200@www.kommunale-koordinierung.com
SUMMARY:Berufsberatung in der Zentralbibliothek
DESCRIPTION:Die Arbeitsagentur berät in der Zentralbibliothek Jugendliche und Eltern zu folgenden Themen: \n– Wie kann es nach der Schule weitergehen?\n– Ausbildung\, weiterführende Schule\, Studium…\n– Welcher Beruf passt zu Dir/Ihrem Nachwuchs?\n– Wie können Eltern ihre Kinder im vielfältigen Dschungel der Berufsorientierung bestmöglich unterstützen? \nDer Eintritt ist frei. Eine Anmeldung ist nicht erforderlich. \nWeitere Informationen finden Sie hier.
URL:https://www.kommunale-koordinierung.com/event/berufsberatung-in-der-zentralbibliothek-2/
LOCATION:Zentralbibliothek\, Konrad-Adenauer-Platz 1\, Düsseldorf\, 40210
CATEGORIES:Ausbildung,Berufliche Orientierung,Eltern & Teens,Studienorientierung
END:VEVENT
END:VCALENDAR