BEGIN:VCALENDAR
VERSION:2.0
PRODID:-//Kommunale Koordinierung - ECPv6.15.20//NONSGML v1.0//EN
CALSCALE:GREGORIAN
METHOD:PUBLISH
X-WR-CALNAME:Kommunale Koordinierung
X-ORIGINAL-URL:https://www.kommunale-koordinierung.com
X-WR-CALDESC:Veranstaltungen für Kommunale Koordinierung
REFRESH-INTERVAL;VALUE=DURATION:PT1H
X-Robots-Tag:noindex
X-PUBLISHED-TTL:PT1H
BEGIN:VTIMEZONE
TZID:Europe/Berlin
BEGIN:DAYLIGHT
TZOFFSETFROM:+0100
TZOFFSETTO:+0200
TZNAME:CEST
DTSTART:20220327T010000
END:DAYLIGHT
BEGIN:STANDARD
TZOFFSETFROM:+0200
TZOFFSETTO:+0100
TZNAME:CET
DTSTART:20221030T010000
END:STANDARD
BEGIN:DAYLIGHT
TZOFFSETFROM:+0100
TZOFFSETTO:+0200
TZNAME:CEST
DTSTART:20230326T010000
END:DAYLIGHT
BEGIN:STANDARD
TZOFFSETFROM:+0200
TZOFFSETTO:+0100
TZNAME:CET
DTSTART:20231029T010000
END:STANDARD
BEGIN:DAYLIGHT
TZOFFSETFROM:+0100
TZOFFSETTO:+0200
TZNAME:CEST
DTSTART:20240331T010000
END:DAYLIGHT
BEGIN:STANDARD
TZOFFSETFROM:+0200
TZOFFSETTO:+0100
TZNAME:CET
DTSTART:20241027T010000
END:STANDARD
END:VTIMEZONE
BEGIN:VEVENT
DTSTART;TZID=Europe/Berlin:20230925T180000
DTEND;TZID=Europe/Berlin:20230929T210000
DTSTAMP:20260422T193534
CREATED:20230823T084253Z
LAST-MODIFIED:20230823T084952Z
UID:46065-1695664800-1696021200@www.kommunale-koordinierung.com
SUMMARY:Woche der digitalen Elternabende
DESCRIPTION:Ihr Kind steht kurz vor dem Abschluss und die Suche nach dem passenden dualen Studium oder Ausbildungsplatz steht noch an? \nDie Bundesagentur für Arbeit veranstaltet vom 25.09.–29.09.2023 eine Woche der digitalen Elternabende. Hier wird Ihnen als Eltern und Ihren Kindern die Möglichkeit geboten\, verschiedene Unternehmen mit deren Ausbildungsmöglichkeiten in einer kompakten Stunde hautnah kennenzulernen. \nSie erhalten Einblicke in: \n– die Rahmenbedingungen der Ausbildung/des dualen Studiums.\n– die Unternehmenskultur und Möglichkeiten für Nachwuchskräfte nach einer erfolgreichen Ausbildung/einem erfolgreichen dualen Studium im Unternehmen.\n– Berichte von Azubis und dual Studierenden\, wie sie es geschafft haben\, das Bewerbungsverfahren zu bestehen und wie es ihnen während der Ausbildung/ des dualen Studiums ergeht. \nJeden Abend präsentieren sich verschiedene Unternehmen aus unterschiedlichen Branchen. Lernen Sie die vielfältigen Ausbildungsmöglichkeiten kennen und kommen Sie mit den Unternehmen ins Gespräch! \nWeitere Informationen finden Sie unter: https://www.arbeitsagentur.de/k/digitale-elternabende
URL:https://www.kommunale-koordinierung.com/event/woche-der-digitalen-elternabende/
LOCATION:Online
CATEGORIES:Ausbildung,Berufliche Orientierung,Eltern & Teens,Studienorientierung
END:VEVENT
BEGIN:VEVENT
DTSTART;VALUE=DATE:20230929
DTEND;VALUE=DATE:20231001
DTSTAMP:20260422T193534
CREATED:20230918T104302Z
LAST-MODIFIED:20240927T055036Z
UID:46666-1695945600-1696118399@www.kommunale-koordinierung.com
SUMMARY:Berufsinformationsmesse JOBMEDI NRW
DESCRIPTION:Am 29. und 30. September 2023 startet die JOBMEDI NRW – die Berufsinformationsmesse\, die ausschließlich Berufe im Gesundheits- und Sozialwesen und aus der Pflege ins Rampenlicht stellt.\nEs erwartet Euch/erwarten Sie in der GRUGAHALLE Essen rund 80 Aussteller\, die den Gesundheitssektor der Region NRW und auch überregional repräsentieren! Dazu zählen zahlreiche Kliniken\, Senioreneinrichtungen\, Wohlfahrtsverbände\, Hochschulen und Pflegefachschulen. Der Eintritt ist frei! \nÖffnungszeiten:\nFreitag\, 29. September 2023: 9 bis 13 Uhr\nSamstag\, 30. September 2023: 10 bis 16 Uhr
URL:https://www.kommunale-koordinierung.com/event/berufsinformationsmesse-jobmedi-nrw/
LOCATION:Grugahalle Essen\, Messeplatz 2\, Essen\, Deutschland
CATEGORIES:Ausbildung,Berufliche Orientierung,Eltern & Teens,Messe
END:VEVENT
BEGIN:VEVENT
DTSTART;TZID=Europe/Berlin:20230929T090000
DTEND;TZID=Europe/Berlin:20230929T170000
DTSTAMP:20260422T193534
CREATED:20230919T063934Z
LAST-MODIFIED:20230919T064446Z
UID:46705-1695978000-1696006800@www.kommunale-koordinierung.com
SUMMARY:MINTSymp’23 – Frauen in Zukunftsberufen
DESCRIPTION:Informationen\, Vorträge\, Gesprächsrunden und Workshops zu Frauen in MINT \nDie MINT-Fächer Mathematik\, Informatik\, Naturwissenschaften und Technik eröffnen in Zeiten der Digitalisierung hervorragende Zukunftsperspektiven. Das MINTSymp’23 der FernUniversität in Hagen bietet interessierten Frauen ein Forum\, sich zu den vielfältigen Wegen in den MINT-Fächern zu informieren und auszutauschen. \nInsbesondere Schülerinnen und Studentinnen sind eingeladen\, auf dem Symposium aktuelle Einblicke in die Studien- und Berufsmöglichkeiten im MINT-Bereich zu gewinnen und erste Kontakte zu knüpfen. Eine Teilnahme ist an der FernUniversität in Hagen vor Ort sowie virtuell über das Internet möglich. Die Teilnahme ist kostenfrei und erfordert eine Anmeldung bis zum 22.09.23. \nAlle weiteren Infos unter: www.mintsymp-hagen.de
URL:https://www.kommunale-koordinierung.com/event/mintsymp23-frauen-in-zukunftsberufen/
LOCATION:FernUniversität in Hagen und online\, Universitätsstraße 33\, Hagen\, Nordrhein-Westfalen\, 58084\, Deutschland
CATEGORIES:Berufliche Orientierung,Mit Anmeldung,Studienorientierung
END:VEVENT
END:VCALENDAR