BEGIN:VCALENDAR
VERSION:2.0
PRODID:-//Kommunale Koordinierung - ECPv6.15.20//NONSGML v1.0//EN
CALSCALE:GREGORIAN
METHOD:PUBLISH
X-WR-CALNAME:Kommunale Koordinierung
X-ORIGINAL-URL:https://www.kommunale-koordinierung.com
X-WR-CALDESC:Veranstaltungen für Kommunale Koordinierung
REFRESH-INTERVAL;VALUE=DURATION:PT1H
X-Robots-Tag:noindex
X-PUBLISHED-TTL:PT1H
BEGIN:VTIMEZONE
TZID:Europe/Berlin
BEGIN:DAYLIGHT
TZOFFSETFROM:+0100
TZOFFSETTO:+0200
TZNAME:CEST
DTSTART:20220327T010000
END:DAYLIGHT
BEGIN:STANDARD
TZOFFSETFROM:+0200
TZOFFSETTO:+0100
TZNAME:CET
DTSTART:20221030T010000
END:STANDARD
BEGIN:DAYLIGHT
TZOFFSETFROM:+0100
TZOFFSETTO:+0200
TZNAME:CEST
DTSTART:20230326T010000
END:DAYLIGHT
BEGIN:STANDARD
TZOFFSETFROM:+0200
TZOFFSETTO:+0100
TZNAME:CET
DTSTART:20231029T010000
END:STANDARD
BEGIN:DAYLIGHT
TZOFFSETFROM:+0100
TZOFFSETTO:+0200
TZNAME:CEST
DTSTART:20240331T010000
END:DAYLIGHT
BEGIN:STANDARD
TZOFFSETFROM:+0200
TZOFFSETTO:+0100
TZNAME:CET
DTSTART:20241027T010000
END:STANDARD
END:VTIMEZONE
BEGIN:VEVENT
DTSTART;TZID=Europe/Berlin:20230925T180000
DTEND;TZID=Europe/Berlin:20230929T210000
DTSTAMP:20260422T210901
CREATED:20230823T084253Z
LAST-MODIFIED:20230823T084952Z
UID:46065-1695664800-1696021200@www.kommunale-koordinierung.com
SUMMARY:Woche der digitalen Elternabende
DESCRIPTION:Ihr Kind steht kurz vor dem Abschluss und die Suche nach dem passenden dualen Studium oder Ausbildungsplatz steht noch an? \nDie Bundesagentur für Arbeit veranstaltet vom 25.09.–29.09.2023 eine Woche der digitalen Elternabende. Hier wird Ihnen als Eltern und Ihren Kindern die Möglichkeit geboten\, verschiedene Unternehmen mit deren Ausbildungsmöglichkeiten in einer kompakten Stunde hautnah kennenzulernen. \nSie erhalten Einblicke in: \n– die Rahmenbedingungen der Ausbildung/des dualen Studiums.\n– die Unternehmenskultur und Möglichkeiten für Nachwuchskräfte nach einer erfolgreichen Ausbildung/einem erfolgreichen dualen Studium im Unternehmen.\n– Berichte von Azubis und dual Studierenden\, wie sie es geschafft haben\, das Bewerbungsverfahren zu bestehen und wie es ihnen während der Ausbildung/ des dualen Studiums ergeht. \nJeden Abend präsentieren sich verschiedene Unternehmen aus unterschiedlichen Branchen. Lernen Sie die vielfältigen Ausbildungsmöglichkeiten kennen und kommen Sie mit den Unternehmen ins Gespräch! \nWeitere Informationen finden Sie unter: https://www.arbeitsagentur.de/k/digitale-elternabende
URL:https://www.kommunale-koordinierung.com/event/woche-der-digitalen-elternabende/
LOCATION:Online
CATEGORIES:Ausbildung,Berufliche Orientierung,Eltern & Teens,Studienorientierung
END:VEVENT
BEGIN:VEVENT
DTSTART;TZID=Europe/Berlin:20230927T140000
DTEND;TZID=Europe/Berlin:20230927T160000
DTSTAMP:20260422T210901
CREATED:20230904T080519Z
LAST-MODIFIED:20230904T083458Z
UID:46315-1695823200-1695830400@www.kommunale-koordinierung.com
SUMMARY:StuBo-Arbeitskreis der Förderschulen am 27.09.2023
DESCRIPTION:Alle Düsseldorfer Förderschulen sind herzlich zum nächsten StuBo-Arbeitskreis der Förderschulen eingeladen! \nDie offizielle Einladung für den Arbeitskeis der Förderschulen finden Sie hier: AK FS – Offizielle Einladung \nBitte melden Sie sich unten für die Veranstaltung an. \nBei Fragen oder Anmerkungen wenden Sie sich bitte an: \nUte Scheid\nTelefon: 0211 8921947\nE-Mail: ute.scheid@duesseldorf.de \nDer Arbeitskreis ist eine gemeinsame Veranstaltung der Kommunalen Koordinierung Düsseldorf und der Schulaufsicht der Landeshauptstadt Düsseldorf.
URL:https://www.kommunale-koordinierung.com/event/stubo-arbeitskreis-der-foerderschulen-am-27-09-2023/
LOCATION:Achenbachstr. 28\, 40237 Düsseldorf\, Achenbachstr. 28\, Düsseldorf\, 40237\, Deutschland
CATEGORIES:Mit Anmeldung,StuBo-Arbeitskreis,StuBos
END:VEVENT
BEGIN:VEVENT
DTSTART;TZID=Europe/Berlin:20230927T160000
DTEND;TZID=Europe/Berlin:20230927T170000
DTSTAMP:20260422T210901
CREATED:20220819T112946Z
LAST-MODIFIED:20220819T112946Z
UID:37562-1695830400-1695834000@www.kommunale-koordinierung.com
SUMMARY:Online-Infoveranstaltung der Berufsberatung: Einstiegsqualifizierung – Was ist das?
DESCRIPTION:Ein Einstieg vor dem Einstieg? Du lernst Deinen Wunschberuf hautnah kennen und verdienst sogar etwas dabei. Die Berufsberatung der Agentur für Arbeit in Kooperation mit der IHK Düsseldorf stellen Euch die Möglichkeiten der Einstiegsqualifizierung vor. Stelle gerne Deine Fragen während der Veranstaltung über den Livechat. \nWeitere Informationen unter: https://www.arbeitsagentur.de/vor-ort/duesseldorf/berufsberatung
URL:https://www.kommunale-koordinierung.com/event/online-infoveranstaltung-der-berufsberatung-einstiegsqualifizierung-was-ist-das-2/
LOCATION:Online
CATEGORIES:Berufliche Orientierung
END:VEVENT
END:VCALENDAR