BEGIN:VCALENDAR
VERSION:2.0
PRODID:-//Kommunale Koordinierung - ECPv6.15.20//NONSGML v1.0//EN
CALSCALE:GREGORIAN
METHOD:PUBLISH
X-ORIGINAL-URL:https://www.kommunale-koordinierung.com
X-WR-CALDESC:Veranstaltungen für Kommunale Koordinierung
REFRESH-INTERVAL;VALUE=DURATION:PT1H
X-Robots-Tag:noindex
X-PUBLISHED-TTL:PT1H
BEGIN:VTIMEZONE
TZID:Europe/Berlin
BEGIN:DAYLIGHT
TZOFFSETFROM:+0100
TZOFFSETTO:+0200
TZNAME:CEST
DTSTART:20220327T010000
END:DAYLIGHT
BEGIN:STANDARD
TZOFFSETFROM:+0200
TZOFFSETTO:+0100
TZNAME:CET
DTSTART:20221030T010000
END:STANDARD
BEGIN:DAYLIGHT
TZOFFSETFROM:+0100
TZOFFSETTO:+0200
TZNAME:CEST
DTSTART:20230326T010000
END:DAYLIGHT
BEGIN:STANDARD
TZOFFSETFROM:+0200
TZOFFSETTO:+0100
TZNAME:CET
DTSTART:20231029T010000
END:STANDARD
BEGIN:DAYLIGHT
TZOFFSETFROM:+0100
TZOFFSETTO:+0200
TZNAME:CEST
DTSTART:20240331T010000
END:DAYLIGHT
BEGIN:STANDARD
TZOFFSETFROM:+0200
TZOFFSETTO:+0100
TZNAME:CET
DTSTART:20241027T010000
END:STANDARD
END:VTIMEZONE
BEGIN:VEVENT
DTSTART;TZID=Europe/Berlin:20230920T100000
DTEND;TZID=Europe/Berlin:20230920T150000
DTSTAMP:20260422T235458
CREATED:20230605T102520Z
LAST-MODIFIED:20230605T102520Z
UID:45115-1695204000-1695222000@www.kommunale-koordinierung.com
SUMMARY:Sprechstunde zu Berufswahl und Ausbildungsvermittlung der HWK
DESCRIPTION:Die Sprechstunde der Handwerkskammer Düsseldorf bietet Gelegenheit\, in Ruhe individuelle Fragen zu klären und persönliche Empfehlungen durch das Beratungspersonal zu erhalten.\nBitte melden Sie sich telefonisch oder per Mail an bei: \nThomas Pohl\nTel.-Nr.: 0211-8795-603\nE-Mail: thomas.pohl@hwk-duesseldorf.de \nDie Sprechstunde findet abhängig von den aktuellen Hygienevorschriften und Ihren Wünschen telefonisch\, per Zoom-Meeting oder vor Ort in der HWK statt. Zusätzlich zu den Sprechstunden können Sie selbstverständlich auch individuelle Termine vereinbaren.
URL:https://www.kommunale-koordinierung.com/event/sprechstunde-zu-berufswahl-und-ausbildungsvermittlung-der-hwk-4/
LOCATION:Handwerkskammer Düsseldorf\, Georg-Schulhoff-Platz 1\, Düsseldorf\, 40221\, Deutschland
CATEGORIES:Ausbildung,Berufliche Orientierung,Eltern & Teens,Mit Anmeldung
END:VEVENT
BEGIN:VEVENT
DTSTART;TZID=Europe/Berlin:20230920T140000
DTEND;TZID=Europe/Berlin:20230920T160000
DTSTAMP:20260422T235458
CREATED:20230829T134006Z
LAST-MODIFIED:20230829T134436Z
UID:46183-1695218400-1695225600@www.kommunale-koordinierung.com
SUMMARY:StuBo-Arbeitskreis der Realschulen am 20.09.23
DESCRIPTION:Wir laden alle Düsseldorfer Realschulen herzlich zur nächsten StuBo-Arbeitskreissitzung ein. \nOrt:\nStiftung PRO AUSBILDUNG\nAchenbachstr. 28\n40237 Düsseldorf \nBitte melden Sie sich unten zu der Veranstaltung an. \nOffizielle Einladung \nBei Fragen wenden Sie sich bitte an:\nEzgi Yildiz\nTelefon: 0211 6690822\nE-Mail: yildiz@unternehmerschaft.de \nDer Arbeitskreis ist eine gemeinsame Veranstaltung der Kommunalen Koordinierung Düsseldorf und des Kompetenzzentrums Berufliche Orientierung mit der Schulaufsicht der Landeshauptstadt Düsseldorf. \n\n \n\n\n\nVorname *\n\n\nNachname *\n\n\n\n\nSchule/Institution *\n\n\n\n\nE-Mail Adresse *\n\n\n\n\nGDPR *Ja\, ich bin mit den Datenschutzbestimmungen einverstanden.\n\n\n \n\n\nNachricht senden\n\n\n\n  \n 
URL:https://www.kommunale-koordinierung.com/event/stubo-arbeitskreis-der-realschulen-am-20-09-23/
LOCATION:Achenbachstr. 28\, 40237 Düsseldorf\, Achenbachstr. 28\, Düsseldorf\, 40237\, Deutschland
CATEGORIES:Berufliche Orientierung,StuBo-Arbeitskreis
END:VEVENT
END:VCALENDAR