BEGIN:VCALENDAR
VERSION:2.0
PRODID:-//Kommunale Koordinierung - ECPv6.15.20//NONSGML v1.0//EN
CALSCALE:GREGORIAN
METHOD:PUBLISH
X-ORIGINAL-URL:https://www.kommunale-koordinierung.com
X-WR-CALDESC:Veranstaltungen für Kommunale Koordinierung
REFRESH-INTERVAL;VALUE=DURATION:PT1H
X-Robots-Tag:noindex
X-PUBLISHED-TTL:PT1H
BEGIN:VTIMEZONE
TZID:Europe/Berlin
BEGIN:DAYLIGHT
TZOFFSETFROM:+0100
TZOFFSETTO:+0200
TZNAME:CEST
DTSTART:20220327T010000
END:DAYLIGHT
BEGIN:STANDARD
TZOFFSETFROM:+0200
TZOFFSETTO:+0100
TZNAME:CET
DTSTART:20221030T010000
END:STANDARD
BEGIN:DAYLIGHT
TZOFFSETFROM:+0100
TZOFFSETTO:+0200
TZNAME:CEST
DTSTART:20230326T010000
END:DAYLIGHT
BEGIN:STANDARD
TZOFFSETFROM:+0200
TZOFFSETTO:+0100
TZNAME:CET
DTSTART:20231029T010000
END:STANDARD
BEGIN:DAYLIGHT
TZOFFSETFROM:+0100
TZOFFSETTO:+0200
TZNAME:CEST
DTSTART:20240331T010000
END:DAYLIGHT
BEGIN:STANDARD
TZOFFSETFROM:+0200
TZOFFSETTO:+0100
TZNAME:CET
DTSTART:20241027T010000
END:STANDARD
END:VTIMEZONE
BEGIN:VEVENT
DTSTART;TZID=Europe/Berlin:20230915T100000
DTEND;TZID=Europe/Berlin:20230915T113000
DTSTAMP:20260422T211125
CREATED:20230911T125118Z
LAST-MODIFIED:20230911T130117Z
UID:46492-1694772000-1694777400@www.kommunale-koordinierung.com
SUMMARY:Runder Tisch Düsseldorf- Steigerung der Fachpraxis an den Berufskollegs
DESCRIPTION:Termin: 15.09.2023\nUhrzeit: 10:00 -11:30 Uhr\nVeranstaltungsort: Rathaus der Landeshauptstadt Düsseldorf\, Sitzungssaal des Haupt-und Finanzausschusses (HFA-Saal) Marktplatz 1\, EG. \n(Eingang blaue Tür auf der rechten Seite vom Rathausplatz aus). \nBitte melden Sie sich unten zur Veranstaltung an. \nBei Fragen wenden Sie sich bitte an:\nGregor Nachtwey (Kommunale Koordinierung Düsseldorf)\nTel.: 0211-899 6310\ngregor.nachtwey@duesseldorf.de\noder \nKlaus Paulus (Bezirksregierung Düsseldorf Dezernat 45)\nTel.: 0211- 475 1855\nklaus.paulus@brd.nrw.de \n\n \n\n\n\nVorname *\n\n\nNachname *\n\n\n\n\nBerufskolleg/Institution *\n\n\n\n\nE-Mail Adresse *\n\n\n\n\nGDPR *Ja\, ich bin mit den Datenschutzbestimmungen einverstanden.\n\n\n \n\n\nNachricht senden\n\n\n\n  \n 
URL:https://www.kommunale-koordinierung.com/event/runder-tisch-duesseldorf-steigerung-der-fachpraxis-an-den-berufskollegs/
LOCATION:Rathaus\, Marktplatz 1\, Düsseldorf\, Deutschland
END:VEVENT
END:VCALENDAR