BEGIN:VCALENDAR
VERSION:2.0
PRODID:-//Kommunale Koordinierung - ECPv6.15.20//NONSGML v1.0//EN
CALSCALE:GREGORIAN
METHOD:PUBLISH
X-ORIGINAL-URL:https://www.kommunale-koordinierung.com
X-WR-CALDESC:Veranstaltungen für Kommunale Koordinierung
REFRESH-INTERVAL;VALUE=DURATION:PT1H
X-Robots-Tag:noindex
X-PUBLISHED-TTL:PT1H
BEGIN:VTIMEZONE
TZID:Europe/Berlin
BEGIN:DAYLIGHT
TZOFFSETFROM:+0100
TZOFFSETTO:+0200
TZNAME:CEST
DTSTART:20220327T010000
END:DAYLIGHT
BEGIN:STANDARD
TZOFFSETFROM:+0200
TZOFFSETTO:+0100
TZNAME:CET
DTSTART:20221030T010000
END:STANDARD
BEGIN:DAYLIGHT
TZOFFSETFROM:+0100
TZOFFSETTO:+0200
TZNAME:CEST
DTSTART:20230326T010000
END:DAYLIGHT
BEGIN:STANDARD
TZOFFSETFROM:+0200
TZOFFSETTO:+0100
TZNAME:CET
DTSTART:20231029T010000
END:STANDARD
BEGIN:DAYLIGHT
TZOFFSETFROM:+0100
TZOFFSETTO:+0200
TZNAME:CEST
DTSTART:20240331T010000
END:DAYLIGHT
BEGIN:STANDARD
TZOFFSETFROM:+0200
TZOFFSETTO:+0100
TZNAME:CET
DTSTART:20241027T010000
END:STANDARD
END:VTIMEZONE
BEGIN:VEVENT
DTSTART;TZID=Europe/Berlin:20230907T100000
DTEND;TZID=Europe/Berlin:20230907T170000
DTSTAMP:20260422T211039
CREATED:20230620T133450Z
LAST-MODIFIED:20250901T080622Z
UID:45255-1694080800-1694106000@www.kommunale-koordinierung.com
SUMMARY:Karrieretag Düsseldorf
DESCRIPTION:Finden Sie Ihren neuen Job: Egal ob Fachkraft\, Führungskraft\, Absolvent bzw. Student\, Young Professional oder Quereinsteiger – kommen Sie hier direkt mit den Personalverantwortlichen ins Gespräch. Sie können sich in Ruhe über grundsätzliche Einstiegsmöglichkeiten informieren\, aber auch direkt konkret über offene Stellenangebote sprechen. \nKostenlos für alle Besucher: CV- und Bewerbungsmappencheck durch erfahrene Profis\, Bewerbungsfotoshootings mit unserem Fotografen\, Coachings durch erfahrene Spezialisten sowie zahlreiche Vorträge rund um die Themen Bewerbung\, Job & Karriere
URL:https://www.kommunale-koordinierung.com/event/karrieretag-duesseldorf/
LOCATION:Alte Federnfabrik/Areal Böhler\, Hansaallee 321\, Düsseldorf\, Deutschland
CATEGORIES:Ausbildung,Berufliche Orientierung,Eltern & Teens,Geflüchtete,Messe,Studienorientierung
END:VEVENT
END:VCALENDAR