BEGIN:VCALENDAR
VERSION:2.0
PRODID:-//Kommunale Koordinierung - ECPv6.15.20//NONSGML v1.0//EN
CALSCALE:GREGORIAN
METHOD:PUBLISH
X-WR-CALNAME:Kommunale Koordinierung
X-ORIGINAL-URL:https://www.kommunale-koordinierung.com
X-WR-CALDESC:Veranstaltungen für Kommunale Koordinierung
REFRESH-INTERVAL;VALUE=DURATION:PT1H
X-Robots-Tag:noindex
X-PUBLISHED-TTL:PT1H
BEGIN:VTIMEZONE
TZID:Europe/Berlin
BEGIN:DAYLIGHT
TZOFFSETFROM:+0100
TZOFFSETTO:+0200
TZNAME:CEST
DTSTART:20220327T010000
END:DAYLIGHT
BEGIN:STANDARD
TZOFFSETFROM:+0200
TZOFFSETTO:+0100
TZNAME:CET
DTSTART:20221030T010000
END:STANDARD
BEGIN:DAYLIGHT
TZOFFSETFROM:+0100
TZOFFSETTO:+0200
TZNAME:CEST
DTSTART:20230326T010000
END:DAYLIGHT
BEGIN:STANDARD
TZOFFSETFROM:+0200
TZOFFSETTO:+0100
TZNAME:CET
DTSTART:20231029T010000
END:STANDARD
BEGIN:DAYLIGHT
TZOFFSETFROM:+0100
TZOFFSETTO:+0200
TZNAME:CEST
DTSTART:20240331T010000
END:DAYLIGHT
BEGIN:STANDARD
TZOFFSETFROM:+0200
TZOFFSETTO:+0100
TZNAME:CET
DTSTART:20241027T010000
END:STANDARD
END:VTIMEZONE
BEGIN:VEVENT
DTSTART;TZID=Europe/Berlin:20230906T100000
DTEND;TZID=Europe/Berlin:20230906T160000
DTSTAMP:20260424T125613
CREATED:20230605T101435Z
LAST-MODIFIED:20230605T101435Z
UID:45104-1693994400-1694016000@www.kommunale-koordinierung.com
SUMMARY:Sprechstunde für Abiturient*innen und Studienzweifelnde der HWK
DESCRIPTION:Die Sprechstunde der Handwerkskammer Düsseldorf bietet Gelegenheit\, in Ruhe individuelle Fragen zu klären und persönliche Empfehlungen durch das Beratungspersonal zu erhalten.\nBitte melden Sie sich telefonisch oder per Mail an bei: \nNadine Rosenau\nTel.-Nr.: 0211-8795-607\nE-Mail: nadine.rosenau@hwk-duesseldorf.de \nSpeziell zum Dualen/Trialen Studium: \nAnn-Katrin Lauf\nTel.-Nr.: 0211-8795-605\nE-Mail: ann-kathrin.lauf@hwk-duesseldorf.de \nDie Sprechstunde findet abhängig von den aktuellen Hygienevorschriften und Ihren Wünschen telefonisch\, per Zoom-Meeting oder vor Ort in der HWK statt. Zusätzlich zu den Sprechstunden können Sie selbstverständlich auch individuelle Termine vereinbaren.
URL:https://www.kommunale-koordinierung.com/event/sprechstunde-fuer-abiturientinnen-und-studienzweifelnde-der-hwk-4/
LOCATION:Handwerkskammer Düsseldorf\, Georg-Schulhoff-Platz 1\, Düsseldorf\, 40221\, Deutschland
CATEGORIES:Berufliche Orientierung,Eltern & Teens,Mit Anmeldung,Studienorientierung
END:VEVENT
BEGIN:VEVENT
DTSTART;TZID=Europe/Berlin:20230906T160000
DTEND;TZID=Europe/Berlin:20230906T170000
DTSTAMP:20260424T125613
CREATED:20220819T112818Z
LAST-MODIFIED:20220819T112818Z
UID:37559-1694016000-1694019600@www.kommunale-koordinierung.com
SUMMARY:Online-Infoveranstaltung der Berufsberatung: Bufdie\, FSj und Co – Überbrückungsmöglichkeiten bis zum nächsten Ausbildungs- / Studienstart
DESCRIPTION:Bufdie\, FSJ\, EQ und Co … Aus Plan B wird Plan A: Du hast vielleicht dieses Jahr noch kein Glück gehabt und bisher noch keine Ausbildung gefunden? Oder du brauchst einfach nochmal ein bisschen Zeit um dir klar zu werden was du machen willst. In dem Online-Seminar der Agentur für Arbeit Düsseldorf werden dir die Möglichkeiten auf ein Jahr oder auch nur 6 Monate sinnvoll zu überbrücken gezeigt. \nWeitere Informationen unter: https://www.arbeitsagentur.de/vor-ort/duesseldorf/berufsberatung
URL:https://www.kommunale-koordinierung.com/event/online-infoveranstaltung-der-berufsberatung-bufdie-fsj-und-co-ueberbrueckungsmoeglichkeiten-bis-zum-naechsten-ausbildungs-studienstart-2/
LOCATION:Online
CATEGORIES:Berufliche Orientierung,Studienorientierung
END:VEVENT
END:VCALENDAR