BEGIN:VCALENDAR
VERSION:2.0
PRODID:-//Kommunale Koordinierung - ECPv6.15.20//NONSGML v1.0//EN
CALSCALE:GREGORIAN
METHOD:PUBLISH
X-WR-CALNAME:Kommunale Koordinierung
X-ORIGINAL-URL:https://www.kommunale-koordinierung.com
X-WR-CALDESC:Veranstaltungen für Kommunale Koordinierung
REFRESH-INTERVAL;VALUE=DURATION:PT1H
X-Robots-Tag:noindex
X-PUBLISHED-TTL:PT1H
BEGIN:VTIMEZONE
TZID:Europe/Berlin
BEGIN:DAYLIGHT
TZOFFSETFROM:+0100
TZOFFSETTO:+0200
TZNAME:CEST
DTSTART:20220327T010000
END:DAYLIGHT
BEGIN:STANDARD
TZOFFSETFROM:+0200
TZOFFSETTO:+0100
TZNAME:CET
DTSTART:20221030T010000
END:STANDARD
BEGIN:DAYLIGHT
TZOFFSETFROM:+0100
TZOFFSETTO:+0200
TZNAME:CEST
DTSTART:20230326T010000
END:DAYLIGHT
BEGIN:STANDARD
TZOFFSETFROM:+0200
TZOFFSETTO:+0100
TZNAME:CET
DTSTART:20231029T010000
END:STANDARD
BEGIN:DAYLIGHT
TZOFFSETFROM:+0100
TZOFFSETTO:+0200
TZNAME:CEST
DTSTART:20240331T010000
END:DAYLIGHT
BEGIN:STANDARD
TZOFFSETFROM:+0200
TZOFFSETTO:+0100
TZNAME:CET
DTSTART:20241027T010000
END:STANDARD
END:VTIMEZONE
BEGIN:VEVENT
DTSTART;TZID=Europe/Berlin:20230826T100000
DTEND;TZID=Europe/Berlin:20230826T130000
DTSTAMP:20260422T224839
CREATED:20230224T115402Z
LAST-MODIFIED:20230904T071005Z
UID:42643-1693044000-1693054800@www.kommunale-koordinierung.com
SUMMARY:SAZUBI - Ausbildungsberatung am Samstag
DESCRIPTION:An einem Samstag pro Quartal veranstaltet die Handwerkskammer Düsseldorf einen großen Beratungstag zum Thema Ausbildung. Ausbildungssuchende\, Azubis und Eltern haben die Möglichkeit\, halbstündige Beratungstermine in der Handwerkskammer zu vereinbaren. \nDie Handwerkskammer berät zu folgenden Themen: \n\nAusbildungsvermittlung (Nadine Rosenau\, Thomas Pohl)\nAusbildungsvermittlung für Geflüchtete (Rex Mähr)\nDuales/Triales Studium (Ann-Kathrin Lauf)\nAuslandsaufenthalte während und nach der Ausbildung (Rebecca Hof)\n\nBitte vereinbaren Sie hier einen Termin bei der entsprechenden Beraterin bzw. dem entsprechenden Berater. \nZur Terminbuchung
URL:https://www.kommunale-koordinierung.com/event/sazubi-ausbildungsberatung-am-samstag-3/
LOCATION:Handwerkskammer Düsseldorf\, Georg-Schulhoff-Platz 1\, Düsseldorf\, 40221\, Deutschland
CATEGORIES:Ausbildung,Berufliche Orientierung,Eltern & Teens,Studienorientierung
END:VEVENT
BEGIN:VEVENT
DTSTART;TZID=Europe/Berlin:20230826T100000
DTEND;TZID=Europe/Berlin:20230826T150000
DTSTAMP:20260422T224839
CREATED:20230814T081553Z
LAST-MODIFIED:20230814T082054Z
UID:45873-1693044000-1693062000@www.kommunale-koordinierung.com
SUMMARY:Berufsinformations-Messe ABI Zukunft Essen
DESCRIPTION:Um euch bei dem so wichtigen Thema der Berufsorientierung zu unterstützen\, findet die  4. ABI Zukunft Essen am Samstag\, 26. August 2023\, in der Zeit von 10:00–15:00 Uhr in der GRUGAHALLE/Messe Essen statt. \nWirtschaft\, Behörden\, gemeinnützige Einrichtungen\, Universitäten und Hochschulen warten auf euch (Schüler/-innen der Jahrgänge 10–13)\, eure Eltern und Lehrkräfte und bieten einen Überblick über die Vielfalt an Informationen für die Zeit nach dem Abitur an: Ausbildung\, Studium\, duales Studium\, Freiwilligendienste\, Stipendienprogramme oder Beratung zu Auslandsaufenthalten. \nDer Eintritt zur Messe ist kostenlos! \nAlle Informationen zur 4. ABI Zukunft Essen findet ihr unter:\nwww.abi-zukunft.de/messe/abi-zukunft-essen
URL:https://www.kommunale-koordinierung.com/event/berufsinformationsmesse-abi-zukunft-essen/
LOCATION:Grugahalle Essen\, Messeplatz 2\, Essen\, Deutschland
CATEGORIES:Berufliche Orientierung,Eltern & Teens,Messe
END:VEVENT
END:VCALENDAR