BEGIN:VCALENDAR
VERSION:2.0
PRODID:-//Kommunale Koordinierung - ECPv6.15.20//NONSGML v1.0//EN
CALSCALE:GREGORIAN
METHOD:PUBLISH
X-ORIGINAL-URL:https://www.kommunale-koordinierung.com
X-WR-CALDESC:Veranstaltungen für Kommunale Koordinierung
REFRESH-INTERVAL;VALUE=DURATION:PT1H
X-Robots-Tag:noindex
X-PUBLISHED-TTL:PT1H
BEGIN:VTIMEZONE
TZID:Europe/Berlin
BEGIN:DAYLIGHT
TZOFFSETFROM:+0100
TZOFFSETTO:+0200
TZNAME:CEST
DTSTART:20220327T010000
END:DAYLIGHT
BEGIN:STANDARD
TZOFFSETFROM:+0200
TZOFFSETTO:+0100
TZNAME:CET
DTSTART:20221030T010000
END:STANDARD
BEGIN:DAYLIGHT
TZOFFSETFROM:+0100
TZOFFSETTO:+0200
TZNAME:CEST
DTSTART:20230326T010000
END:DAYLIGHT
BEGIN:STANDARD
TZOFFSETFROM:+0200
TZOFFSETTO:+0100
TZNAME:CET
DTSTART:20231029T010000
END:STANDARD
BEGIN:DAYLIGHT
TZOFFSETFROM:+0100
TZOFFSETTO:+0200
TZNAME:CEST
DTSTART:20240331T010000
END:DAYLIGHT
BEGIN:STANDARD
TZOFFSETFROM:+0200
TZOFFSETTO:+0100
TZNAME:CET
DTSTART:20241027T010000
END:STANDARD
END:VTIMEZONE
BEGIN:VEVENT
DTSTART;TZID=Europe/Berlin:20230629T150000
DTEND;TZID=Europe/Berlin:20230629T180000
DTSTAMP:20260423T001642
CREATED:20230623T052641Z
LAST-MODIFIED:20230623T052641Z
UID:45332-1688050800-1688061600@www.kommunale-koordinierung.com
SUMMARY:"Ausbildung for Future" in der Stadtbücherei Flingern
DESCRIPTION:Die Bundessagentur für Arbeit Düsseldorf bietet am Donnerstag\, 29. Juni\, von 15 bis 18 Uhr eine kostenlose\, individuelle Beratung für Jugendliche und Eltern in der Stadtteilbücherei Flingern\, Hoffeldstraße 69\, an. \nDort werden unter anderem Fragen beantwortet wie „Wie kann es nach der Schule weitergehen?“ „Welcher Beruf passt zu Dir und wie erreicht man diesen?“ „Wie können Eltern ihre Kinder im vielfältigen Dschungel der Berufsorientierung bestmöglich unterstützen?“ \nEine Anmeldung ist nicht erforderlich.
URL:https://www.kommunale-koordinierung.com/event/ausbildung-for-future-in-der-stadtbuecherei-flingern/
LOCATION:Stadtbücherei Flingern\, Hoffeldstraße 69\, Düsseldorf\, 40235
CATEGORIES:Ausbildung,Berufliche Orientierung,Eltern & Teens,Studienorientierung
END:VEVENT
END:VCALENDAR