BEGIN:VCALENDAR
VERSION:2.0
PRODID:-//Kommunale Koordinierung - ECPv6.15.20//NONSGML v1.0//EN
CALSCALE:GREGORIAN
METHOD:PUBLISH
X-WR-CALNAME:Kommunale Koordinierung
X-ORIGINAL-URL:https://www.kommunale-koordinierung.com
X-WR-CALDESC:Veranstaltungen für Kommunale Koordinierung
REFRESH-INTERVAL;VALUE=DURATION:PT1H
X-Robots-Tag:noindex
X-PUBLISHED-TTL:PT1H
BEGIN:VTIMEZONE
TZID:Europe/Berlin
BEGIN:DAYLIGHT
TZOFFSETFROM:+0100
TZOFFSETTO:+0200
TZNAME:CEST
DTSTART:20220327T010000
END:DAYLIGHT
BEGIN:STANDARD
TZOFFSETFROM:+0200
TZOFFSETTO:+0100
TZNAME:CET
DTSTART:20221030T010000
END:STANDARD
BEGIN:DAYLIGHT
TZOFFSETFROM:+0100
TZOFFSETTO:+0200
TZNAME:CEST
DTSTART:20230326T010000
END:DAYLIGHT
BEGIN:STANDARD
TZOFFSETFROM:+0200
TZOFFSETTO:+0100
TZNAME:CET
DTSTART:20231029T010000
END:STANDARD
BEGIN:DAYLIGHT
TZOFFSETFROM:+0100
TZOFFSETTO:+0200
TZNAME:CEST
DTSTART:20240331T010000
END:DAYLIGHT
BEGIN:STANDARD
TZOFFSETFROM:+0200
TZOFFSETTO:+0100
TZNAME:CET
DTSTART:20241027T010000
END:STANDARD
END:VTIMEZONE
BEGIN:VEVENT
DTSTART;TZID=Europe/Berlin:20230628T120000
DTEND;TZID=Europe/Berlin:20230628T160000
DTSTAMP:20260423T001524
CREATED:20230620T144319Z
LAST-MODIFIED:20230621T071328Z
UID:45273-1687953600-1687968000@www.kommunale-koordinierung.com
SUMMARY:Ausbildung to go der IHK Düsseldorf
DESCRIPTION:Deine Zukunft ist dir nicht latte? Wir haben Ausbildungsplätze für dich herausgefiltert! Ab Anfang Juni ist das IHK-Matchingteam mit einem großen Angebot an frischen Ausbildungsplätzen in den Innenstädten von Düsseldorf und im Kreis Mettmann präsent. Wir informieren junge Leute und ihre Eltern über freie Ausbildungsplätze für dieses Ausbildungsjahr und beraten um alle Fragen rund um Ausbildung. \nWeitere Informationen:\nwww.ihk.de/duesseldorf/ausbildungklarmachen/artikel/veranstaltungen-4825984
URL:https://www.kommunale-koordinierung.com/event/ausbildungsbus-der-ihk-duesseldorf-2/
LOCATION:Schadowplatz/Ecke P&C\, Berliner Allee 1\, Düsseldorf
CATEGORIES:Ausbildung,Berufliche Orientierung,Eltern & Teens,Geflüchtete
END:VEVENT
END:VCALENDAR