BEGIN:VCALENDAR
VERSION:2.0
PRODID:-//Kommunale Koordinierung - ECPv6.15.20//NONSGML v1.0//EN
CALSCALE:GREGORIAN
METHOD:PUBLISH
X-WR-CALNAME:Kommunale Koordinierung
X-ORIGINAL-URL:https://www.kommunale-koordinierung.com
X-WR-CALDESC:Veranstaltungen für Kommunale Koordinierung
REFRESH-INTERVAL;VALUE=DURATION:PT1H
X-Robots-Tag:noindex
X-PUBLISHED-TTL:PT1H
BEGIN:VTIMEZONE
TZID:Europe/Berlin
BEGIN:DAYLIGHT
TZOFFSETFROM:+0100
TZOFFSETTO:+0200
TZNAME:CEST
DTSTART:20220327T010000
END:DAYLIGHT
BEGIN:STANDARD
TZOFFSETFROM:+0200
TZOFFSETTO:+0100
TZNAME:CET
DTSTART:20221030T010000
END:STANDARD
BEGIN:DAYLIGHT
TZOFFSETFROM:+0100
TZOFFSETTO:+0200
TZNAME:CEST
DTSTART:20230326T010000
END:DAYLIGHT
BEGIN:STANDARD
TZOFFSETFROM:+0200
TZOFFSETTO:+0100
TZNAME:CET
DTSTART:20231029T010000
END:STANDARD
BEGIN:DAYLIGHT
TZOFFSETFROM:+0100
TZOFFSETTO:+0200
TZNAME:CEST
DTSTART:20240331T010000
END:DAYLIGHT
BEGIN:STANDARD
TZOFFSETFROM:+0200
TZOFFSETTO:+0100
TZNAME:CET
DTSTART:20241027T010000
END:STANDARD
END:VTIMEZONE
BEGIN:VEVENT
DTSTART;TZID=Europe/Berlin:20230620T100000
DTEND;TZID=Europe/Berlin:20230620T140000
DTSTAMP:20260423T013536
CREATED:20230530T123600Z
LAST-MODIFIED:20230530T123600Z
UID:45027-1687255200-1687269600@www.kommunale-koordinierung.com
SUMMARY:Schule vorbei - was kommt jetzt? Beratungstag in der Arbeitsagentur
DESCRIPTION:Die Schule ist vorbei\, doch du hast noch keinen Plan für die Zeit nach den Ferien? Mit der Ausbildungssuche läuft es nicht wie erhofft? \nAm 20.06.2023 hast du von 10-14 Uhr die Möglichkeit\, dich im Beratungscenter der Arbeitsagentur Düsseldorf (Erdgeschoss) zu deinen Perspektiven nach dem Schulabschluss beraten zu lassen. \nOb Ausbildung\, weiterführender Schulbesuch oder Überbrückungsmöglichkeiten wie FSJ oder BvB – die Berufsberatung bespricht mit dir deine Möglichkeiten! \nEine vorherige Anmeldung ist nicht notwendig\, komm einfach zwischen 10-14 Uhr vorbei. Deine Eltern können natürlich auch mitkommen. \nBei Fragen und Anliegen ist die Berufsberatung für dich da: Duesseldorf.Berufsberatung@arbeitsagentur.de
URL:https://www.kommunale-koordinierung.com/event/schule-vorbei-was-kommt-jetzt-beratungstag-in-der-arbeitsagentur/
LOCATION:B.i.Z.\, Agentur für Arbeit Düsseldorf\, Grafenberger Allee 300\, Düsseldorf\, 40237\, Deutschland
CATEGORIES:Ausbildung,Berufliche Orientierung,Berufskolleg,Eltern & Teens
END:VEVENT
END:VCALENDAR