BEGIN:VCALENDAR
VERSION:2.0
PRODID:-//Kommunale Koordinierung - ECPv6.15.20//NONSGML v1.0//EN
CALSCALE:GREGORIAN
METHOD:PUBLISH
X-WR-CALNAME:Kommunale Koordinierung
X-ORIGINAL-URL:https://www.kommunale-koordinierung.com
X-WR-CALDESC:Veranstaltungen für Kommunale Koordinierung
REFRESH-INTERVAL;VALUE=DURATION:PT1H
X-Robots-Tag:noindex
X-PUBLISHED-TTL:PT1H
BEGIN:VTIMEZONE
TZID:Europe/Berlin
BEGIN:DAYLIGHT
TZOFFSETFROM:+0100
TZOFFSETTO:+0200
TZNAME:CEST
DTSTART:20220327T010000
END:DAYLIGHT
BEGIN:STANDARD
TZOFFSETFROM:+0200
TZOFFSETTO:+0100
TZNAME:CET
DTSTART:20221030T010000
END:STANDARD
BEGIN:DAYLIGHT
TZOFFSETFROM:+0100
TZOFFSETTO:+0200
TZNAME:CEST
DTSTART:20230326T010000
END:DAYLIGHT
BEGIN:STANDARD
TZOFFSETFROM:+0200
TZOFFSETTO:+0100
TZNAME:CET
DTSTART:20231029T010000
END:STANDARD
BEGIN:DAYLIGHT
TZOFFSETFROM:+0100
TZOFFSETTO:+0200
TZNAME:CEST
DTSTART:20240331T010000
END:DAYLIGHT
BEGIN:STANDARD
TZOFFSETFROM:+0200
TZOFFSETTO:+0100
TZNAME:CET
DTSTART:20241027T010000
END:STANDARD
END:VTIMEZONE
BEGIN:VEVENT
DTSTART;TZID=Europe/Berlin:20230619T170000
DTEND;TZID=Europe/Berlin:20230619T190000
DTSTAMP:20260423T014844
CREATED:20230530T100242Z
LAST-MODIFIED:20230530T123400Z
UID:44994-1687194000-1687201200@www.kommunale-koordinierung.com
SUMMARY:Perspektiven nach dem Schulabschluss – Elternveranstaltung (Schwerpunkt Sekundarstufe I)
DESCRIPTION:Das Schuljahr ist beendet und Ihr Kind hat noch keine Anschlussperspektive? Dann ist dieser Elternabend genau die passende Veranstaltung für Sie! \nFolgende Themen werden besprochen:\n– der weiterführende Schulbesuch\n– die Suche und Aufnahme einer Ausbildung\n– mögliche Übergangsoptionen (Freiwilliges Jahr\, Berufsvorbereitung u.a.) \nDie Veranstaltung findet im Beratungscenter der Agentur für Arbeit statt. \nWeitere Informationen:\nhttps://web.arbeitsagentur.de/portal/metasuche/suche/veranstaltungen/10000-2000685370-V
URL:https://www.kommunale-koordinierung.com/event/perspektiven-nach-dem-schulabschluss-elternveranstaltung-schwerpunkt-sekundarstufe-i/
LOCATION:B.i.Z.\, Agentur für Arbeit Düsseldorf\, Grafenberger Allee 300\, Düsseldorf\, 40237\, Deutschland
CATEGORIES:Berufliche Orientierung,Eltern & Teens
END:VEVENT
END:VCALENDAR