BEGIN:VCALENDAR
VERSION:2.0
PRODID:-//Kommunale Koordinierung - ECPv6.15.20//NONSGML v1.0//EN
CALSCALE:GREGORIAN
METHOD:PUBLISH
X-WR-CALNAME:Kommunale Koordinierung
X-ORIGINAL-URL:https://www.kommunale-koordinierung.com
X-WR-CALDESC:Veranstaltungen für Kommunale Koordinierung
REFRESH-INTERVAL;VALUE=DURATION:PT1H
X-Robots-Tag:noindex
X-PUBLISHED-TTL:PT1H
BEGIN:VTIMEZONE
TZID:Europe/Berlin
BEGIN:DAYLIGHT
TZOFFSETFROM:+0100
TZOFFSETTO:+0200
TZNAME:CEST
DTSTART:20220327T010000
END:DAYLIGHT
BEGIN:STANDARD
TZOFFSETFROM:+0200
TZOFFSETTO:+0100
TZNAME:CET
DTSTART:20221030T010000
END:STANDARD
BEGIN:DAYLIGHT
TZOFFSETFROM:+0100
TZOFFSETTO:+0200
TZNAME:CEST
DTSTART:20230326T010000
END:DAYLIGHT
BEGIN:STANDARD
TZOFFSETFROM:+0200
TZOFFSETTO:+0100
TZNAME:CET
DTSTART:20231029T010000
END:STANDARD
BEGIN:DAYLIGHT
TZOFFSETFROM:+0100
TZOFFSETTO:+0200
TZNAME:CEST
DTSTART:20240331T010000
END:DAYLIGHT
BEGIN:STANDARD
TZOFFSETFROM:+0200
TZOFFSETTO:+0100
TZNAME:CET
DTSTART:20241027T010000
END:STANDARD
END:VTIMEZONE
BEGIN:VEVENT
DTSTART;TZID=Europe/Berlin:20230617T100000
DTEND;TZID=Europe/Berlin:20230617T130000
DTSTAMP:20260423T014752
CREATED:20230224T115228Z
LAST-MODIFIED:20230620T123419Z
UID:42640-1686996000-1687006800@www.kommunale-koordinierung.com
SUMMARY:SAZUBI - Ausbildungsberatung am Samstag
DESCRIPTION:An einem Samstag pro Quartal veranstaltet die Handwerkskammer Düsseldorf einen großen Beratungstag zum Thema Ausbildung. Ausbildungssuchende\, Azubis und Eltern haben die Möglichkeit\, halbstündige Beratungstermine in der Handwerkskammer zu vereinbaren. \nDie Handwerkskammer berät zu folgenden Themen: \n\nAusbildungsvermittlung (Nadine Rosenau\, Thomas Pohl)\nAusbildungsvermittlung für Geflüchtete (Rex Mähr)\nDuales/Triales Studium (Ann-Kathrin Lauf)\nAuslandsaufenthalte während und nach der Ausbildung (Rebecca Hof)\n\nBitte vereinbaren Sie hier einen Termin bei der entsprechenden Beraterin bzw. dem entsprechenden Berater.
URL:https://www.kommunale-koordinierung.com/event/sazubi-ausbildungsberatung-am-samstag-2/
LOCATION:Handwerkskammer Düsseldorf\, Georg-Schulhoff-Platz 1\, Düsseldorf\, 40221\, Deutschland
CATEGORIES:Ausbildung,Berufliche Orientierung,Eltern & Teens,Studienorientierung
END:VEVENT
END:VCALENDAR