BEGIN:VCALENDAR
VERSION:2.0
PRODID:-//Kommunale Koordinierung - ECPv6.15.20//NONSGML v1.0//EN
CALSCALE:GREGORIAN
METHOD:PUBLISH
X-ORIGINAL-URL:https://www.kommunale-koordinierung.com
X-WR-CALDESC:Veranstaltungen für Kommunale Koordinierung
REFRESH-INTERVAL;VALUE=DURATION:PT1H
X-Robots-Tag:noindex
X-PUBLISHED-TTL:PT1H
BEGIN:VTIMEZONE
TZID:Europe/Berlin
BEGIN:DAYLIGHT
TZOFFSETFROM:+0100
TZOFFSETTO:+0200
TZNAME:CEST
DTSTART:20220327T010000
END:DAYLIGHT
BEGIN:STANDARD
TZOFFSETFROM:+0200
TZOFFSETTO:+0100
TZNAME:CET
DTSTART:20221030T010000
END:STANDARD
BEGIN:DAYLIGHT
TZOFFSETFROM:+0100
TZOFFSETTO:+0200
TZNAME:CEST
DTSTART:20230326T010000
END:DAYLIGHT
BEGIN:STANDARD
TZOFFSETFROM:+0200
TZOFFSETTO:+0100
TZNAME:CET
DTSTART:20231029T010000
END:STANDARD
BEGIN:DAYLIGHT
TZOFFSETFROM:+0100
TZOFFSETTO:+0200
TZNAME:CEST
DTSTART:20240331T010000
END:DAYLIGHT
BEGIN:STANDARD
TZOFFSETFROM:+0200
TZOFFSETTO:+0100
TZNAME:CET
DTSTART:20241027T010000
END:STANDARD
END:VTIMEZONE
BEGIN:VEVENT
DTSTART;TZID=Europe/Berlin:20230603T100000
DTEND;TZID=Europe/Berlin:20230603T150000
DTSTAMP:20260423T015050
CREATED:20230530T135557Z
LAST-MODIFIED:20230530T140538Z
UID:45039-1685786400-1685804400@www.kommunale-koordinierung.com
SUMMARY:HHU - Hochschulinformationstag
DESCRIPTION:Am Samstag\, dem 3. Juni 2023\, laden die Heinrich-Heine-Universität Düsseldorf und die Hochschule Düsseldorf zum Hochschulinformationstag (HIT) ein. \nZusammen mit weiteren Partnern informieren sie über die Studienmöglichkeiten in Düsseldorf und über alles Wissenswerte rund ums Studium: \n\nVorstellung der verschiedenen Studienfächer und der Berufsperspektiven nach dem Studium\,\nBewerbungsverfahren für Studienplätze\,\nGespräche mit Forschenden\, Lehrenden und Studierenden\,\nWissenswertes zur Studienfinanzierung und zum Auslandsstudium\,\nMitwirkungsmöglichkeiten für Studierende in Fachschaften\, im Studierendenparlament und im AStA\, dem Allgemeinen Studierendenausschuss\,\nEinblicke in das Campusleben: Hochschulsport\, Filmfest\, Hochschulradio und vieles mehr.\n\nEine Anmeldung ist nicht erforderlich. \nOrt der Veranstaltung: \nHeinrich-Heine-Universität Düsseldorf\nGebäude 22.01 | 23.01 und im Gebäude des Studierenden Service Center (SSC)\nUniversitätsstraße 1\n40225 Düsseldorf \nWeitere Infos finden Sie unter: www.hochschulinformationstag.de
URL:https://www.kommunale-koordinierung.com/event/hhu-hochschulinformationstag/
LOCATION:Heinrich-Heine-Universität Düsseldorf\, Hochschule Düsseldorf\, Hochschulen in ganz NRW\, Nordrhein-Westfalen
CATEGORIES:Eltern & Teens,Studienorientierung
END:VEVENT
END:VCALENDAR