BEGIN:VCALENDAR
VERSION:2.0
PRODID:-//Kommunale Koordinierung - ECPv6.15.20//NONSGML v1.0//EN
CALSCALE:GREGORIAN
METHOD:PUBLISH
X-WR-CALNAME:Kommunale Koordinierung
X-ORIGINAL-URL:https://www.kommunale-koordinierung.com
X-WR-CALDESC:Veranstaltungen für Kommunale Koordinierung
REFRESH-INTERVAL;VALUE=DURATION:PT1H
X-Robots-Tag:noindex
X-PUBLISHED-TTL:PT1H
BEGIN:VTIMEZONE
TZID:Europe/Berlin
BEGIN:DAYLIGHT
TZOFFSETFROM:+0100
TZOFFSETTO:+0200
TZNAME:CEST
DTSTART:20220327T010000
END:DAYLIGHT
BEGIN:STANDARD
TZOFFSETFROM:+0200
TZOFFSETTO:+0100
TZNAME:CET
DTSTART:20221030T010000
END:STANDARD
BEGIN:DAYLIGHT
TZOFFSETFROM:+0100
TZOFFSETTO:+0200
TZNAME:CEST
DTSTART:20230326T010000
END:DAYLIGHT
BEGIN:STANDARD
TZOFFSETFROM:+0200
TZOFFSETTO:+0100
TZNAME:CET
DTSTART:20231029T010000
END:STANDARD
BEGIN:DAYLIGHT
TZOFFSETFROM:+0100
TZOFFSETTO:+0200
TZNAME:CEST
DTSTART:20240331T010000
END:DAYLIGHT
BEGIN:STANDARD
TZOFFSETFROM:+0200
TZOFFSETTO:+0100
TZNAME:CET
DTSTART:20241027T010000
END:STANDARD
END:VTIMEZONE
BEGIN:VEVENT
DTSTART;TZID=Europe/Berlin:20230426T100000
DTEND;TZID=Europe/Berlin:20230426T160000
DTSTAMP:20260423T050127
CREATED:20230206T124621Z
LAST-MODIFIED:20230206T124621Z
UID:42538-1682503200-1682524800@www.kommunale-koordinierung.com
SUMMARY:HWK und IHK zu Gast im BiZ - Future to go: Ausbildung zum Mitnehmen
DESCRIPTION:Am 22.02.\, 22.03. und 26.04.\, jeweils von 10-16 Uhr sind die Beratungsfachkräfte der Handwerkskammer (HWK) und der Industrie- und Handelskammer (IHK) zu Gast im BiZ der Agentur für Arbeit und beraten rund um Ausbildung\, duales Studium und vieles mehr! \nKomm vorbei und lass dich beraten! \nEine Anmeldung ist nicht erforderlich. Auch Eltern sind herzlich willkommen! \nWeitere Informationen & Kontaktdaten:\nFlyer
URL:https://www.kommunale-koordinierung.com/event/hwk-und-ihk-zu-gast-im-biz-26-04/
LOCATION:B.i.Z.\, Agentur für Arbeit Düsseldorf\, Grafenberger Allee 300\, Düsseldorf\, 40237\, Deutschland
CATEGORIES:Berufliche Orientierung,Eltern & Teens,Lehrkräfte
END:VEVENT
BEGIN:VEVENT
DTSTART;TZID=Europe/Berlin:20230426T160000
DTEND;TZID=Europe/Berlin:20230426T170000
DTSTAMP:20260423T050127
CREATED:20220819T112447Z
LAST-MODIFIED:20230420T071235Z
UID:37554-1682524800-1682528400@www.kommunale-koordinierung.com
SUMMARY:Eine Karriere\, tausend Facetten - bei der BA wirst du zum Kommunikationsprofi: Ausbildung & Studium bei der Agentur für Arbeit
DESCRIPTION:Eine Karriere – tausend Facetten. Mit der Berufsberatung der Agentur für Arbeit Düsseldorf wirst du zum Kommunikationsprofi: Starte deine Karriere bei der Bundesagentur für Arbeit. Ausbildung oder Studium\, –  bei uns geht beides. Wir zeigen dir\, wie. \nInfoflyer mit Zugangslink (keine Anmeldung notwendig) \nAnmeldelink
URL:https://www.kommunale-koordinierung.com/event/online-infoveranstaltung-der-berufsberatung-ausbildung-studium-bei-der-agentur-fuer-arbeit/
LOCATION:Online
CATEGORIES:Berufliche Orientierung,Studienorientierung
END:VEVENT
END:VCALENDAR