BEGIN:VCALENDAR
VERSION:2.0
PRODID:-//Kommunale Koordinierung - ECPv6.15.20//NONSGML v1.0//EN
CALSCALE:GREGORIAN
METHOD:PUBLISH
X-WR-CALNAME:Kommunale Koordinierung
X-ORIGINAL-URL:https://www.kommunale-koordinierung.com
X-WR-CALDESC:Veranstaltungen für Kommunale Koordinierung
REFRESH-INTERVAL;VALUE=DURATION:PT1H
X-Robots-Tag:noindex
X-PUBLISHED-TTL:PT1H
BEGIN:VTIMEZONE
TZID:Europe/Berlin
BEGIN:DAYLIGHT
TZOFFSETFROM:+0100
TZOFFSETTO:+0200
TZNAME:CEST
DTSTART:20220327T010000
END:DAYLIGHT
BEGIN:STANDARD
TZOFFSETFROM:+0200
TZOFFSETTO:+0100
TZNAME:CET
DTSTART:20221030T010000
END:STANDARD
BEGIN:DAYLIGHT
TZOFFSETFROM:+0100
TZOFFSETTO:+0200
TZNAME:CEST
DTSTART:20230326T010000
END:DAYLIGHT
BEGIN:STANDARD
TZOFFSETFROM:+0200
TZOFFSETTO:+0100
TZNAME:CET
DTSTART:20231029T010000
END:STANDARD
BEGIN:DAYLIGHT
TZOFFSETFROM:+0100
TZOFFSETTO:+0200
TZNAME:CEST
DTSTART:20240331T010000
END:DAYLIGHT
BEGIN:STANDARD
TZOFFSETFROM:+0200
TZOFFSETTO:+0100
TZNAME:CET
DTSTART:20241027T010000
END:STANDARD
END:VTIMEZONE
BEGIN:VEVENT
DTSTART;VALUE=DATE:20230406
DTEND;VALUE=DATE:20230415
DTSTAMP:20260423T050014
CREATED:20221018T110251Z
LAST-MODIFIED:20221018T110251Z
UID:40905-1680739200-1681516799@www.kommunale-koordinierung.com
SUMMARY:Das Schnupperstudium im Fachbereich Sozial- und Kulturwissenschaften an der Hochschule Düsseldorf
DESCRIPTION:Wir freuen uns\, bekannt geben zu können\, dass die Vorebereitungen für das nächste Schnupperstudium  bereits laufen! Es wird in den Osterferien 2023 im Fachbereich Sozial- und Kulturwissenschaften stattfinden. Es bietet Ihnen die Gelegenheit\, eine Woche lang in die Studiengänge Sozialarbeit/Sozialpädagogik sowie Kindheitspädagogik und Familienbildung zu schnuppern. Sie können ausgewählte Vorlesungen und Seminare besuchen\, den Campus erkunden und unter anderem Bibliothek und Mensa kennenlernen. Also Save the Date: zwischen 6. und 14. April 2023.
URL:https://www.kommunale-koordinierung.com/event/das-schnupperstudium-im-fachbereich-sozial-und-kulturwissenschaften-an-der-hochschule-duesseldorf/
CATEGORIES:Berufliche Orientierung,Eltern & Teens,Kommunale Koordinierungsstellen,Lehrkräfte,Schulen,StuBo-Arbeitskreis,Studienorientierung
END:VEVENT
BEGIN:VEVENT
DTSTART;TZID=Europe/Berlin:20230411T080000
DTEND;TZID=Europe/Berlin:20230413T170000
DTSTAMP:20260423T050014
CREATED:20230307T114710Z
LAST-MODIFIED:20230707T111940Z
UID:43221-1681200000-1681405200@www.kommunale-koordinierung.com
SUMMARY:Schnupperstudium im Fachbereich Sozial- und Kulturwissenschaften der HSD
DESCRIPTION:Kennen Sie schon das Schnupperstudium im Fachbereich Sozial- und Kulturwissenschaften?\nEs bietet Ihnen die Gelegenheit\, sich einen authentischen Einblick vom Studienalltag der beiden pädagogischen Bachelor-Studiengänge Sozialarbeit/Sozialpädagogik sowie Kindheitspädagogik und Familienbildung zu machen. \nWann: 06.04. und 11.04. – 13.04.2023\nAnmeldung bis 03.04.2023 möglich\, max. 20 Teilnehmende
URL:https://www.kommunale-koordinierung.com/event/schnupperstudium-im-fachbereich-sozial-und-kulturwissenschaften-der-hsd/
LOCATION:Hochschule Düsseldorf\, Münsterstraße 156\, 40476 Düsseldorf\, Deutschland
CATEGORIES:Berufliche Orientierung,Lehrkräfte,Schulen,StuBos,Studienorientierung
END:VEVENT
END:VCALENDAR