BEGIN:VCALENDAR
VERSION:2.0
PRODID:-//Kommunale Koordinierung - ECPv6.15.20//NONSGML v1.0//EN
CALSCALE:GREGORIAN
METHOD:PUBLISH
X-ORIGINAL-URL:https://www.kommunale-koordinierung.com
X-WR-CALDESC:Veranstaltungen für Kommunale Koordinierung
REFRESH-INTERVAL;VALUE=DURATION:PT1H
X-Robots-Tag:noindex
X-PUBLISHED-TTL:PT1H
BEGIN:VTIMEZONE
TZID:Europe/Berlin
BEGIN:DAYLIGHT
TZOFFSETFROM:+0100
TZOFFSETTO:+0200
TZNAME:CEST
DTSTART:20220327T010000
END:DAYLIGHT
BEGIN:STANDARD
TZOFFSETFROM:+0200
TZOFFSETTO:+0100
TZNAME:CET
DTSTART:20221030T010000
END:STANDARD
BEGIN:DAYLIGHT
TZOFFSETFROM:+0100
TZOFFSETTO:+0200
TZNAME:CEST
DTSTART:20230326T010000
END:DAYLIGHT
BEGIN:STANDARD
TZOFFSETFROM:+0200
TZOFFSETTO:+0100
TZNAME:CET
DTSTART:20231029T010000
END:STANDARD
BEGIN:DAYLIGHT
TZOFFSETFROM:+0100
TZOFFSETTO:+0200
TZNAME:CEST
DTSTART:20240331T010000
END:DAYLIGHT
BEGIN:STANDARD
TZOFFSETFROM:+0200
TZOFFSETTO:+0100
TZNAME:CET
DTSTART:20241027T010000
END:STANDARD
END:VTIMEZONE
BEGIN:VEVENT
DTSTART;TZID=Europe/Berlin:20230322T100000
DTEND;TZID=Europe/Berlin:20230322T160000
DTSTAMP:20260423T080337
CREATED:20230206T124515Z
LAST-MODIFIED:20230206T124515Z
UID:42536-1679479200-1679500800@www.kommunale-koordinierung.com
SUMMARY:HWK und IHK zu Gast im BiZ - Future to go: Ausbildung zum Mitnehmen
DESCRIPTION:Am 22.02.\, 22.03. und 26.04.\, jeweils von 10-16 Uhr sind die Beratungsfachkräfte der Handwerkskammer (HWK) und der Industrie- und Handelskammer (IHK) zu Gast im BiZ der Agentur für Arbeit und beraten rund um Ausbildung\, duales Studium und vieles mehr! \nKomm vorbei und lass dich beraten! \nEine Anmeldung ist nicht erforderlich. Auch Eltern sind herzlich willkommen! \nWeitere Informationen & Kontaktdaten:\nFlyer
URL:https://www.kommunale-koordinierung.com/event/hwk-und-ihk-zu-gast-im-biz-22-03/
LOCATION:B.i.Z.\, Agentur für Arbeit Düsseldorf\, Grafenberger Allee 300\, Düsseldorf\, 40237\, Deutschland
CATEGORIES:Berufliche Orientierung,Eltern & Teens,Lehrkräfte
END:VEVENT
END:VCALENDAR