BEGIN:VCALENDAR
VERSION:2.0
PRODID:-//Kommunale Koordinierung - ECPv6.15.20//NONSGML v1.0//EN
CALSCALE:GREGORIAN
METHOD:PUBLISH
X-ORIGINAL-URL:https://www.kommunale-koordinierung.com
X-WR-CALDESC:Veranstaltungen für Kommunale Koordinierung
REFRESH-INTERVAL;VALUE=DURATION:PT1H
X-Robots-Tag:noindex
X-PUBLISHED-TTL:PT1H
BEGIN:VTIMEZONE
TZID:Europe/Berlin
BEGIN:DAYLIGHT
TZOFFSETFROM:+0100
TZOFFSETTO:+0200
TZNAME:CEST
DTSTART:20220327T010000
END:DAYLIGHT
BEGIN:STANDARD
TZOFFSETFROM:+0200
TZOFFSETTO:+0100
TZNAME:CET
DTSTART:20221030T010000
END:STANDARD
BEGIN:DAYLIGHT
TZOFFSETFROM:+0100
TZOFFSETTO:+0200
TZNAME:CEST
DTSTART:20230326T010000
END:DAYLIGHT
BEGIN:STANDARD
TZOFFSETFROM:+0200
TZOFFSETTO:+0100
TZNAME:CET
DTSTART:20231029T010000
END:STANDARD
BEGIN:DAYLIGHT
TZOFFSETFROM:+0100
TZOFFSETTO:+0200
TZNAME:CEST
DTSTART:20240331T010000
END:DAYLIGHT
BEGIN:STANDARD
TZOFFSETFROM:+0200
TZOFFSETTO:+0100
TZNAME:CET
DTSTART:20241027T010000
END:STANDARD
END:VTIMEZONE
BEGIN:VEVENT
DTSTART;TZID=Europe/Berlin:20230313T100000
DTEND;TZID=Europe/Berlin:20230316T140000
DTSTAMP:20260423T075241
CREATED:20230228T145922Z
LAST-MODIFIED:20241114T131247Z
UID:42689-1678701600-1678975200@www.kommunale-koordinierung.com
SUMMARY:Bewerbungsmappen-Check vor Ort – schnelle Unterstützung im Jobcenter Düsseldorf
DESCRIPTION:Komm vorbei uns lass deine Bewerbungsunterlagen checken! \nWoche der Ausbildung bei der Agentur für Arbeit Düsseldorf vom 13. bis 17. März: Wer noch keinen Plan hat\, macht sich einen. Informiere dich über Ausbildungen in Düsseldorf und nimm an den Veranstaltungen zur „Woche der Ausbildung“ der Agentur für Arbeit Düsseldorf teil. \nWeitere Informationen gibt es hier:\nWoche der Ausbildung 13. bis 19. März 2023
URL:https://www.kommunale-koordinierung.com/event/bewerbungsmappen-check-vor-ort-schnelle-unterstuetzung-im-jobcenter-duesseldorf/
LOCATION:Jobcenter Düsseldorf
CATEGORIES:Ausbildung,Eltern & Teens
END:VEVENT
BEGIN:VEVENT
DTSTART;TZID=Europe/Berlin:20230314T140000
DTEND;TZID=Europe/Berlin:20230314T153000
DTSTAMP:20260423T075241
CREATED:20230307T113608Z
LAST-MODIFIED:20230307T114254Z
UID:43215-1678802400-1678807800@www.kommunale-koordinierung.com
SUMMARY:Campusführung der Hochschule Düsseldorf
DESCRIPTION:Wie sieht der Campus der Hochschule Düsseldorf aus? Wo sind welche Fachbereiche untergebracht\, wo die Bibliothek und die Mensa? \nNehmen Sie teil an der Campusführung der Zentralen Studienberatung (ZSB) und lernen Sie unseren Campus kennen!\nSie erfahren nebenbei auch einiges über die Hochschule Düsseldorf\, das Studienangebot und können Einblicke in manche Werkstatt und manches Labor erlangen. \nJetzt anmeldung zur Campusführung am 14.03.23!
URL:https://www.kommunale-koordinierung.com/event/campusfuehrung-der-hochschule-duesseldorf/
LOCATION:Hochschule Düsseldorf\, Münsterstraße 156\, 40476 Düsseldorf\, Deutschland
CATEGORIES:Eltern & Teens,Lehrkräfte,Schulen,StuBos,Studienorientierung
END:VEVENT
END:VCALENDAR