BEGIN:VCALENDAR
VERSION:2.0
PRODID:-//Kommunale Koordinierung - ECPv6.15.20//NONSGML v1.0//EN
CALSCALE:GREGORIAN
METHOD:PUBLISH
X-ORIGINAL-URL:https://www.kommunale-koordinierung.com
X-WR-CALDESC:Veranstaltungen für Kommunale Koordinierung
REFRESH-INTERVAL;VALUE=DURATION:PT1H
X-Robots-Tag:noindex
X-PUBLISHED-TTL:PT1H
BEGIN:VTIMEZONE
TZID:Europe/Berlin
BEGIN:DAYLIGHT
TZOFFSETFROM:+0100
TZOFFSETTO:+0200
TZNAME:CEST
DTSTART:20220327T010000
END:DAYLIGHT
BEGIN:STANDARD
TZOFFSETFROM:+0200
TZOFFSETTO:+0100
TZNAME:CET
DTSTART:20221030T010000
END:STANDARD
BEGIN:DAYLIGHT
TZOFFSETFROM:+0100
TZOFFSETTO:+0200
TZNAME:CEST
DTSTART:20230326T010000
END:DAYLIGHT
BEGIN:STANDARD
TZOFFSETFROM:+0200
TZOFFSETTO:+0100
TZNAME:CET
DTSTART:20231029T010000
END:STANDARD
BEGIN:DAYLIGHT
TZOFFSETFROM:+0100
TZOFFSETTO:+0200
TZNAME:CEST
DTSTART:20240331T010000
END:DAYLIGHT
BEGIN:STANDARD
TZOFFSETFROM:+0200
TZOFFSETTO:+0100
TZNAME:CET
DTSTART:20241027T010000
END:STANDARD
END:VTIMEZONE
BEGIN:VEVENT
DTSTART;TZID=Europe/Berlin:20230313T100000
DTEND;TZID=Europe/Berlin:20230316T140000
DTSTAMP:20260423T063424
CREATED:20230228T145922Z
LAST-MODIFIED:20241114T131247Z
UID:42689-1678701600-1678975200@www.kommunale-koordinierung.com
SUMMARY:Bewerbungsmappen-Check vor Ort – schnelle Unterstützung im Jobcenter Düsseldorf
DESCRIPTION:Komm vorbei uns lass deine Bewerbungsunterlagen checken! \nWoche der Ausbildung bei der Agentur für Arbeit Düsseldorf vom 13. bis 17. März: Wer noch keinen Plan hat\, macht sich einen. Informiere dich über Ausbildungen in Düsseldorf und nimm an den Veranstaltungen zur „Woche der Ausbildung“ der Agentur für Arbeit Düsseldorf teil. \nWeitere Informationen gibt es hier:\nWoche der Ausbildung 13. bis 19. März 2023
URL:https://www.kommunale-koordinierung.com/event/bewerbungsmappen-check-vor-ort-schnelle-unterstuetzung-im-jobcenter-duesseldorf/
LOCATION:Jobcenter Düsseldorf
CATEGORIES:Ausbildung,Eltern & Teens
END:VEVENT
BEGIN:VEVENT
DTSTART;TZID=Europe/Berlin:20230313T130000
DTEND;TZID=Europe/Berlin:20230313T150000
DTSTAMP:20260423T063424
CREATED:20230302T133302Z
LAST-MODIFIED:20230302T133302Z
UID:42705-1678712400-1678719600@www.kommunale-koordinierung.com
SUMMARY:Interaktiver Talk zu den dualen Studiengängen (B.A.) bei der Bundesagentur für Arbeit
DESCRIPTION:Die Agentur für Arbeit Düsseldorf bietet ein vielseitiges interdisziplinäres Studienprogramm mit Wechsel von Theorie und Praxis. Die Studierenden profitieren von optimalen Studienbedingungen am Campus und einer guten Betreuung während der Praxisphasen in der Heimatdienstelle. Und das alles mit einem attraktiven Gehalt mit finanziellen Extras\, flexiblen Arbeitszeiten und hervorragenden Karrierechancen nach Abschluss des Studiums. \nWeitere Informationen gibt es hier:\nInteraktiver Talk zu den dualen Studiengängen (B.A.) bei der Bundesagentur für Arbeit – Veranstaltung – Bundesagentur für Arbeit (arbeitsagentur.de)
URL:https://www.kommunale-koordinierung.com/event/interaktiver-talk-zu-den-dualen-studiengaengen-b-a-bei-der-bundesagentur-fuer-arbeit/
LOCATION:B.i.Z.\, Agentur für Arbeit Düsseldorf\, Grafenberger Allee 300\, Düsseldorf\, 40237\, Deutschland
CATEGORIES:Berufliche Orientierung,Eltern & Teens
END:VEVENT
BEGIN:VEVENT
DTSTART;TZID=Europe/Berlin:20230313T140000
DTEND;TZID=Europe/Berlin:20230313T170000
DTSTAMP:20260423T063424
CREATED:20230302T133027Z
LAST-MODIFIED:20230302T133425Z
UID:42702-1678716000-1678726800@www.kommunale-koordinierung.com
SUMMARY:Ausbildung for future: Beratungsangebot für junge Erwachsene und ihre Eltern in Bilk
DESCRIPTION:Die Agentur für Arbeit Düsseldorf berät in der Stadtbücherei Bilk: Wie kann es nach der Schule weitergehen? Ausbildung\, weiterführende Schule\, Studium oder etwas ganz anderes? Welcher Beruf passt zu dir? Wie können Eltern ihre Kinder im vielfältigen Dschungel der Berufsorientierung bestmöglich unterstützen? \nWeitere Informationen gibt es hier:\nAusbildung for future: Beratungsangebot für junge Erwachsene und ihre Eltern – Veranstaltung – Bundesagentur für Arbeit (arbeitsagentur.de)
URL:https://www.kommunale-koordinierung.com/event/ausbildung-for-future-beratungsangebot-fuer-junge-erwachsene-und-ihre-eltern-in-bilk/
LOCATION:Stadtbücherei Bilk\, Friedrichstraße 127\, Düsseldorf\, 40217
CATEGORIES:Ausbildung,Berufliche Orientierung,Eltern & Teens
END:VEVENT
END:VCALENDAR