BEGIN:VCALENDAR
VERSION:2.0
PRODID:-//Kommunale Koordinierung - ECPv6.15.20//NONSGML v1.0//EN
CALSCALE:GREGORIAN
METHOD:PUBLISH
X-WR-CALNAME:Kommunale Koordinierung
X-ORIGINAL-URL:https://www.kommunale-koordinierung.com
X-WR-CALDESC:Veranstaltungen für Kommunale Koordinierung
REFRESH-INTERVAL;VALUE=DURATION:PT1H
X-Robots-Tag:noindex
X-PUBLISHED-TTL:PT1H
BEGIN:VTIMEZONE
TZID:Europe/Berlin
BEGIN:DAYLIGHT
TZOFFSETFROM:+0100
TZOFFSETTO:+0200
TZNAME:CEST
DTSTART:20220327T010000
END:DAYLIGHT
BEGIN:STANDARD
TZOFFSETFROM:+0200
TZOFFSETTO:+0100
TZNAME:CET
DTSTART:20221030T010000
END:STANDARD
BEGIN:DAYLIGHT
TZOFFSETFROM:+0100
TZOFFSETTO:+0200
TZNAME:CEST
DTSTART:20230326T010000
END:DAYLIGHT
BEGIN:STANDARD
TZOFFSETFROM:+0200
TZOFFSETTO:+0100
TZNAME:CET
DTSTART:20231029T010000
END:STANDARD
BEGIN:DAYLIGHT
TZOFFSETFROM:+0100
TZOFFSETTO:+0200
TZNAME:CEST
DTSTART:20240331T010000
END:DAYLIGHT
BEGIN:STANDARD
TZOFFSETFROM:+0200
TZOFFSETTO:+0100
TZNAME:CET
DTSTART:20241027T010000
END:STANDARD
END:VTIMEZONE
BEGIN:VEVENT
DTSTART;TZID=Europe/Berlin:20230228T100000
DTEND;TZID=Europe/Berlin:20230228T120000
DTSTAMP:20260423T063103
CREATED:20230228T091904Z
LAST-MODIFIED:20241114T135756Z
UID:42674-1677578400-1677585600@www.kommunale-koordinierung.com
SUMMARY:Ausbildung in Teilzeit – Voller Berufsabschluss!
DESCRIPTION:Woche der Ausbildung – 13. bis 17. März: Wer noch keinen Plan hat\, macht sich einen. Informiere dich über Ausbildungen in Düsseldorf und nimm an den Veranstaltungen zur „Woche der Ausbildung“ der Agentur für Arbeit Düsseldorf teil. \nWeitere Informationen zu den einzelnen Veranstaltungen finden Sie gebündelt unter .
URL:https://www.kommunale-koordinierung.com/event/ausbildung-in-teilzeit-voller-berufsabschluss/
LOCATION:Agentur für Arbeit Düsseldorf\, Grafenberger Allee 300\, Düsseldorf\, 40237
CATEGORIES:Ausbildung,Berufliche Orientierung,Eltern & Teens,Lehrkräfte,Schulen,Unternehmen
END:VEVENT
BEGIN:VEVENT
DTSTART;TZID=Europe/Berlin:20230228T180000
DTEND;TZID=Europe/Berlin:20230228T193000
DTSTAMP:20260423T063103
CREATED:20230221T120337Z
LAST-MODIFIED:20230221T120525Z
UID:42616-1677607200-1677612600@www.kommunale-koordinierung.com
SUMMARY:Die duale Ausbildung als Chance für eine berufliche Karriere - Livestream des Schulministeriums NRW für Eltern & ihre Kinder
DESCRIPTION:Speziell für Eltern und ihre Kinder veranstaltet das Schulministerium NRW eine digitale Informationsveranstaltung zum Thema „Die Duale Berufsausbildung als Chance für eine berufliche Karriere“. \nAzubis aus verschiedenen Branchen berichten live über ihre Erfahrungen in der Ausbildung und ihre Karriere\, die sie ausgehend von ihrer Ausbildung gemacht haben. \nMit dabei sind Schulministerin Dorothee Feller sowie Expertinnen und Experten der Kammerorganisationen (IHK NRW\, Westdeutscher Handwerkskammertag\, Freie Berufe NRW\, Landwirtschaftskammer)\, der Bundesagentur für Arbeit und der Sozialpartner (unternehmer nrw\, DGB NRW) und stehen auch für Fragerunden zur Verfügung. \nDirektlink und weitere Informationen zur Veranstaltung:\nhttps://www.mindnapped.com/bo23 \nEinladung und Tagesordnung
URL:https://www.kommunale-koordinierung.com/event/livestream-des-schulministeriums-nrw-fuer-eltern-ihre-kinder-die-duale-ausbildung-als-chance-fuer-eine-berufliche-karriere/
LOCATION:Online
CATEGORIES:Berufliche Orientierung,Eltern & Teens,Lehrkräfte,Schulen
END:VEVENT
END:VCALENDAR