BEGIN:VCALENDAR
VERSION:2.0
PRODID:-//Kommunale Koordinierung - ECPv6.15.20//NONSGML v1.0//EN
CALSCALE:GREGORIAN
METHOD:PUBLISH
X-WR-CALNAME:Kommunale Koordinierung
X-ORIGINAL-URL:https://www.kommunale-koordinierung.com
X-WR-CALDESC:Veranstaltungen für Kommunale Koordinierung
REFRESH-INTERVAL;VALUE=DURATION:PT1H
X-Robots-Tag:noindex
X-PUBLISHED-TTL:PT1H
BEGIN:VTIMEZONE
TZID:Europe/Berlin
BEGIN:DAYLIGHT
TZOFFSETFROM:+0100
TZOFFSETTO:+0200
TZNAME:CEST
DTSTART:20220327T010000
END:DAYLIGHT
BEGIN:STANDARD
TZOFFSETFROM:+0200
TZOFFSETTO:+0100
TZNAME:CET
DTSTART:20221030T010000
END:STANDARD
BEGIN:DAYLIGHT
TZOFFSETFROM:+0100
TZOFFSETTO:+0200
TZNAME:CEST
DTSTART:20230326T010000
END:DAYLIGHT
BEGIN:STANDARD
TZOFFSETFROM:+0200
TZOFFSETTO:+0100
TZNAME:CET
DTSTART:20231029T010000
END:STANDARD
BEGIN:DAYLIGHT
TZOFFSETFROM:+0100
TZOFFSETTO:+0200
TZNAME:CEST
DTSTART:20240331T010000
END:DAYLIGHT
BEGIN:STANDARD
TZOFFSETFROM:+0200
TZOFFSETTO:+0100
TZNAME:CET
DTSTART:20241027T010000
END:STANDARD
END:VTIMEZONE
BEGIN:VEVENT
DTSTART;TZID=Europe/Berlin:20230215T160000
DTEND;TZID=Europe/Berlin:20230215T170000
DTSTAMP:20260423T093318
CREATED:20230208T132353Z
LAST-MODIFIED:20230208T134109Z
UID:42563-1676476800-1676480400@www.kommunale-koordinierung.com
SUMMARY:Halbjahreszeugnis „Ab geht’s“ -> Bewerbungsstart für Klasse 9/10
DESCRIPTION:Kein Abschluss ohne Anschluss: Tipps und Tricks von Expert*innen der Agentur für Arbeit\, damit es mit dem Ausbildungs- oder dem Schulplatz klappt. Wir zeigen dir\, wie du deinen Einstieg in die Berufswelt erfolgreich meisterst. Stelle gerne Deine Fragen während der Veranstaltung über unseren Livechat. \nWeitere Infos finden Sie hier.
URL:https://www.kommunale-koordinierung.com/event/halbjahreszeugnis-ab-gehts-bewerbungsstart-fuer-klasse-9-10/
LOCATION:Online
CATEGORIES:Berufliche Orientierung,Eltern & Teens
END:VEVENT
END:VCALENDAR