BEGIN:VCALENDAR
VERSION:2.0
PRODID:-//Kommunale Koordinierung - ECPv6.15.20//NONSGML v1.0//EN
CALSCALE:GREGORIAN
METHOD:PUBLISH
X-WR-CALNAME:Kommunale Koordinierung
X-ORIGINAL-URL:https://www.kommunale-koordinierung.com
X-WR-CALDESC:Veranstaltungen für Kommunale Koordinierung
REFRESH-INTERVAL;VALUE=DURATION:PT1H
X-Robots-Tag:noindex
X-PUBLISHED-TTL:PT1H
BEGIN:VTIMEZONE
TZID:Europe/Berlin
BEGIN:DAYLIGHT
TZOFFSETFROM:+0100
TZOFFSETTO:+0200
TZNAME:CEST
DTSTART:20220327T010000
END:DAYLIGHT
BEGIN:STANDARD
TZOFFSETFROM:+0200
TZOFFSETTO:+0100
TZNAME:CET
DTSTART:20221030T010000
END:STANDARD
BEGIN:DAYLIGHT
TZOFFSETFROM:+0100
TZOFFSETTO:+0200
TZNAME:CEST
DTSTART:20230326T010000
END:DAYLIGHT
BEGIN:STANDARD
TZOFFSETFROM:+0200
TZOFFSETTO:+0100
TZNAME:CET
DTSTART:20231029T010000
END:STANDARD
BEGIN:DAYLIGHT
TZOFFSETFROM:+0100
TZOFFSETTO:+0200
TZNAME:CEST
DTSTART:20240331T010000
END:DAYLIGHT
BEGIN:STANDARD
TZOFFSETFROM:+0200
TZOFFSETTO:+0100
TZNAME:CET
DTSTART:20241027T010000
END:STANDARD
END:VTIMEZONE
BEGIN:VEVENT
DTSTART;TZID=Europe/Berlin:20230214T183000
DTEND;TZID=Europe/Berlin:20230214T191500
DTSTAMP:20260423T093237
CREATED:20221028T112828Z
LAST-MODIFIED:20230112T083303Z
UID:41129-1676399400-1676402100@www.kommunale-koordinierung.com
SUMMARY:Virtuelle Betriebserkundungen für Eltern und Jugendliche- das Unternehmen Konecranes stellt sich vor!
DESCRIPTION:Mit dieser digitalen\, abendlichen Veranstaltungsreihe\, in der Düsseldorfer Unternehmen und ihre Nachwuchskräfte die eigenen Ausbildungsmöglichkeiten anschaulich und kurzweilig vorstellen\, möchten wir Sie als Eltern oder interessierte Jugendliche mit hilfreichen Informationen zum Thema Berufsorientierung unterstützen. \nSie möchten sich bequem von zu Hause aus über die Ausbildungsmöglichkeiten Düsseldorfer Unternehmen informieren? \nDann sind Sie herzlich zu folgender kostenfreien Veranstaltung eingeladen! \nModeriert und begleitet wird die Veranstaltung von dem Team Kompetenzzentrum Berufliche Orientierung & der Kommunalen Koordinierung Düsseldorf. \nDen entsprechenden Link zur Veranstaltung erhalten Sie nach Ihrer Anmeldung. \nDie Veranstaltungen finden virtuell über Microsoft Teams statt. Sie benötigen lediglich einen Computer oder ein mobiles Endgerät. \nVorname *Nachname *Schule/Institution *E-Mail Adresse *Wie sind Sie auf diese Veranstaltung aufmerksam geworden: *über die eigene Schule/Institutionüber Medien (z.B. Presse oder WhatsApp Newsgroup)über Empfehlungen anderer PersonenSonstigesDGSVO *Ja\, ich stimme den Datenschutzbestimmungen zu. Nachricht senden
URL:https://www.kommunale-koordinierung.com/event/virtuelle-betriebserkundungen-fuer-eltern-und-jugendliche-das-unternehmen-konecranes-stellt-sich-vor/
LOCATION:Online
CATEGORIES:Berufliche Orientierung,Eltern & Teens
END:VEVENT
END:VCALENDAR