BEGIN:VCALENDAR
VERSION:2.0
PRODID:-//Kommunale Koordinierung - ECPv6.15.20//NONSGML v1.0//EN
CALSCALE:GREGORIAN
METHOD:PUBLISH
X-WR-CALNAME:Kommunale Koordinierung
X-ORIGINAL-URL:https://www.kommunale-koordinierung.com
X-WR-CALDESC:Veranstaltungen für Kommunale Koordinierung
REFRESH-INTERVAL;VALUE=DURATION:PT1H
X-Robots-Tag:noindex
X-PUBLISHED-TTL:PT1H
BEGIN:VTIMEZONE
TZID:Europe/Berlin
BEGIN:DAYLIGHT
TZOFFSETFROM:+0100
TZOFFSETTO:+0200
TZNAME:CEST
DTSTART:20220327T010000
END:DAYLIGHT
BEGIN:STANDARD
TZOFFSETFROM:+0200
TZOFFSETTO:+0100
TZNAME:CET
DTSTART:20221030T010000
END:STANDARD
BEGIN:DAYLIGHT
TZOFFSETFROM:+0100
TZOFFSETTO:+0200
TZNAME:CEST
DTSTART:20230326T010000
END:DAYLIGHT
BEGIN:STANDARD
TZOFFSETFROM:+0200
TZOFFSETTO:+0100
TZNAME:CET
DTSTART:20231029T010000
END:STANDARD
BEGIN:DAYLIGHT
TZOFFSETFROM:+0100
TZOFFSETTO:+0200
TZNAME:CEST
DTSTART:20240331T010000
END:DAYLIGHT
BEGIN:STANDARD
TZOFFSETFROM:+0200
TZOFFSETTO:+0100
TZNAME:CET
DTSTART:20241027T010000
END:STANDARD
END:VTIMEZONE
BEGIN:VEVENT
DTSTART;TZID=Europe/Berlin:20230202T140000
DTEND;TZID=Europe/Berlin:20230202T160000
DTSTAMP:20260423T105820
CREATED:20230106T110837Z
LAST-MODIFIED:20230106T111240Z
UID:41921-1675346400-1675353600@www.kommunale-koordinierung.com
SUMMARY:StuBo-Arbeitskreis der Hauptschulen am 02.02.
DESCRIPTION:Alle Düsseldorfer Hauptschulen sind herzlich zum nächsten StuBo-Arbeitskreis der Hauptschulen eingeladen! \nVeranstaltungsort:\nZentrum für Berufsorientierung und Übergänge\nu. Kommunale Koordinierung\nBertha-von-Suttner-Platz 3\n(Eingang Richtung Ludwig-Erhard-Allee)\n40227 Düsseldorf \nOffizielle Einladung \nBitte melden Sie sich unten für die Veranstaltung an. \nBei Fragen oder Anmerkungen wenden Sie sich bitte an:\nUte Scheid\nTelefon: 0211 8921947\nE-Mail: ute.scheid@duesseldorf.de \nDer Arbeitskreis ist eine gemeinsame Veranstaltung der Kommunalen Koordinierung Düsseldorf und der Schulaufsicht der Landeshauptstadt Düsseldorf. \nVorname *Nachname *Schule/Institution *E-Mail Adresse *GDPR *Ja\, ich bin mit den Datenschutzbestimmungen einverstanden.Nachricht senden
URL:https://www.kommunale-koordinierung.com/event/stubo-arbeitskreis-der-hauptschulen-am-02-02/
LOCATION:Kommunale Koordinierung Düsseldorf\, Willi-Becker-Allee 10\, Düsseldorf\, 40227
CATEGORIES:StuBo-Arbeitskreis
END:VEVENT
BEGIN:VEVENT
DTSTART;TZID=Europe/Berlin:20230202T140000
DTEND;TZID=Europe/Berlin:20230202T160000
DTSTAMP:20260423T105821
CREATED:20230109T150152Z
LAST-MODIFIED:20230109T150758Z
UID:41985-1675346400-1675353600@www.kommunale-koordinierung.com
SUMMARY:StuBo-Arbeitskreis der Gymnasien am 02.02.
DESCRIPTION:Wir laden alle Düsseldorfer Gymnasien herzlich zur nächsten StuBo-Arbeitskreissitzung ein. \nOrt:\nStiftung PRO AUSBILDUNG\nAchenbachstr. 28\n40237 Düsseldorf \nThemen der Sitzung werden u. a. Aktuelles\, Rückblick DIGI-DOP\, Ausblick DTBO\, Beratung. \nOffizielle Einladung \nBitte melden Sie sich unten zu der Veranstaltung an. \nBei Fragen wenden Sie sich bitte an:\nRenate Kiszkiel\nTelefon: 0211 6690834\nE-Mail: kiszkiel@unternehmerschaft.de  \nDer Arbeitskreis ist eine gemeinsame Veranstaltung der Kommunalen Koordinierung Düsseldorf und des Kompetenzzentrums Berufliche Orientierung mit der Schulaufsicht der Landeshauptstadt Düsseldorf. \nVorname *Nachname *Schule/Institution *E-Mail Adresse *GDPR *Ja\, ich bin mit den Datenschutzbestimmungen einverstanden.Nachricht senden\n 
URL:https://www.kommunale-koordinierung.com/event/stubo-arbeitskreis-der-gymnasien-am-02-02/
LOCATION:Achenbachstr. 28\, 40237 Düsseldorf\, Achenbachstr. 28\, Düsseldorf\, 40237\, Deutschland
CATEGORIES:Berufliche Orientierung,StuBo-Arbeitskreis
END:VEVENT
END:VCALENDAR