BEGIN:VCALENDAR
VERSION:2.0
PRODID:-//Kommunale Koordinierung - ECPv6.15.20//NONSGML v1.0//EN
CALSCALE:GREGORIAN
METHOD:PUBLISH
X-ORIGINAL-URL:https://www.kommunale-koordinierung.com
X-WR-CALDESC:Veranstaltungen für Kommunale Koordinierung
REFRESH-INTERVAL;VALUE=DURATION:PT1H
X-Robots-Tag:noindex
X-PUBLISHED-TTL:PT1H
BEGIN:VTIMEZONE
TZID:Europe/Berlin
BEGIN:DAYLIGHT
TZOFFSETFROM:+0100
TZOFFSETTO:+0200
TZNAME:CEST
DTSTART:20220327T010000
END:DAYLIGHT
BEGIN:STANDARD
TZOFFSETFROM:+0200
TZOFFSETTO:+0100
TZNAME:CET
DTSTART:20221030T010000
END:STANDARD
BEGIN:DAYLIGHT
TZOFFSETFROM:+0100
TZOFFSETTO:+0200
TZNAME:CEST
DTSTART:20230326T010000
END:DAYLIGHT
BEGIN:STANDARD
TZOFFSETFROM:+0200
TZOFFSETTO:+0100
TZNAME:CET
DTSTART:20231029T010000
END:STANDARD
BEGIN:DAYLIGHT
TZOFFSETFROM:+0100
TZOFFSETTO:+0200
TZNAME:CEST
DTSTART:20240331T010000
END:DAYLIGHT
BEGIN:STANDARD
TZOFFSETFROM:+0200
TZOFFSETTO:+0100
TZNAME:CET
DTSTART:20241027T010000
END:STANDARD
END:VTIMEZONE
BEGIN:VEVENT
DTSTART;TZID=Europe/Berlin:20230201T180000
DTEND;TZID=Europe/Berlin:20230201T190000
DTSTAMP:20260425T132310
CREATED:20230105T150633Z
LAST-MODIFIED:20230105T150633Z
UID:41907-1675274400-1675278000@www.kommunale-koordinierung.com
SUMMARY:Informationsveranstaltung „Berufsorientierung im Gemeinsamen Lernen“
DESCRIPTION:Ab der 8. Klasse wird die Berufliche Orientierung durch das Landesvorhaben „Kein Abschluss ohne Anschluss – Übergang Schule-Beruf in NRW“ (KAoA) an allen Schulen\nin Nordrhein-Westfalen umgesetzt. Für Schülerinnen und Schüler mit Unterstützungsbedarf gibt es innerhalb von KAoA zusätzliche Angebote\, die Ihr Kind wahrnehmen kann. Bei der\nGestaltung des Berufsweges unterstützt die Reha-Beratung der Agentur für Arbeit. \nAuf dem Informationsabend erhalten Sie alle Informationen und Unterstützungsangebote zu KAoA und Beruflicher Orientierung für Jugendliche mit Unterstützungsbedarf. \nDie Veranstaltung richtet sich an Eltern und Pädagogen im Gemeinsamen Lernen mit Kindern in Klasse 8-10 mit sonderpädagogischem Unterstützungsbedarf (FÖS Lernen\, geistige Entwicklung\, körperliche und motorische Entwicklung\, Sprache\, Sehen\, Hören und Kommunikation sowie Schüler*innen mit der fachärztlichen Diagnose einer Autismus-Spektrum-Störung und Schüler*innen mit einer Schwerbehinderung nach SGB IX (ab GdB 50). \nOffizielles Einladungsschreiben
URL:https://www.kommunale-koordinierung.com/event/informationsveranstaltung-berufsorientierung-im-gemeinsamen-lernen/
LOCATION:B.i.Z.\, Agentur für Arbeit Düsseldorf\, Grafenberger Allee 300\, Düsseldorf\, 40237\, Deutschland
CATEGORIES:Berufliche Orientierung,BO mit Förderbedarf,Eltern & Teens,KAoA-STAR
END:VEVENT
END:VCALENDAR