BEGIN:VCALENDAR
VERSION:2.0
PRODID:-//Kommunale Koordinierung - ECPv6.15.20//NONSGML v1.0//EN
CALSCALE:GREGORIAN
METHOD:PUBLISH
X-ORIGINAL-URL:https://www.kommunale-koordinierung.com
X-WR-CALDESC:Veranstaltungen für Kommunale Koordinierung
REFRESH-INTERVAL;VALUE=DURATION:PT1H
X-Robots-Tag:noindex
X-PUBLISHED-TTL:PT1H
BEGIN:VTIMEZONE
TZID:Europe/Berlin
BEGIN:DAYLIGHT
TZOFFSETFROM:+0100
TZOFFSETTO:+0200
TZNAME:CEST
DTSTART:20220327T010000
END:DAYLIGHT
BEGIN:STANDARD
TZOFFSETFROM:+0200
TZOFFSETTO:+0100
TZNAME:CET
DTSTART:20221030T010000
END:STANDARD
BEGIN:DAYLIGHT
TZOFFSETFROM:+0100
TZOFFSETTO:+0200
TZNAME:CEST
DTSTART:20230326T010000
END:DAYLIGHT
BEGIN:STANDARD
TZOFFSETFROM:+0200
TZOFFSETTO:+0100
TZNAME:CET
DTSTART:20231029T010000
END:STANDARD
BEGIN:DAYLIGHT
TZOFFSETFROM:+0100
TZOFFSETTO:+0200
TZNAME:CEST
DTSTART:20240331T010000
END:DAYLIGHT
BEGIN:STANDARD
TZOFFSETFROM:+0200
TZOFFSETTO:+0100
TZNAME:CET
DTSTART:20241027T010000
END:STANDARD
END:VTIMEZONE
BEGIN:VEVENT
DTSTART;TZID=Europe/Berlin:20230127T100000
DTEND;TZID=Europe/Berlin:20230128T180000
DTSTAMP:20260423T110205
CREATED:20230123T155336Z
LAST-MODIFIED:20230123T155336Z
UID:42361-1674813600-1674928800@www.kommunale-koordinierung.com
SUMMARY:Werkschau Design & Innen-/Architektur der Hochschule Düsseldorf
DESCRIPTION:Zum Ende des Wintersemesters 2022/23 präsentieren Absolvent*innen der Fachbereiche Design und Architektur der Peter Behrens School of Arts an der Hochschule Düsseldorf im Rahmen der „Werkschau“ ihre Abschlussarbeiten. Rund 200 junge Designer*innen und Innen-/Architekt*innen der Fachrichtungen Architektur\, Innenarchitektur und Civic Design sowie Kommunikationsdesign\, Exhibition Design\, New Craft Object Design und Retail Design freuen sich auf Ihren Besuch. \nWerkschau Design & Innen-/Architektur: 27.01.23 10 – 16 Uhr und 28.01.23 10 – 18 Uhr im Gebäude 6. \nhttps://hsd-werkschau.de/\nInstagram: @werkschau.hsd.pbsa
URL:https://www.kommunale-koordinierung.com/event/werkschau-design-innen-architektur-der-hochschule-duesseldorf/
CATEGORIES:Berufliche Orientierung,Schulen,StuBo-Arbeitskreis,Studienorientierung
END:VEVENT
BEGIN:VEVENT
DTSTART;TZID=Europe/Berlin:20230128T100000
DTEND;TZID=Europe/Berlin:20230128T160000
DTSTAMP:20260423T110205
CREATED:20221219T133049Z
LAST-MODIFIED:20221219T133104Z
UID:41830-1674900000-1674921600@www.kommunale-koordinierung.com
SUMMARY:Stuzubi-Messe Dortmund
DESCRIPTION:Ausbildung oder Studium? Finde deinen Ausbildungs- oder Studienplatz im Raum Rhein-Ruhr bei der Stuzubi-Messe in Dortmund! \nWeitere Informationen:\nhttps://stuzubi.de/messen/dortmund
URL:https://www.kommunale-koordinierung.com/event/stuzubi-messe-dortmund/
LOCATION:Hauptmensa des Studierendenwerks\, Vogelpothsweg 85\, Dortmund
CATEGORIES:Berufliche Orientierung,Eltern & Teens,Studienorientierung
END:VEVENT
END:VCALENDAR