BEGIN:VCALENDAR
VERSION:2.0
PRODID:-//Kommunale Koordinierung - ECPv6.15.20//NONSGML v1.0//EN
CALSCALE:GREGORIAN
METHOD:PUBLISH
X-ORIGINAL-URL:https://www.kommunale-koordinierung.com
X-WR-CALDESC:Veranstaltungen für Kommunale Koordinierung
REFRESH-INTERVAL;VALUE=DURATION:PT1H
X-Robots-Tag:noindex
X-PUBLISHED-TTL:PT1H
BEGIN:VTIMEZONE
TZID:Europe/Berlin
BEGIN:DAYLIGHT
TZOFFSETFROM:+0100
TZOFFSETTO:+0200
TZNAME:CEST
DTSTART:20220327T010000
END:DAYLIGHT
BEGIN:STANDARD
TZOFFSETFROM:+0200
TZOFFSETTO:+0100
TZNAME:CET
DTSTART:20221030T010000
END:STANDARD
BEGIN:DAYLIGHT
TZOFFSETFROM:+0100
TZOFFSETTO:+0200
TZNAME:CEST
DTSTART:20230326T010000
END:DAYLIGHT
BEGIN:STANDARD
TZOFFSETFROM:+0200
TZOFFSETTO:+0100
TZNAME:CET
DTSTART:20231029T010000
END:STANDARD
BEGIN:DAYLIGHT
TZOFFSETFROM:+0100
TZOFFSETTO:+0200
TZNAME:CEST
DTSTART:20240331T010000
END:DAYLIGHT
BEGIN:STANDARD
TZOFFSETFROM:+0200
TZOFFSETTO:+0100
TZNAME:CET
DTSTART:20241027T010000
END:STANDARD
END:VTIMEZONE
BEGIN:VEVENT
DTSTART;TZID=Europe/Berlin:20230116T080000
DTEND;TZID=Europe/Berlin:20230120T170000
DTSTAMP:20260423T123212
CREATED:20220711T075747Z
LAST-MODIFIED:20230707T111741Z
UID:36366-1673856000-1674234000@www.kommunale-koordinierung.com
SUMMARY:"5 Tage an der HSD - die Hochschule stellt sich vor"
DESCRIPTION:Die Wochen der Studienorientierung finden einmal jährlich zum Jahresbeginn statt.​ Eine gute Gelegenheit um Campus-Luft zu schnuppern. \nDas Programm der HSD finden Sie hier.\n \nDarüber hinaus können Interessierte regelmäßig Veranstaltungen aus dem Vorlesungsverzeichnis für Studieninteressierte besuchen.
URL:https://www.kommunale-koordinierung.com/event/5-tage-an-der-hsd-die-hochschule-stellt-sich-vor/
LOCATION:Hochschule Düsseldorf\, Münsterstraße 156\, 40476 Düsseldorf\, Deutschland
ORGANIZER;CN="Hochschule D%C3%BCsseldorf":MAILTO:https://www.hs-duesseldorf.de/studium/beratung_und_kontakt/studienberatung/beratungsgmoeglichkeiten-studienberatung
END:VEVENT
BEGIN:VEVENT
DTSTART;TZID=Europe/Berlin:20230116T080000
DTEND;TZID=Europe/Berlin:20230120T170000
DTSTAMP:20260423T123212
CREATED:20220810T084710Z
LAST-MODIFIED:20220810T095021Z
UID:37157-1673856000-1674234000@www.kommunale-koordinierung.com
SUMMARY:(DIGI-) DOP - Studieren ausprobieren
DESCRIPTION:Eine Woche lang Studierende*r sein? Und danach ein bis zwei Wochen deine Studienwahlentscheidung in der Praxis durch ein Praktikum festigen? Das geht – beim (DIGI-)DOP! Das Programm setzt sich aus drei Bausteinen zusammen: \nVor-Ort Besuche von Seminaren & Vorlesungen der HSD & der HHU (sobald es die Coronaschutzverordnung wieder zulässt). \nDigitalen Veranstaltungen unterschiedlicher Hochschulen & Unternehmen aus der Region\, in denen Du in Vorlesungen & Seminaren oder in Study-Talks mit Studierenden deine Entscheidung für ein Studium oder ein Duales Studium konkretisierst. \nUnd einem Praktikum in einem Unternehmen deiner Wahl (wird durch deine Schule vorbereitet und organisiert). \nWeitere Informationen findest du hier: www.digi-dop.de
URL:https://www.kommunale-koordinierung.com/event/digi-dop-studieren-ausprobieren-3/
CATEGORIES:Berufliche Orientierung,Eltern & Teens,Kommunale Koordinierungsstellen,Schulen,Studienorientierung
END:VEVENT
END:VCALENDAR