BEGIN:VCALENDAR
VERSION:2.0
PRODID:-//Kommunale Koordinierung - ECPv6.15.20//NONSGML v1.0//EN
CALSCALE:GREGORIAN
METHOD:PUBLISH
X-ORIGINAL-URL:https://www.kommunale-koordinierung.com
X-WR-CALDESC:Veranstaltungen für Kommunale Koordinierung
REFRESH-INTERVAL;VALUE=DURATION:PT1H
X-Robots-Tag:noindex
X-PUBLISHED-TTL:PT1H
BEGIN:VTIMEZONE
TZID:Europe/Berlin
BEGIN:DAYLIGHT
TZOFFSETFROM:+0100
TZOFFSETTO:+0200
TZNAME:CEST
DTSTART:20210328T010000
END:DAYLIGHT
BEGIN:STANDARD
TZOFFSETFROM:+0200
TZOFFSETTO:+0100
TZNAME:CET
DTSTART:20211031T010000
END:STANDARD
BEGIN:DAYLIGHT
TZOFFSETFROM:+0100
TZOFFSETTO:+0200
TZNAME:CEST
DTSTART:20220327T010000
END:DAYLIGHT
BEGIN:STANDARD
TZOFFSETFROM:+0200
TZOFFSETTO:+0100
TZNAME:CET
DTSTART:20221030T010000
END:STANDARD
BEGIN:DAYLIGHT
TZOFFSETFROM:+0100
TZOFFSETTO:+0200
TZNAME:CEST
DTSTART:20230326T010000
END:DAYLIGHT
BEGIN:STANDARD
TZOFFSETFROM:+0200
TZOFFSETTO:+0100
TZNAME:CET
DTSTART:20231029T010000
END:STANDARD
END:VTIMEZONE
BEGIN:VEVENT
DTSTART;TZID=Europe/Berlin:20221128T150000
DTEND;TZID=Europe/Berlin:20221128T160000
DTSTAMP:20260423T141307
CREATED:20221019T082602Z
LAST-MODIFIED:20221019T082602Z
UID:40920-1669647600-1669651200@www.kommunale-koordinierung.com
SUMMARY:DTBO 2023: Informationsveranstaltung für neue Anbieter
DESCRIPTION:Die zweite Informationsveranstaltung für die kommenden Düsseldorfer Tage der Beruflichen Orientierung richtet sich vorrangig an alle neuen Anbieter. Wir möchten Ihnen einen Einblick in das Projekt geben und werden Ihnen dann im Anschluss das neue Anmelde- und Buchungsportal vorstellen. \nBitte melden Sie sich spätestens bis zum 24.11.2022 an. Sie erhalten im Anschluss einen MS-Teamslink\, über den Sie direkt zur Veranstaltung gelangen. \nVorname *Nachname *Unternehmen/Institution *E-Mail Adresse *GDPR *Ja\, ich bin mit den Datenschutzbestimmungen einverstanden.Nachricht senden
URL:https://www.kommunale-koordinierung.com/event/dtbo-2023-informationsveranstaltung-fuer-neue-anbieter/
LOCATION:Online
CATEGORIES:Berufliche Orientierung,Unternehmen
END:VEVENT
END:VCALENDAR