BEGIN:VCALENDAR
VERSION:2.0
PRODID:-//Kommunale Koordinierung - ECPv6.15.20//NONSGML v1.0//EN
CALSCALE:GREGORIAN
METHOD:PUBLISH
X-ORIGINAL-URL:https://www.kommunale-koordinierung.com
X-WR-CALDESC:Veranstaltungen für Kommunale Koordinierung
REFRESH-INTERVAL;VALUE=DURATION:PT1H
X-Robots-Tag:noindex
X-PUBLISHED-TTL:PT1H
BEGIN:VTIMEZONE
TZID:Europe/Berlin
BEGIN:DAYLIGHT
TZOFFSETFROM:+0100
TZOFFSETTO:+0200
TZNAME:CEST
DTSTART:20210328T010000
END:DAYLIGHT
BEGIN:STANDARD
TZOFFSETFROM:+0200
TZOFFSETTO:+0100
TZNAME:CET
DTSTART:20211031T010000
END:STANDARD
BEGIN:DAYLIGHT
TZOFFSETFROM:+0100
TZOFFSETTO:+0200
TZNAME:CEST
DTSTART:20220327T010000
END:DAYLIGHT
BEGIN:STANDARD
TZOFFSETFROM:+0200
TZOFFSETTO:+0100
TZNAME:CET
DTSTART:20221030T010000
END:STANDARD
BEGIN:DAYLIGHT
TZOFFSETFROM:+0100
TZOFFSETTO:+0200
TZNAME:CEST
DTSTART:20230326T010000
END:DAYLIGHT
BEGIN:STANDARD
TZOFFSETFROM:+0200
TZOFFSETTO:+0100
TZNAME:CET
DTSTART:20231029T010000
END:STANDARD
END:VTIMEZONE
BEGIN:VEVENT
DTSTART;TZID=Europe/Berlin:20221124T090000
DTEND;TZID=Europe/Berlin:20221124T160000
DTSTAMP:20260423T172050
CREATED:20221115T072114Z
LAST-MODIFIED:20221115T072114Z
UID:41290-1669280400-1669305600@www.kommunale-koordinierung.com
SUMMARY:Qualifizierung zur/zum PA-Trainer*in
DESCRIPTION:Die kostenlose Qualifizierung zur/zum PA-Trainer*in bietet Bildungsträgern die Möglichkeit\, ihr Personal auf die Umsetzung von KAoA-kompakt vorzubereiten. \nVoraussetzung für die Teilnahme ist\, wie in der Vergangenheit\, dass die Teilnehmenden bereits eine Qualifizierung zur/zum PA-Beobachter*in und PA-Manager*in erhalten haben. \nNach dieser eintägigen Schulung werden Sie in der Lage sein\, Personal für die Durchführung der Düsseldorfer Potenzialanalyse zu Beobachter*innen und Manager*innen zu qualifizieren. Falls Sie Interesse an einer Teilnahme haben sollten\, melden Sie bitte per E-Mail die Namen der Teilnehmenden an andre.odenthal@duesseldorf.de. \nFür April 2023 ist eine weitere Qualifizierung zur/zum PA-Trainer*in in Planung.
URL:https://www.kommunale-koordinierung.com/event/qualifizierung-zur-zum-pa-trainerin/
LOCATION:Kommunale Koordinierung Düsseldorf\, Willi-Becker-Allee 10\, Düsseldorf\, 40227
CATEGORIES:Bildungsträger
END:VEVENT
END:VCALENDAR