BEGIN:VCALENDAR
VERSION:2.0
PRODID:-//Kommunale Koordinierung - ECPv6.15.20//NONSGML v1.0//EN
CALSCALE:GREGORIAN
METHOD:PUBLISH
X-WR-CALNAME:Kommunale Koordinierung
X-ORIGINAL-URL:https://www.kommunale-koordinierung.com
X-WR-CALDESC:Veranstaltungen für Kommunale Koordinierung
REFRESH-INTERVAL;VALUE=DURATION:PT1H
X-Robots-Tag:noindex
X-PUBLISHED-TTL:PT1H
BEGIN:VTIMEZONE
TZID:Europe/Berlin
BEGIN:DAYLIGHT
TZOFFSETFROM:+0100
TZOFFSETTO:+0200
TZNAME:CEST
DTSTART:20210328T010000
END:DAYLIGHT
BEGIN:STANDARD
TZOFFSETFROM:+0200
TZOFFSETTO:+0100
TZNAME:CET
DTSTART:20211031T010000
END:STANDARD
BEGIN:DAYLIGHT
TZOFFSETFROM:+0100
TZOFFSETTO:+0200
TZNAME:CEST
DTSTART:20220327T010000
END:DAYLIGHT
BEGIN:STANDARD
TZOFFSETFROM:+0200
TZOFFSETTO:+0100
TZNAME:CET
DTSTART:20221030T010000
END:STANDARD
BEGIN:DAYLIGHT
TZOFFSETFROM:+0100
TZOFFSETTO:+0200
TZNAME:CEST
DTSTART:20230326T010000
END:DAYLIGHT
BEGIN:STANDARD
TZOFFSETFROM:+0200
TZOFFSETTO:+0100
TZNAME:CET
DTSTART:20231029T010000
END:STANDARD
END:VTIMEZONE
BEGIN:VEVENT
DTSTART;TZID=Europe/Berlin:20221119T090000
DTEND;TZID=Europe/Berlin:20221119T150000
DTSTAMP:20260423T155136
CREATED:20220928T100357Z
LAST-MODIFIED:20250829T103239Z
UID:40431-1668848400-1668870000@www.kommunale-koordinierung.com
SUMMARY:Tag der offenen Tür am Heinrich-Hertz-Berufskolleg
DESCRIPTION:Bildung trifft Technik! \nInteressierte Schüler*innen sind hert(z)lich eingeladen von 9 bis 15 Uhr an unseren vielfältigen Angeboten zur Berufsorientierung teilzunehmen. \nUnser Tag der offenen Tür bietet Informationen rund um die berufliche und schulische Ausbildung mit den Schwerpunkten Informationstechnik / Elektrotechnik / Chemie: \n\nIndividuelle Beratung aller interessierten Schüler*innen\nPräsentation des gesamten Bildungsangebots des Heinrich-Hertz-Berufskollegs\nExperimente und Beispielunterricht zum Mitmachen\nInfo-Vorträge zu diversen Schwerpunkten am HHBK\nCatering\nuvm.
URL:https://www.kommunale-koordinierung.com/event/tag-der-offenen-tuer-am-heinrich-hertz-berufskolleg/
LOCATION:Heinrich-Hertz-Berufskolleg\, Redinghovenstraße 16\, Düsseldorf\, 40225
CATEGORIES:Berufliche Orientierung,Eltern & Teens
END:VEVENT
BEGIN:VEVENT
DTSTART;TZID=Europe/Berlin:20221119T100000
DTEND;TZID=Europe/Berlin:20221119T130000
DTSTAMP:20260423T155136
CREATED:20220928T103606Z
LAST-MODIFIED:20220928T103606Z
UID:40444-1668852000-1668862800@www.kommunale-koordinierung.com
SUMMARY:Tag der offenen Tür am Lessing-Berufskolleg
DESCRIPTION:Weitere Informationen zum Tag der offenen Tür:\nhttps://www.lgbk.de
URL:https://www.kommunale-koordinierung.com/event/tag-der-offenen-tuer-am-lessing-berufskolleg/
LOCATION:Lessing-Berufskolleg\, Ellerstr. 84-94\, Düsseldorf
CATEGORIES:Berufliche Orientierung,Berufskolleg,Eltern & Teens
END:VEVENT
BEGIN:VEVENT
DTSTART;TZID=Europe/Berlin:20221119T100000
DTEND;TZID=Europe/Berlin:20221119T140000
DTSTAMP:20260423T155136
CREATED:20220928T104403Z
LAST-MODIFIED:20231123T093401Z
UID:40448-1668852000-1668866400@www.kommunale-koordinierung.com
SUMMARY:Tag der offenen Tür am Elly-Heuss-Knapp-Berufskolleg
DESCRIPTION:Angeboten werden offener Unterricht\, Mitmachangebote und Beratung in den Fachräumen. \nAm Samstag\, 19.11.22 findet von 10 bis 14 Uhr an der Elly-Heuss-Knapp-Schule | Berufskolleg der Stadt Düsseldorf wieder vor Ort ein Tag der offenen Tür statt.\nMit einem abwechslungsreichen Angebot an offenem Unterricht\, Ausstellungen und Mitmach-Aktionen stellen wir das Bildungsangebot in unseren Berufsfeldern vor: \n\nGesundheit\, Erziehung und Soziales\nErnährungs- und Versorgungsmanagement\nKörperpflege und Kosmetik\nTextil- und Bekleidungstechnik\nGestaltung\nAgrarwirtschaft\nAusbildungsvorbereitung
URL:https://www.kommunale-koordinierung.com/event/tag-der-offenen-tuer-am-elly-heuss-knapp-berufskolleg/
LOCATION:Elly-Heuss-Knapp-Berufskolleg\, Siegburger Straße 137-139\, Düsseldorf\, Deutschland
CATEGORIES:Berufliche Orientierung,Berufskolleg,Eltern & Teens
END:VEVENT
BEGIN:VEVENT
DTSTART;TZID=Europe/Berlin:20221119T110000
DTEND;TZID=Europe/Berlin:20221119T140000
DTSTAMP:20260423T155136
CREATED:20220928T105437Z
LAST-MODIFIED:20221216T080748Z
UID:40454-1668855600-1668866400@www.kommunale-koordinierung.com
SUMMARY:Tag der offenen Tür am Berufskolleg Kaiserswerther Diakonie
DESCRIPTION:Abitur\, Fachabitur oder eine Ausbildung im Sozial- und Gesundheitswesen – Jetzt schon die Zukunft sichern! \nWerden Sie Erzieher*in\, Kinderpfleger*in oder besuchen Sie die Fachoberschule oder das berufliche Gymnasium. Sichern Sie sich schon jetzt einen Ausbildungsplatz für das nächste Schuljahr. Bewerbungen können direkt am Tag der offenen Tür abgegeben werden!
URL:https://www.kommunale-koordinierung.com/event/tag-der-offenen-tuer-am-berufskolleg-kaiserswerther-diakonie/
LOCATION:Berufskolleg Kaiserswerther Diakonie\, Alte Landstraße 179e\, Düsseldorf\, 40489
CATEGORIES:Berufliche Orientierung,Berufskolleg,Eltern & Teens
END:VEVENT
END:VCALENDAR