BEGIN:VCALENDAR
VERSION:2.0
PRODID:-//Kommunale Koordinierung - ECPv6.15.20//NONSGML v1.0//EN
CALSCALE:GREGORIAN
METHOD:PUBLISH
X-WR-CALNAME:Kommunale Koordinierung
X-ORIGINAL-URL:https://www.kommunale-koordinierung.com
X-WR-CALDESC:Veranstaltungen für Kommunale Koordinierung
REFRESH-INTERVAL;VALUE=DURATION:PT1H
X-Robots-Tag:noindex
X-PUBLISHED-TTL:PT1H
BEGIN:VTIMEZONE
TZID:Europe/Berlin
BEGIN:DAYLIGHT
TZOFFSETFROM:+0100
TZOFFSETTO:+0200
TZNAME:CEST
DTSTART:20210328T010000
END:DAYLIGHT
BEGIN:STANDARD
TZOFFSETFROM:+0200
TZOFFSETTO:+0100
TZNAME:CET
DTSTART:20211031T010000
END:STANDARD
BEGIN:DAYLIGHT
TZOFFSETFROM:+0100
TZOFFSETTO:+0200
TZNAME:CEST
DTSTART:20220327T010000
END:DAYLIGHT
BEGIN:STANDARD
TZOFFSETFROM:+0200
TZOFFSETTO:+0100
TZNAME:CET
DTSTART:20221030T010000
END:STANDARD
BEGIN:DAYLIGHT
TZOFFSETFROM:+0100
TZOFFSETTO:+0200
TZNAME:CEST
DTSTART:20230326T010000
END:DAYLIGHT
BEGIN:STANDARD
TZOFFSETFROM:+0200
TZOFFSETTO:+0100
TZNAME:CET
DTSTART:20231029T010000
END:STANDARD
END:VTIMEZONE
BEGIN:VEVENT
DTSTART;TZID=Europe/Berlin:20221118T140000
DTEND;TZID=Europe/Berlin:20221118T170000
DTSTAMP:20260423T155205
CREATED:20221026T070134Z
LAST-MODIFIED:20221026T070134Z
UID:41037-1668780000-1668790800@www.kommunale-koordinierung.com
SUMMARY:Tag der offenen Tür am Berufskolleg Bachstraße
DESCRIPTION:Am Freitag\, den 18. November 2022 findet von 14 bis 17 Uhr der Informationstag des Wirtschaftsgymnasiums\, der Höheren Handelsschule und der Handelsschule am Berufskolleg Bachstraße statt. Wir laden alle Schülerinnen und Schüler sowie Eltern dazu ein\, sich über unsere vollzeitschulischen Weiterbildungsmöglichkeiten nach Klasse 10 zu informieren. Nutzen Sie die Chance einer individuellen Beratung! \nWeitere Informationen zum Tag der offenen Tür:\nhttps://www.bkb-duesseldorf.de/news/info-tag-am-berufskolleg-bachstrasse.html 
URL:https://www.kommunale-koordinierung.com/event/tag-der-offenen-tuer-am-berufskolleg-bachstrasse/
LOCATION:Berufskolleg Bachstraße\, Bachstraße 8\, Düsseldorf\, Deutschland
CATEGORIES:Berufliche Orientierung,Berufskolleg,Eltern & Teens
END:VEVENT
BEGIN:VEVENT
DTSTART;TZID=Europe/Berlin:20221118T150000
DTEND;TZID=Europe/Berlin:20221118T180000
DTSTAMP:20260423T155205
CREATED:20220928T101926Z
LAST-MODIFIED:20220928T101926Z
UID:40438-1668783600-1668794400@www.kommunale-koordinierung.com
SUMMARY:Informationsnachmittag am St.-Ursula-Berufskolleg
DESCRIPTION:Informationsnachmittag zu allen Bildungsgängen am St.-Ursula-Berufskolleg. \nWeitere Informationen gibt es unter:\nhttps://www.st-ursula-berufskolleg.de
URL:https://www.kommunale-koordinierung.com/event/informationsnachmittag-am-st-ursula-berufskolleg/
LOCATION:St.-Ursula-Berufskolleg\, Eiskellerstr. 11\, Düsseldorf\, 40213
CATEGORIES:Berufliche Orientierung,Berufskolleg,Eltern & Teens
END:VEVENT
END:VCALENDAR