BEGIN:VCALENDAR
VERSION:2.0
PRODID:-//Kommunale Koordinierung - ECPv6.15.20//NONSGML v1.0//EN
CALSCALE:GREGORIAN
METHOD:PUBLISH
X-WR-CALNAME:Kommunale Koordinierung
X-ORIGINAL-URL:https://www.kommunale-koordinierung.com
X-WR-CALDESC:Veranstaltungen für Kommunale Koordinierung
REFRESH-INTERVAL;VALUE=DURATION:PT1H
X-Robots-Tag:noindex
X-PUBLISHED-TTL:PT1H
BEGIN:VTIMEZONE
TZID:Europe/Berlin
BEGIN:DAYLIGHT
TZOFFSETFROM:+0100
TZOFFSETTO:+0200
TZNAME:CEST
DTSTART:20210328T010000
END:DAYLIGHT
BEGIN:STANDARD
TZOFFSETFROM:+0200
TZOFFSETTO:+0100
TZNAME:CET
DTSTART:20211031T010000
END:STANDARD
BEGIN:DAYLIGHT
TZOFFSETFROM:+0100
TZOFFSETTO:+0200
TZNAME:CEST
DTSTART:20220327T010000
END:DAYLIGHT
BEGIN:STANDARD
TZOFFSETFROM:+0200
TZOFFSETTO:+0100
TZNAME:CET
DTSTART:20221030T010000
END:STANDARD
BEGIN:DAYLIGHT
TZOFFSETFROM:+0100
TZOFFSETTO:+0200
TZNAME:CEST
DTSTART:20230326T010000
END:DAYLIGHT
BEGIN:STANDARD
TZOFFSETFROM:+0200
TZOFFSETTO:+0100
TZNAME:CET
DTSTART:20231029T010000
END:STANDARD
END:VTIMEZONE
BEGIN:VEVENT
DTSTART;VALUE=DATE:20221114
DTEND;VALUE=DATE:20221117
DTSTAMP:20260423T155134
CREATED:20221031T075001Z
LAST-MODIFIED:20221107T105113Z
UID:41138-1668384000-1668643199@www.kommunale-koordinierung.com
SUMMARY:Azubi- und Schülerforum 2022: Initiative "Europa - Erleben und Lernen"
DESCRIPTION:Vom 14. bis zum 16. November 2022 laden das Europäische Jugendparlament in Deutschland e.V. (EJP) gemeinsam mit der Handwerkskammer Düsseldorf und der Staatskanzlei NRW zum Azubi- und Schülerforum im Rahmen der Landesinitiative „Europa – Erleben und Lernen“ nach Düsseldorf ein. \nAuszubildende aller Ausbildungsberufe und Schüler*innen der 10. – 13. Klasse aus Düsseldorf und Umgebung sind herzlich eingeladen\, sich drei Tage lang intensiv mit topaktuellen europapolitischen Themen auseinanderzusetzen und eigene Ideen für ein besseres Europa gemeinsam mit Gleichaltrigen zu erarbeiten. \n„Europa – Erleben und Lernen“ ist eine gemeinsame Initiative des Landes NRW und des EJP. Unter Beteiligung und Unterstützung mehrerer Industrie- und Handelskammern\, Handwerkskammern\, weiteren Vereinen\, Verbänden und Organisationen\, sowie gesellschaftlich engagierter Unternehmen aus NRW\, fördert diese die Auslandsmobilität von Auszubildenden und macht die Europäische Union für sie erleb- und erfahrbar. Gleichzeit soll durch die Initiative ein Austausch zwischen Schüler*innen und Auszubildenden ermöglicht werden. Ziel des Austausches ist es\, Schüler*innen aufzuzeigen\, dass auch eine Ausbildung gute Möglichkeiten zur interdisziplinären Weiterbildung und Auslandsmobilität bietet. \nAblauf für Teilnehmende:\n– 14. November: Kennenlernen des Teams\, Teambuilding und Ausschussarbeit\n– 15. November: Ausschussarbeit\n– 16. November: Parlamentarische Vollversammlung \nAls Geschäftsführung / Personalreferent*in / Ausbildungsleiter*in / Schulleiter*in oder Lehrkraft sind Sie am 16. November 2022 ganz herzlich eingeladen\, der ersten Debatte der Parlamentarischen Vollversammlung beizuwohnen und an den Ideen und Forderungen der jungen Auszubildenden für ein besseres Europa teilzuhaben. \nAnmeldung bis zum 04.11.2022 unter: info@eyp.de\, Tel.: +49 (0) 30 629 383 28. \nWeitere Informationen:\nhttps://eyp.de/de
URL:https://www.kommunale-koordinierung.com/event/azubi-und-schuelerforum-2022-initiative-europa-erleben-und-lernen/
LOCATION:Handwerkskammer Düsseldorf\, Georg-Schulhoff-Platz 1\, Düsseldorf\, 40221\, Deutschland
CATEGORIES:Berufliche Orientierung,Eltern & Teens,Schulen
END:VEVENT
BEGIN:VEVENT
DTSTART;TZID=Europe/Berlin:20221116T100000
DTEND;TZID=Europe/Berlin:20221116T150000
DTSTAMP:20260423T155134
CREATED:20220708T110422Z
LAST-MODIFIED:20221125T083223Z
UID:36289-1668592800-1668610800@www.kommunale-koordinierung.com
SUMMARY:Sprechstunde der HWK zur Ausbildungsvermittlung 16.11.
DESCRIPTION:Die HWK unterstützt sowohl Betriebe bei der Suche nach geeigneten Azubis als auch Schüler*innen bei der Berufswahl und Ausbildungssuche. Das Beratungsangebot ist kostenlos. \nAnmeldung hier oder telefonisch/per Mail bei\nThomas Pohl\, 0211 8795-603\, thomas.pohl@hwk-duesseldorf.de
URL:https://www.kommunale-koordinierung.com/event/sprechstunde-der-hwk-zur-ausbildungsvermittlung-16-11/
CATEGORIES:Berufliche Orientierung,Eltern & Teens,Unternehmen
END:VEVENT
BEGIN:VEVENT
DTSTART;TZID=Europe/Berlin:20221116T180000
DTEND;TZID=Europe/Berlin:20221116T220000
DTSTAMP:20260423T155134
CREATED:20221026T071139Z
LAST-MODIFIED:20221026T071319Z
UID:41044-1668621600-1668636000@www.kommunale-koordinierung.com
SUMMARY:Informationsabend an der Präha-Weber-Schule
DESCRIPTION:Weitere Informationen zum Ablauf und den vorgestellten Bildungsgängen gibt es unter:\nhttps://praeha.de/veranstaltungen/info-abend-duesseldorf
URL:https://www.kommunale-koordinierung.com/event/informationsabend-an-der-praeha-weber-schule/
LOCATION:Präha-Weber-Schule\, Emanuel-Leutze-Str. 8\, Lörick
CATEGORIES:Berufliche Orientierung,Berufskolleg,Eltern & Teens
END:VEVENT
END:VCALENDAR