BEGIN:VCALENDAR
VERSION:2.0
PRODID:-//Kommunale Koordinierung - ECPv6.15.20//NONSGML v1.0//EN
CALSCALE:GREGORIAN
METHOD:PUBLISH
X-WR-CALNAME:Kommunale Koordinierung
X-ORIGINAL-URL:https://www.kommunale-koordinierung.com
X-WR-CALDESC:Veranstaltungen für Kommunale Koordinierung
REFRESH-INTERVAL;VALUE=DURATION:PT1H
X-Robots-Tag:noindex
X-PUBLISHED-TTL:PT1H
BEGIN:VTIMEZONE
TZID:Europe/Berlin
BEGIN:DAYLIGHT
TZOFFSETFROM:+0100
TZOFFSETTO:+0200
TZNAME:CEST
DTSTART:20210328T010000
END:DAYLIGHT
BEGIN:STANDARD
TZOFFSETFROM:+0200
TZOFFSETTO:+0100
TZNAME:CET
DTSTART:20211031T010000
END:STANDARD
BEGIN:DAYLIGHT
TZOFFSETFROM:+0100
TZOFFSETTO:+0200
TZNAME:CEST
DTSTART:20220327T010000
END:DAYLIGHT
BEGIN:STANDARD
TZOFFSETFROM:+0200
TZOFFSETTO:+0100
TZNAME:CET
DTSTART:20221030T010000
END:STANDARD
BEGIN:DAYLIGHT
TZOFFSETFROM:+0100
TZOFFSETTO:+0200
TZNAME:CEST
DTSTART:20230326T010000
END:DAYLIGHT
BEGIN:STANDARD
TZOFFSETFROM:+0200
TZOFFSETTO:+0100
TZNAME:CET
DTSTART:20231029T010000
END:STANDARD
END:VTIMEZONE
BEGIN:VEVENT
DTSTART;VALUE=DATE:20221112
DTEND;VALUE=DATE:20221113
DTSTAMP:20260423T155203
CREATED:20221018T105036Z
LAST-MODIFIED:20221018T105036Z
UID:40895-1668211200-1668297599@www.kommunale-koordinierung.com
SUMMARY:Interessiert am Design-Studium an der HSD?
DESCRIPTION:Zwischen Oktober 2022 und Januar 2023 bietet die Fachschaft Design wieder sogenannte Mappenberatung an. Diese Beratung kann als Vorbereitung auf die Eignungsprüfung genutzt werden. Teilnahme ist nicht verpflichtend\, aber sinnvoll und empfehlenswert! Die Termine sind 29.10.\, 12.11.\, 26.11.\, 10.12.\, 17.12. und 21.01. Anmeldung wird demnächst unter fachschaftdesign.de/mappenberatung/ möglich sein.
URL:https://www.kommunale-koordinierung.com/event/interessiert-am-design-studium-an-der-hsd-2/
CATEGORIES:Berufliche Orientierung,Kommunale Koordinierungsstellen,Lehrkräfte,Schulen,StuBos,Studienorientierung
END:VEVENT
END:VCALENDAR