BEGIN:VCALENDAR
VERSION:2.0
PRODID:-//Kommunale Koordinierung - ECPv6.15.20//NONSGML v1.0//EN
CALSCALE:GREGORIAN
METHOD:PUBLISH
X-WR-CALNAME:Kommunale Koordinierung
X-ORIGINAL-URL:https://www.kommunale-koordinierung.com
X-WR-CALDESC:Veranstaltungen für Kommunale Koordinierung
REFRESH-INTERVAL;VALUE=DURATION:PT1H
X-Robots-Tag:noindex
X-PUBLISHED-TTL:PT1H
BEGIN:VTIMEZONE
TZID:Europe/Berlin
BEGIN:DAYLIGHT
TZOFFSETFROM:+0100
TZOFFSETTO:+0200
TZNAME:CEST
DTSTART:20210328T010000
END:DAYLIGHT
BEGIN:STANDARD
TZOFFSETFROM:+0200
TZOFFSETTO:+0100
TZNAME:CET
DTSTART:20211031T010000
END:STANDARD
BEGIN:DAYLIGHT
TZOFFSETFROM:+0100
TZOFFSETTO:+0200
TZNAME:CEST
DTSTART:20220327T010000
END:DAYLIGHT
BEGIN:STANDARD
TZOFFSETFROM:+0200
TZOFFSETTO:+0100
TZNAME:CET
DTSTART:20221030T010000
END:STANDARD
BEGIN:DAYLIGHT
TZOFFSETFROM:+0100
TZOFFSETTO:+0200
TZNAME:CEST
DTSTART:20230326T010000
END:DAYLIGHT
BEGIN:STANDARD
TZOFFSETFROM:+0200
TZOFFSETTO:+0100
TZNAME:CET
DTSTART:20231029T010000
END:STANDARD
END:VTIMEZONE
BEGIN:VEVENT
DTSTART;TZID=Europe/Berlin:20220928T130000
DTEND;TZID=Europe/Berlin:20220928T170000
DTSTAMP:20260423T171929
CREATED:20220704T140117Z
LAST-MODIFIED:20220704T140200Z
UID:36120-1664370000-1664384400@www.kommunale-koordinierung.com
SUMMARY:digitale Fachmesse für Ausbildung+Studium vocatium Videochat West 2022
DESCRIPTION:Neben der vocatium Präsenz-Messe gibt es im Herbst 2022 auch überregionale digitale Videochat-Messen. Im Unterschied zu den Präsenz-Messen finden die terminierten Gespräche online per Videochat statt. \nDas Konzept: analoge Ansprache + digitale Gespräche \n\nPassgenaue und terminierte Gespräche per Videochat zwischen Schüler*innen und Ausstellern sowie (zusätzlich) spontane Gespräche\n\nDie Videochat-Messen sind besonders geeignet für: \n\nOberstufenschüler*innen und angehende Abiturient*innen\nSchüler*innen\, die ca. ein Dreivierteljahr vor ihrem Schulabschluss stehen\njunge Menschen\, die eine Ausbildung oder ein Studium fernab des Heimatortes in Erwägung ziehen\nJugendliche\, die digitale Informations- und Vorstellungsgespräche üben wollen\nengagierte Schüler*innen\, die ortsungebundene Beratung als Chance sehen\njunge Personen\, die sich zum Zeitpunkt der Messe im Ausland befinden (z.B. als Au Pair\, Backpacker\, Sprachreisende\, Volunteer) und ihre berufliche Zukunft nach der Rückkehr planen möchten\nAussteller\, die überregional Nachwuchskräfte rekrutieren bzw. Studierende suchen\n\nWeitere Informationen:\nhttps://www.vocatium.de/online
URL:https://www.kommunale-koordinierung.com/event/digitale-fachmesse-fuer-ausbildungstudium-vocatium-videochat-west-2022-2/
LOCATION:Online
CATEGORIES:Berufliche Orientierung,Eltern & Teens,Studienorientierung
END:VEVENT
BEGIN:VEVENT
DTSTART;TZID=Europe/Berlin:20220928T150000
DTEND;TZID=Europe/Berlin:20220928T200000
DTSTAMP:20260423T171929
CREATED:20220804T102901Z
LAST-MODIFIED:20220804T102901Z
UID:37024-1664377200-1664395200@www.kommunale-koordinierung.com
SUMMARY:Pop-Up-Store in den Düsseldorfer Arcaden: Studienzweifel - was nun?
DESCRIPTION:Das Studium durchziehen oder besser aussteigen? Was gibt`s für Alternativen? Eine Ausbildung in Industrie\, Handwerk oder Handel? Lass dich beraten und finde Deinen Weg! Keine Anmeldung notwendig – komm einfach zu uns in den Pop-Up-Store.\nBeratungsinstitutionen: Agentur für Arbeit Düsseldorf\, Handwerkskammer Düsseldorf\, Heinrich-Heine-Universität Düsseldorf\, Industrie- und Handelskammer zu Düsseldorf
URL:https://www.kommunale-koordinierung.com/event/pop-up-store-in-den-duesseldorfer-arcaden-studienzweifel-was-nun/
LOCATION:Düsseldorfer Arcaden\, Friedrichstraße 133\, Düsseldorf\, 40217
CATEGORIES:Berufliche Orientierung,Eltern & Teens,Lehrkräfte,Messe,Schulen,StuBos,Studienorientierung
END:VEVENT
BEGIN:VEVENT
DTSTART;TZID=Europe/Berlin:20220928T160000
DTEND;TZID=Europe/Berlin:20220928T170000
DTSTAMP:20260423T171929
CREATED:20220819T111802Z
LAST-MODIFIED:20220819T111802Z
UID:37543-1664380800-1664384400@www.kommunale-koordinierung.com
SUMMARY:Online-Infoveranstaltung der Berufsberatung: Einstiegsqualifizierung – Was ist das?
DESCRIPTION:Ein Einstieg vor dem Einstieg? Du lernst Deinen Wunschberuf hautnah kennen und verdienst sogar etwas dabei. Die Berufsberatung der Agentur für Arbeit in Kooperation mit der IHK Düsseldorf stellen Euch die Möglichkeiten der Einstiegsqualifizierung vor. Stelle gerne Deine Fragen während der Veranstaltung über den Livechat. \nWeitere Informationen unter: https://www.arbeitsagentur.de/vor-ort/duesseldorf/berufsberatung \n 
URL:https://www.kommunale-koordinierung.com/event/online-infoveranstaltung-der-berufsberatung-einstiegsqualifizierung-was-ist-das/
LOCATION:Online
CATEGORIES:Berufliche Orientierung
END:VEVENT
END:VCALENDAR