BEGIN:VCALENDAR
VERSION:2.0
PRODID:-//Kommunale Koordinierung - ECPv6.15.20//NONSGML v1.0//EN
CALSCALE:GREGORIAN
METHOD:PUBLISH
X-WR-CALNAME:Kommunale Koordinierung
X-ORIGINAL-URL:https://www.kommunale-koordinierung.com
X-WR-CALDESC:Veranstaltungen für Kommunale Koordinierung
REFRESH-INTERVAL;VALUE=DURATION:PT1H
X-Robots-Tag:noindex
X-PUBLISHED-TTL:PT1H
BEGIN:VTIMEZONE
TZID:Europe/Berlin
BEGIN:DAYLIGHT
TZOFFSETFROM:+0100
TZOFFSETTO:+0200
TZNAME:CEST
DTSTART:20210328T010000
END:DAYLIGHT
BEGIN:STANDARD
TZOFFSETFROM:+0200
TZOFFSETTO:+0100
TZNAME:CET
DTSTART:20211031T010000
END:STANDARD
BEGIN:DAYLIGHT
TZOFFSETFROM:+0100
TZOFFSETTO:+0200
TZNAME:CEST
DTSTART:20220327T010000
END:DAYLIGHT
BEGIN:STANDARD
TZOFFSETFROM:+0200
TZOFFSETTO:+0100
TZNAME:CET
DTSTART:20221030T010000
END:STANDARD
BEGIN:DAYLIGHT
TZOFFSETFROM:+0100
TZOFFSETTO:+0200
TZNAME:CEST
DTSTART:20230326T010000
END:DAYLIGHT
BEGIN:STANDARD
TZOFFSETFROM:+0200
TZOFFSETTO:+0100
TZNAME:CET
DTSTART:20231029T010000
END:STANDARD
END:VTIMEZONE
BEGIN:VEVENT
DTSTART;TZID=Europe/Berlin:20220927T130000
DTEND;TZID=Europe/Berlin:20220927T170000
DTSTAMP:20260423T184551
CREATED:20220704T140039Z
LAST-MODIFIED:20220704T140137Z
UID:36118-1664283600-1664298000@www.kommunale-koordinierung.com
SUMMARY:digitale Fachmesse für Ausbildung+Studium vocatium Videochat West 2022
DESCRIPTION:Neben der vocatium Präsenz-Messe gibt es im Herbst 2022 auch überregionale digitale Videochat-Messen. Im Unterschied zu den Präsenz-Messen finden die terminierten Gespräche online per Videochat statt. \nDas Konzept: analoge Ansprache + digitale Gespräche \n\nPassgenaue und terminierte Gespräche per Videochat zwischen Schüler*innen und Ausstellern sowie (zusätzlich) spontane Gespräche\n\nDie Videochat-Messen sind besonders geeignet für: \n\nOberstufenschüler*innen und angehende Abiturient*innen\nSchüler*innen\, die ca. ein Dreivierteljahr vor ihrem Schulabschluss stehen\njunge Menschen\, die eine Ausbildung oder ein Studium fernab des Heimatortes in Erwägung ziehen\nJugendliche\, die digitale Informations- und Vorstellungsgespräche üben wollen\nengagierte Schüler*innen\, die ortsungebundene Beratung als Chance sehen\njunge Personen\, die sich zum Zeitpunkt der Messe im Ausland befinden (z.B. als Au Pair\, Backpacker\, Sprachreisende\, Volunteer) und ihre berufliche Zukunft nach der Rückkehr planen möchten\nAussteller\, die überregional Nachwuchskräfte rekrutieren bzw. Studierende suchen\n\nWeitere Informationen:\nhttps://www.vocatium.de/online
URL:https://www.kommunale-koordinierung.com/event/digitale-fachmesse-fuer-ausbildungstudium-vocatium-videochat-west-2022/
LOCATION:Online
CATEGORIES:Berufliche Orientierung,Eltern & Teens,Studienorientierung
END:VEVENT
BEGIN:VEVENT
DTSTART;TZID=Europe/Berlin:20220927T130000
DTEND;TZID=Europe/Berlin:20220927T170000
DTSTAMP:20260423T184551
CREATED:20220804T102147Z
LAST-MODIFIED:20220804T102147Z
UID:37021-1664283600-1664298000@www.kommunale-koordinierung.com
SUMMARY:Pop-Up-Store in den Düsseldorfer Arcaden: Tag der Ausbildungsbotschafter
DESCRIPTION:Heute wird`s bunt! Unsere Ausbildungsbotschafter geben dir live Einblicke in ihre Berufe – hier darfst du alles fragen! Komm vorbei\, und lerne in kurze Zeit viele verschiedene Berufe und Unternehmen kennen.
URL:https://www.kommunale-koordinierung.com/event/pop-up-store-in-den-duesseldorfer-arcaden-tag-der-ausbildungsbotschafter-2/
LOCATION:Düsseldorfer Arcaden\, Friedrichstraße 133\, Düsseldorf\, 40217
CATEGORIES:Berufliche Orientierung,Eltern & Teens,Lehrkräfte,Messe,Schulen,StuBos
END:VEVENT
END:VCALENDAR