BEGIN:VCALENDAR
VERSION:2.0
PRODID:-//Kommunale Koordinierung - ECPv6.15.20//NONSGML v1.0//EN
CALSCALE:GREGORIAN
METHOD:PUBLISH
X-WR-CALNAME:Kommunale Koordinierung
X-ORIGINAL-URL:https://www.kommunale-koordinierung.com
X-WR-CALDESC:Veranstaltungen für Kommunale Koordinierung
REFRESH-INTERVAL;VALUE=DURATION:PT1H
X-Robots-Tag:noindex
X-PUBLISHED-TTL:PT1H
BEGIN:VTIMEZONE
TZID:Europe/Berlin
BEGIN:DAYLIGHT
TZOFFSETFROM:+0100
TZOFFSETTO:+0200
TZNAME:CEST
DTSTART:20210328T010000
END:DAYLIGHT
BEGIN:STANDARD
TZOFFSETFROM:+0200
TZOFFSETTO:+0100
TZNAME:CET
DTSTART:20211031T010000
END:STANDARD
BEGIN:DAYLIGHT
TZOFFSETFROM:+0100
TZOFFSETTO:+0200
TZNAME:CEST
DTSTART:20220327T010000
END:DAYLIGHT
BEGIN:STANDARD
TZOFFSETFROM:+0200
TZOFFSETTO:+0100
TZNAME:CET
DTSTART:20221030T010000
END:STANDARD
BEGIN:DAYLIGHT
TZOFFSETFROM:+0100
TZOFFSETTO:+0200
TZNAME:CEST
DTSTART:20230326T010000
END:DAYLIGHT
BEGIN:STANDARD
TZOFFSETFROM:+0200
TZOFFSETTO:+0100
TZNAME:CET
DTSTART:20231029T010000
END:STANDARD
END:VTIMEZONE
BEGIN:VEVENT
DTSTART;TZID=Europe/Berlin:20220924T100000
DTEND;TZID=Europe/Berlin:20220924T160000
DTSTAMP:20260423T184452
CREATED:20220804T101553Z
LAST-MODIFIED:20220804T101553Z
UID:37006-1664013600-1664035200@www.kommunale-koordinierung.com
SUMMARY:Pop-Up-Store in den Düsseldorfer Arcaden: Berufsparcours / Talentefinder mit dem Technikzentrum Minden-Lübbecke
DESCRIPTION:Jetzt wird`s aktiv! Teste im Berufsparcours deine Interessen\, Fähigkeiten und Begabungen in unterschiedlichen Berufen.
URL:https://www.kommunale-koordinierung.com/event/pop-up-store-in-den-duesseldorfer-arcaden-berufsparcours-talentefinder-mit-dem-technikzentrum-minden-luebbecke-4/
LOCATION:Düsseldorfer Arcaden\, Friedrichstraße 133\, Düsseldorf\, 40217
CATEGORIES:Berufliche Orientierung,Eltern & Teens,Lehrkräfte,Schulen,StuBos
END:VEVENT
END:VCALENDAR