BEGIN:VCALENDAR
VERSION:2.0
PRODID:-//Kommunale Koordinierung - ECPv6.15.20//NONSGML v1.0//EN
CALSCALE:GREGORIAN
METHOD:PUBLISH
X-WR-CALNAME:Kommunale Koordinierung
X-ORIGINAL-URL:https://www.kommunale-koordinierung.com
X-WR-CALDESC:Veranstaltungen für Kommunale Koordinierung
REFRESH-INTERVAL;VALUE=DURATION:PT1H
X-Robots-Tag:noindex
X-PUBLISHED-TTL:PT1H
BEGIN:VTIMEZONE
TZID:Europe/Berlin
BEGIN:DAYLIGHT
TZOFFSETFROM:+0100
TZOFFSETTO:+0200
TZNAME:CEST
DTSTART:20210328T010000
END:DAYLIGHT
BEGIN:STANDARD
TZOFFSETFROM:+0200
TZOFFSETTO:+0100
TZNAME:CET
DTSTART:20211031T010000
END:STANDARD
BEGIN:DAYLIGHT
TZOFFSETFROM:+0100
TZOFFSETTO:+0200
TZNAME:CEST
DTSTART:20220327T010000
END:DAYLIGHT
BEGIN:STANDARD
TZOFFSETFROM:+0200
TZOFFSETTO:+0100
TZNAME:CET
DTSTART:20221030T010000
END:STANDARD
BEGIN:DAYLIGHT
TZOFFSETFROM:+0100
TZOFFSETTO:+0200
TZNAME:CEST
DTSTART:20230326T010000
END:DAYLIGHT
BEGIN:STANDARD
TZOFFSETFROM:+0200
TZOFFSETTO:+0100
TZNAME:CET
DTSTART:20231029T010000
END:STANDARD
END:VTIMEZONE
BEGIN:VEVENT
DTSTART;TZID=Europe/Berlin:20220922T150000
DTEND;TZID=Europe/Berlin:20220922T163000
DTSTAMP:20260423T184549
CREATED:20220804T100432Z
LAST-MODIFIED:20220804T100526Z
UID:36995-1663858800-1663864200@www.kommunale-koordinierung.com
SUMMARY:Pop-Up-Store in den Düsseldorfer Arcaden: Infoveranstaltung zur vocatium Düsseldorf 2023
DESCRIPTION:Das Institut für Talententwicklung\, Veranstalter der vocatium-Messen lädt zur Info- und Auftaktveranstaltung in die Düsseldorfer Arcaden ein. Gemeinsam mit der Handwerkskammer Düsseldorf geben sie einen Einblick in das Erfolgsmodell vocatium und informieren über Trends am Düsseldorfer Ausbildungsmarkt\, sowie das Duale/Triale Studium als Karriereturbo.\nAnmeldung bis zum 15. September 2022 bei Christian Würz per E-Mail unter c.wuerz@if-talent.de oder per Telefon unter +49 211 96665580 anmelden.
URL:https://www.kommunale-koordinierung.com/event/pop-up-store-in-den-duesseldorfer-arcaden-infoveranstaltung-zur-vocatium-duesseldorf-2023/
LOCATION:Düsseldorfer Arcaden\, Friedrichstraße 133\, Düsseldorf\, 40217
CATEGORIES:Berufliche Orientierung,Eltern & Teens,Lehrkräfte,Messe,Mit Anmeldung,StuBos
END:VEVENT
BEGIN:VEVENT
DTSTART;TZID=Europe/Berlin:20220922T153000
DTEND;TZID=Europe/Berlin:20220922T183000
DTSTAMP:20260423T184549
CREATED:20220804T100701Z
LAST-MODIFIED:20220804T100705Z
UID:37000-1663860600-1663871400@www.kommunale-koordinierung.com
SUMMARY:Pop-Up-Store in den Düsseldorfer Arcaden: Berufsberatung im Erwerbsleben
DESCRIPTION:Du möchtest dich beruflich umorientieren oder hast Fragen zu deiner bestehenden Beschäftigung\, zum beruflichen Wiedereinstieg\, zu Fördermöglichkeiten\, Qualifizierungen oder rund um die Entwicklungen am Arbeitsmarkt? Lass dich beraten!\nKeine Anmeldung notwendig – komm einfach im Pop-Up-Store vorbei.\nBeratungsinstitutionen: Agentur für Arbeit Düsseldorf
URL:https://www.kommunale-koordinierung.com/event/pop-up-store-in-den-duesseldorfer-arcaden-berufsberatung-im-erwerbsleben-7/
LOCATION:Düsseldorfer Arcaden\, Friedrichstraße 133\, Düsseldorf\, 40217
CATEGORIES:Berufliche Orientierung,Eltern & Teens,Lehrkräfte,Messe,Schulen,StuBos
END:VEVENT
END:VCALENDAR