BEGIN:VCALENDAR
VERSION:2.0
PRODID:-//Kommunale Koordinierung - ECPv6.15.20//NONSGML v1.0//EN
CALSCALE:GREGORIAN
METHOD:PUBLISH
X-WR-CALNAME:Kommunale Koordinierung
X-ORIGINAL-URL:https://www.kommunale-koordinierung.com
X-WR-CALDESC:Veranstaltungen für Kommunale Koordinierung
REFRESH-INTERVAL;VALUE=DURATION:PT1H
X-Robots-Tag:noindex
X-PUBLISHED-TTL:PT1H
BEGIN:VTIMEZONE
TZID:Europe/Berlin
BEGIN:DAYLIGHT
TZOFFSETFROM:+0100
TZOFFSETTO:+0200
TZNAME:CEST
DTSTART:20210328T010000
END:DAYLIGHT
BEGIN:STANDARD
TZOFFSETFROM:+0200
TZOFFSETTO:+0100
TZNAME:CET
DTSTART:20211031T010000
END:STANDARD
BEGIN:DAYLIGHT
TZOFFSETFROM:+0100
TZOFFSETTO:+0200
TZNAME:CEST
DTSTART:20220327T010000
END:DAYLIGHT
BEGIN:STANDARD
TZOFFSETFROM:+0200
TZOFFSETTO:+0100
TZNAME:CET
DTSTART:20221030T010000
END:STANDARD
BEGIN:DAYLIGHT
TZOFFSETFROM:+0100
TZOFFSETTO:+0200
TZNAME:CEST
DTSTART:20230326T010000
END:DAYLIGHT
BEGIN:STANDARD
TZOFFSETFROM:+0200
TZOFFSETTO:+0100
TZNAME:CET
DTSTART:20231029T010000
END:STANDARD
END:VTIMEZONE
BEGIN:VEVENT
DTSTART;TZID=Europe/Berlin:20220920T140000
DTEND;TZID=Europe/Berlin:20220920T160000
DTSTAMP:20260423T184456
CREATED:20220829T133557Z
LAST-MODIFIED:20221201T064811Z
UID:37773-1663682400-1663689600@www.kommunale-koordinierung.com
SUMMARY:Informationsveranstaltung zur neuen Berufswahl-SIEGEL Bewerbung
DESCRIPTION:In der Online-Veranstaltung gibt Prof. Dr. Bührmann (MSH Hamburg) einen Überblick über den neuen Kriterienkatalog und die Anforderungen\, die zur Erlangung des Berufswahl-SIEGELs notwendig sind. \nAlle Schulen sind herzlich dazu eingeladen.
URL:https://www.kommunale-koordinierung.com/event/informationsveranstaltung-zur-neuen-berufswahl-siegel-bewerbung/
LOCATION:Online
CATEGORIES:Berufliche Orientierung,Lehrkräfte,Schulen,StuBos,Unternehmen
END:VEVENT
BEGIN:VEVENT
DTSTART;TZID=Europe/Berlin:20220920T150000
DTEND;TZID=Europe/Berlin:20220920T200000
DTSTAMP:20260423T184456
CREATED:20220804T100223Z
LAST-MODIFIED:20220804T100223Z
UID:36992-1663686000-1663704000@www.kommunale-koordinierung.com
SUMMARY:Pop-Up-Store in den Düsseldorfer Arcaden: It's a match! Sprechstunde der Ausbildungsvermittlung
DESCRIPTION:Achtung – heiße Ausbildungsplätze! Egal\, ob du noch in diesem oder erst im nächsten Jahr in die Ausbildung einsteigen möchtest – hier findest du Praktikums- und Ausbildungsstellen.\nUnser Angebot:\n– Wir überlegen gemeinsam mit dir\, welcher Beruf am besten zu dir passt.\n– Wir geben dir Tipps zu deinen BEwerbungsunterlagen.\n– Wir stellen Kontakt zu passenden Ausbildungsbetrieben her.\nKeine Anmeldung notwendig – komm einfach im Pop-Up-Store vorbei.\nBeratungsinstitutionen: Agentur für Arbeit Düsseldorf\, Handwerkskammer Düsseldorf\, Industrie- und Handelskammer zu Düsseldorf
URL:https://www.kommunale-koordinierung.com/event/pop-up-store-in-den-duesseldorfer-arcaden-its-a-match-sprechstunde-der-ausbildungsvermittlung-6/
LOCATION:Düsseldorfer Arcaden\, Friedrichstraße 133\, Düsseldorf\, 40217
CATEGORIES:Berufliche Orientierung,Eltern & Teens,Kommunale Koordinierungsstellen,Lehrkräfte,Messe,Schulen,StuBos
END:VEVENT
END:VCALENDAR